BEGIN:VCALENDAR
VERSION:2.0
PRODID:-//BRAVA Magazine - ECPv6.15.20//NONSGML v1.0//EN
CALSCALE:GREGORIAN
METHOD:PUBLISH
X-ORIGINAL-URL:https://bravamagazine.com
X-WR-CALDESC:Events for BRAVA Magazine
REFRESH-INTERVAL;VALUE=DURATION:PT1H
X-Robots-Tag:noindex
X-PUBLISHED-TTL:PT1H
BEGIN:VTIMEZONE
TZID:UTC
BEGIN:STANDARD
TZOFFSETFROM:+0000
TZOFFSETTO:+0000
TZNAME:UTC
DTSTART:20240101T000000
END:STANDARD
END:VTIMEZONE
BEGIN:VEVENT
DTSTART;TZID=UTC:20251025T090000
DTEND;TZID=UTC:20251025T120000
DTSTAMP:20260420T070948
CREATED:20251008T180012Z
LAST-MODIFIED:20251008T180012Z
UID:96194-1761382800-1761393600@bravamagazine.com
SUMMARY:Gather + Grow: Madison Women’s Network
DESCRIPTION:A Space to Connect + Grow\nGather & Grow: Madison Women’s Network is your new favorite connection circle—designed for women who crave meaningful conversation\, community\, and support as they navigate both their professional and personal lives. Whether you’re a seasoned entrepreneur\, a creative spirit\, a healer\, or a working professional\, this is a space to connect\, reflect\, and grow alongside other inspiring women. \nGrab your favorite coffee\, join us downtown\, and experience the magic that happens when women gather intentionally. \nWhen: Last Friday every month at 9:00 AM\nWhere: Ether Wellness | 25 N Pinckney St. Ste 310\, Madison\, WI\nCost: Free to attend—RSVP encouraged\, walk-ins welcome \nGathered with love\, fueled by community. Your donations help keep the good vibes brewing—Thank you!
URL:https://bravamagazine.com/event/gather-grow-madison-womens-network-5/
LOCATION:Ether Wellness\, 25 N Pinckney St. Ste 310\, Madison\, WI\, 53703\, United States
CATEGORIES:Business & Networking Events,Community Event
ATTACH;FMTTYPE=image/jpeg:https://bravamagazine.com/wp-content/uploads/2025/10/Screenshot-2025-10-07-at-4.42.29-PM.jpg
END:VEVENT
BEGIN:VEVENT
DTSTART;TZID=UTC:20251026T140000
DTEND;TZID=UTC:20251026T170000
DTSTAMP:20260420T070948
CREATED:20251008T175901Z
LAST-MODIFIED:20251008T175901Z
UID:96186-1761487200-1761498000@bravamagazine.com
SUMMARY:Empowered Change
DESCRIPTION:Join us for expert insights\, real-life tools\, and empowering support. \nMenopause is a time of deep change—physically\, emotionally\, and hormonally. But it’s also a time of incredible opportunity. \nEmpowered Change is a 3-hour immersive workshop for women who are ready to stop guessing and start understanding. You’ll hear from a team of experienced women’s health professionals who specialize in midlife well-being—sharing insights\, strategies\, and support to help you move through this transition with more ease and confidence. \nLed by Jamie Pekarek Krohn (Senior Psychotherapist from Clear Path Counseling & Wellness)\, Simone Glinberg\, MD (Board-Certified Endocrinologist from Simone Glinberg\, MD)\, and Kari Mysker\, Certified Women’s Health & Fitness Coach from Ether Wellness—this event blends education with mind-body practices\, community connection\, and space to ask the questions you’ve been holding onto. \nWhether you’re in the early signs of perimenopause or navigating post-menopause\, this experience will help you tune into your body\, regulate your nervous system\, support your hormones\, and reclaim your energy.
URL:https://bravamagazine.com/event/empowered-change/
LOCATION:Ether Wellness\, 25 N Pinckney St. Ste 310\, Madison\, WI\, 53703\, United States
CATEGORIES:Community Event
ATTACH;FMTTYPE=image/jpeg:https://bravamagazine.com/wp-content/uploads/2025/10/Screenshot-2025-10-07-at-4.37.44-PM.jpg
END:VEVENT
END:VCALENDAR