BEGIN:VCALENDAR
VERSION:2.0
PRODID:-//BRAVA Magazine - ECPv6.15.20//NONSGML v1.0//EN
CALSCALE:GREGORIAN
METHOD:PUBLISH
X-ORIGINAL-URL:https://bravamagazine.com
X-WR-CALDESC:Events for BRAVA Magazine
REFRESH-INTERVAL;VALUE=DURATION:PT1H
X-Robots-Tag:noindex
X-PUBLISHED-TTL:PT1H
BEGIN:VTIMEZONE
TZID:America/New_York
BEGIN:DAYLIGHT
TZOFFSETFROM:-0500
TZOFFSETTO:-0400
TZNAME:EDT
DTSTART:20240310T070000
END:DAYLIGHT
BEGIN:STANDARD
TZOFFSETFROM:-0400
TZOFFSETTO:-0500
TZNAME:EST
DTSTART:20241103T060000
END:STANDARD
BEGIN:DAYLIGHT
TZOFFSETFROM:-0500
TZOFFSETTO:-0400
TZNAME:EDT
DTSTART:20250309T070000
END:DAYLIGHT
BEGIN:STANDARD
TZOFFSETFROM:-0400
TZOFFSETTO:-0500
TZNAME:EST
DTSTART:20251102T060000
END:STANDARD
BEGIN:DAYLIGHT
TZOFFSETFROM:-0500
TZOFFSETTO:-0400
TZNAME:EDT
DTSTART:20260308T070000
END:DAYLIGHT
BEGIN:STANDARD
TZOFFSETFROM:-0400
TZOFFSETTO:-0500
TZNAME:EST
DTSTART:20261101T060000
END:STANDARD
END:VTIMEZONE
BEGIN:VEVENT
DTSTART;TZID=America/New_York:20251020T150000
DTEND;TZID=America/New_York:20251020T170000
DTSTAMP:20260420T073503
CREATED:20250922T171753Z
LAST-MODIFIED:20250922T171753Z
UID:91234-1760972400-1760979600@bravamagazine.com
SUMMARY:Finding Your Place in Science: A reflective writing workshop on belonging\, identity\, and scientific paths
DESCRIPTION:A scientific identity – essentially\, whether a person feels they belong in the world of science —is associated with longevity and success in STEM-related fields. But what does it mean to belong in science? Does it matter if you identify as a science person? \nAs part of the Wisconsin Science Festival\, the Wisconsin Institute for Discovery (WID) is offering a writing workshop focused on scientific identity\, aimed at undergrad and graduate students\, but also open to the public. We’ll discuss some of the components researchers have identified as part of this sense of belonging in science; consider some of the conscious and unconscious assumptions we might have about who belongs in science; and expand our definitions and explore how varied a scientific identity can be. With a mix of discussion in small and large groups and impromptu writing\, we’ll investigate the broad concept of an identity and how it can be useful in the face of obstacles. Finally\, we’ll consider the more specific idea of belonging in the scientific realm\, what helps you find that sense of belonging and what might prevent it. \nThis workshop is not solely for people who already feel they belong–plenty of people study and work in science without being certain if they do–but for anyone who is interested in using writing and discussion to consider and clarify what this concept of scientific identity means to you. \nThis workshop is led by the Illuminating Discovery Hub’s Writer-in-Residence\, Michelle Wildgen.
URL:https://bravamagazine.com/event/finding-your-place-in-science-a-reflective-writing-workshop-on-belonging-identity-and-scientific-paths/
LOCATION:Discovery Building – UW\, 330 N Orchard St\, Madison\, 53715\, United States
CATEGORIES:Community Event
ATTACH;FMTTYPE=image/jpeg:https://bravamagazine.com/wp-content/uploads/2025/09/Writing-Workshop-V2.jpg
END:VEVENT
END:VCALENDAR