BEGIN:VCALENDAR
VERSION:2.0
PRODID:-//BRAVA Magazine - ECPv6.15.20//NONSGML v1.0//EN
CALSCALE:GREGORIAN
METHOD:PUBLISH
X-ORIGINAL-URL:https://bravamagazine.com
X-WR-CALDESC:Events for BRAVA Magazine
REFRESH-INTERVAL;VALUE=DURATION:PT1H
X-Robots-Tag:noindex
X-PUBLISHED-TTL:PT1H
BEGIN:VTIMEZONE
TZID:UTC
BEGIN:STANDARD
TZOFFSETFROM:+0000
TZOFFSETTO:+0000
TZNAME:UTC
DTSTART:20240101T000000
END:STANDARD
END:VTIMEZONE
BEGIN:VEVENT
DTSTART;TZID=UTC:20250508T163000
DTEND;TZID=UTC:20250508T183000
DTSTAMP:20260420T160106
CREATED:20250417T203426Z
LAST-MODIFIED:20250417T203426Z
UID:53653-1746721800-1746729000@bravamagazine.com
SUMMARY:Up Your Networking Game with TEMPO Madison
DESCRIPTION:What is Networking? “Networking builds and nurtures professional relationships that can lead to mutually beneficial opportunities. Networking involves connecting with others in your industry or field to share information\, resources\, and support. The purpose is to expand your circle of contacts\, gain insights\, and create potential business opportunities. Effective networking fosters collaboration and can open doors to new ventures\, partnerships\, and career growth.” \nIf that sounds a bit corporate and serious to you\, we have just the thing to spice up your networking experience! \nJoin the TEMPO Madison Networking Committee on Thursday\, May 8\, from 4:30 pm – 6:30 pm at the Forward Club for Speed Networking! This fast-paced event allows you to connect with multiple people quickly—perfect for making connections and getting home in time for dinner or enjoying spring weather. \nOne of the best networking tips is to not come alone—bring a buddy! We’ll even send out some fun sample questions for you to ask beforehand\, so you won’t have to worry about a thing. We can’t wait to see you there! \n4:30 – 5:00 pm Check in and Chat \n5:00 – 6:15 pm Speed Networking \n6:15 – 6:30 pm Following up if you have any additional questions\nwith those you connected. \nRegistration costs $30 per person and includes light appetizers. \nThere will be a cash bar available.
URL:https://bravamagazine.com/event/up-your-networking-game-with-tempo-madison/
LOCATION:The Forward Club at Breeze Stevens\, 917 E Mifflin St Gate 5\,\, Madison\, WI\, 53703\, United States
CATEGORIES:Community Event
ATTACH;FMTTYPE=image/jpeg:https://bravamagazine.com/wp-content/uploads/2025/04/Networking.jpeg
END:VEVENT
END:VCALENDAR