BEGIN:VCALENDAR
VERSION:2.0
PRODID:-//BRAVA Magazine - ECPv6.15.20//NONSGML v1.0//EN
CALSCALE:GREGORIAN
METHOD:PUBLISH
X-WR-CALNAME:BRAVA Magazine
X-ORIGINAL-URL:https://bravamagazine.com
X-WR-CALDESC:Events for BRAVA Magazine
REFRESH-INTERVAL;VALUE=DURATION:PT1H
X-Robots-Tag:noindex
X-PUBLISHED-TTL:PT1H
BEGIN:VTIMEZONE
TZID:America/Chicago
BEGIN:DAYLIGHT
TZOFFSETFROM:-0600
TZOFFSETTO:-0500
TZNAME:CDT
DTSTART:20250309T080000
END:DAYLIGHT
BEGIN:STANDARD
TZOFFSETFROM:-0500
TZOFFSETTO:-0600
TZNAME:CST
DTSTART:20251102T070000
END:STANDARD
BEGIN:DAYLIGHT
TZOFFSETFROM:-0600
TZOFFSETTO:-0500
TZNAME:CDT
DTSTART:20260308T080000
END:DAYLIGHT
BEGIN:STANDARD
TZOFFSETFROM:-0500
TZOFFSETTO:-0600
TZNAME:CST
DTSTART:20261101T070000
END:STANDARD
BEGIN:DAYLIGHT
TZOFFSETFROM:-0600
TZOFFSETTO:-0500
TZNAME:CDT
DTSTART:20270314T080000
END:DAYLIGHT
BEGIN:STANDARD
TZOFFSETFROM:-0500
TZOFFSETTO:-0600
TZNAME:CST
DTSTART:20271107T070000
END:STANDARD
END:VTIMEZONE
BEGIN:VEVENT
DTSTART;TZID=America/Chicago:20260510T141500
DTEND;TZID=America/Chicago:20260510T160000
DTSTAMP:20260420T134113
CREATED:20260417T173810Z
LAST-MODIFIED:20260417T173810Z
UID:227580-1778422500-1778428800@bravamagazine.com
SUMMARY:Madison Bach Musicians presents "Princely Architects"
DESCRIPTION:A fusion of music and architecture! Legendary architect Frank Lloyd Wright\, Wisconsin’s own\, loved the music of Beethoven and Bach and sought to emulate their compositions in his own designs. Madison Bach Musicians is honored to be part of the First Unitarian Society’s official celebration of the 75th anniversary of Wright’s 1951 architectural masterpiece — Unitarian Meeting House — by performing works of Beethoven and Bach in that very space. As Wright said\, “Beethoven\, and Bach too\, were princely architects in my spiritual realm….[M]usic is a kind of sublimated mathematics. So is architecture….They require very much the same mind.” MBM Artistic Director Trevor Stephenson’s pre-concert lecture will draw parallels between Wright’s designs and the compositions featured in the concert program: \n• J. S. Bach: Sonata for Violin and Continuo; French Suite No. 6 in E major for Harpsichord; Prelude & Allemande from Cello Suite No. 3 in C major; and Contrapunctus I & IX from The Art of Fugue\n• Ludwig van Beethoven: Allegro con brio from String Quartet in F minor\, Op. 95 (“Serioso”); and Piano Trio in E-flat major\, Op. 1 No. 1 \nSeating in the Meeting House is limited. We suggest purchasing your tickets in advance. Purchase in-person and/or on-demand tickets at https://madisonbachmusicians.org/princely-architects/
URL:https://bravamagazine.com/event/madison-bach-musicians-presents-princely-architects-2/
LOCATION:First Unitarian Society Madison\, 900 University Bay Drive\, Madison\, WI\, 53705\, United States
CATEGORIES:Live Music
ATTACH;FMTTYPE=image/jpeg:https://bravamagazine.com/wp-content/uploads/2026/04/MBM-Princely-Architects_Page_2-1.jpg
ORGANIZER;CN="Madison Bach Musicians":MAILTO:madisonbachmusicians.manager@gmail.com
END:VEVENT
END:VCALENDAR