BEGIN:VCALENDAR
VERSION:2.0
PRODID:-//BRAVA Magazine - ECPv6.15.20//NONSGML v1.0//EN
CALSCALE:GREGORIAN
METHOD:PUBLISH
X-WR-CALNAME:BRAVA Magazine
X-ORIGINAL-URL:https://bravamagazine.com
X-WR-CALDESC:Events for BRAVA Magazine
REFRESH-INTERVAL;VALUE=DURATION:PT1H
X-Robots-Tag:noindex
X-PUBLISHED-TTL:PT1H
BEGIN:VTIMEZONE
TZID:America/Chicago
BEGIN:DAYLIGHT
TZOFFSETFROM:-0600
TZOFFSETTO:-0500
TZNAME:CDT
DTSTART:20250309T080000
END:DAYLIGHT
BEGIN:STANDARD
TZOFFSETFROM:-0500
TZOFFSETTO:-0600
TZNAME:CST
DTSTART:20251102T070000
END:STANDARD
BEGIN:DAYLIGHT
TZOFFSETFROM:-0600
TZOFFSETTO:-0500
TZNAME:CDT
DTSTART:20260308T080000
END:DAYLIGHT
BEGIN:STANDARD
TZOFFSETFROM:-0500
TZOFFSETTO:-0600
TZNAME:CST
DTSTART:20261101T070000
END:STANDARD
BEGIN:DAYLIGHT
TZOFFSETFROM:-0600
TZOFFSETTO:-0500
TZNAME:CDT
DTSTART:20270314T080000
END:DAYLIGHT
BEGIN:STANDARD
TZOFFSETFROM:-0500
TZOFFSETTO:-0600
TZNAME:CST
DTSTART:20271107T070000
END:STANDARD
END:VTIMEZONE
BEGIN:VEVENT
DTSTART;TZID=America/Chicago:20260509T184500
DTEND;TZID=America/Chicago:20260509T203000
DTSTAMP:20260420T115639
CREATED:20260417T170554Z
LAST-MODIFIED:20260417T170554Z
UID:227555-1778352300-1778358600@bravamagazine.com
SUMMARY:Madison Bach Musicians presents "Princely Architects"
DESCRIPTION:A fusion of music and architecture! Legendary architect Frank Lloyd Wright\, Wisconsin’s own\, loved the music of Beethoven and Bach and sought to emulate their compositions in his own designs. Madison Bach Musicians is honored to be part of the First Unitarian Society’s official celebration of the 75th anniversary of Wright’s 1951 architectural masterpiece — Unitarian Meeting House — by performing works of Beethoven and Bach in that very space. As Wright said\, “Beethoven\, and Bach too\, were princely architects in my spiritual realm….[M]usic is a kind of sublimated mathematics. So is architecture….They require very much the same mind.” MBM Artistic Director Trevor Stephenson’s pre-concert lecture will draw parallels between Wright’s designs and the compositions featured in the concert program: \n• J. S. Bach: Sonata for Violin and Continuo; French Suite No. 6 in E major for Harpsichord; Prelude & Allemande from Cello Suite No. 3 in C major; and Contrapunctus I & IX from The Art of Fugue\n• Ludwig van Beethoven: Allegro con brio from String Quartet in F minor\, Op. 95 (“Serioso”); and Piano Trio in E-flat major\, Op. 1 No. 1 \nSeating in the Meeting House is limited. We suggest purchasing your tickets in advance. Purchase in-person and/or on-demand tickets at https://madisonbachmusicians.org/princely-architects/
URL:https://bravamagazine.com/event/madison-bach-musicians-presents-princely-architects/
LOCATION:First Unitarian Society Madison\, 900 University Bay Drive\, Madison\, WI\, 53705\, United States
CATEGORIES:Live Music
ATTACH;FMTTYPE=image/jpeg:https://bravamagazine.com/wp-content/uploads/2026/04/MBM-Princely-Architects_Page_2.jpg
ORGANIZER;CN="Madison Bach Musicians":MAILTO:madisonbachmusicians.manager@gmail.com
END:VEVENT
BEGIN:VEVENT
DTSTART;TZID=America/Chicago:20260509T193000
DTEND;TZID=America/Chicago:20260509T210000
DTSTAMP:20260420T115639
CREATED:20260413T012924Z
LAST-MODIFIED:20260413T012924Z
UID:218471-1778355000-1778360400@bravamagazine.com
SUMMARY:Wisconsin Chamber Choir’s Spring Concert “Time Pieces”
DESCRIPTION:Join the Wisconsin Chamber Choir for a concert of music about time in its many facets. Our program samples a broad range of poetic and musical interpretations of time\, from 2000-year-old religious texts to music written just a few years ago that speaks to the times we live in\, today. The wide breadth of repertoire ranges from British Romantic composers Edward Elgar and Samuel Coleridge-Taylor\, to contemporary Americans Libby Larsen and David Lang\, to popular music icons Cole Porter\, Bob Dylan\, and Dolly Parton.\nAs human beings\, we interact with time in many different ways and on many different levels. The cyclical time of the passing seasons finds voice in Elgar’s passionate O Wild West Wind and Coleridge-Taylor’s luminous Song of Proserpine\, both settings of poems by Shelly. One of the most resolute depictions of recurring time is David Lang’s Again (After Ecclesiastes)\, whose music is based on a mesmerizing\, seemingly endless ostinato. Time as longing animates Argentinian composer Carlos Guastavino’s Ojos de tiempo (Eyes of Time) and Cole Porter’s Night and Day\, and time as eternity bookends Three Herrick Songs by Boston composer William Cutter.\nA special feature of the program is the world premiere of Ever by Minnesota composer\, Michael Ferguson\, a powerful setting of Shakespeare’s Sonnet XIX\, Devouring Time\, Blunt Thou the Lions Paws. Another recent work\, of particular relevance today\, is Minneapolis composer Libby Larsen’s Verdad/True\, a 2019 composition that uses texts by Chilean poet Gabriela Mistral to document the pain of migrants separated from their families\, who long for the time when they will be reunited.\nBob Dylan’s The Times They Are a-Changin’ hit a nerve in 1964\, and Adam Podd’s transcendent arrangement for choir and piano from 2021 testifies to the original song’s continuing relevance. The concert concludes with Dolly Parton’s upbeat anthem about the travails of working 9 to 5.\nTickets are $25 for adults / $5 students\, available in advance from www.wisconsinchamberchoir.org or at the door. Discounted tickets are available for children\, students\, and patrons experiencing financial hardship.\nFounded in 1998\, the Wisconsin Chamber Choir has established a reputation for excellence in the performance of oratorios by Bach\, Handel\, Mozart\, and Brahms; a cappella works from various centuries; and world premieres. WCC Artistic Director Robert Gehrenbeck\, a Professor of Music at UW-Whitewater\, has been hailed by critics for his vibrant and emotionally compelling interpretations of a wide variety of choral music. Under his leadership the WCC has presented major works with orchestra as well as innovative programs of rarely heard music by composers from a wide variety of eras\, nationalities\, and cultures.
URL:https://bravamagazine.com/event/wisconsin-chamber-choirs-spring-concert-time-pieces/
LOCATION:Bethel Lutheran Church\, 312 Wisconsin Avenue\, Madison\, WI\, 53703\, United States
CATEGORIES:Live Music
ATTACH;FMTTYPE=image/jpeg:https://bravamagazine.com/wp-content/uploads/2026/04/Time-Pieces-05.09.26.jpg
ORGANIZER;CN="Wisconsin Chamber Choir":MAILTO:regets2006@yahoo.com
END:VEVENT
END:VCALENDAR