BEGIN:VCALENDAR
VERSION:2.0
PRODID:-//BRAVA Magazine - ECPv6.15.20//NONSGML v1.0//EN
CALSCALE:GREGORIAN
METHOD:PUBLISH
X-WR-CALNAME:BRAVA Magazine
X-ORIGINAL-URL:https://bravamagazine.com
X-WR-CALDESC:Events for BRAVA Magazine
REFRESH-INTERVAL;VALUE=DURATION:PT1H
X-Robots-Tag:noindex
X-PUBLISHED-TTL:PT1H
BEGIN:VTIMEZONE
TZID:America/Chicago
BEGIN:DAYLIGHT
TZOFFSETFROM:-0600
TZOFFSETTO:-0500
TZNAME:CDT
DTSTART:20250309T080000
END:DAYLIGHT
BEGIN:STANDARD
TZOFFSETFROM:-0500
TZOFFSETTO:-0600
TZNAME:CST
DTSTART:20251102T070000
END:STANDARD
BEGIN:DAYLIGHT
TZOFFSETFROM:-0600
TZOFFSETTO:-0500
TZNAME:CDT
DTSTART:20260308T080000
END:DAYLIGHT
BEGIN:STANDARD
TZOFFSETFROM:-0500
TZOFFSETTO:-0600
TZNAME:CST
DTSTART:20261101T070000
END:STANDARD
BEGIN:DAYLIGHT
TZOFFSETFROM:-0600
TZOFFSETTO:-0500
TZNAME:CDT
DTSTART:20270314T080000
END:DAYLIGHT
BEGIN:STANDARD
TZOFFSETFROM:-0500
TZOFFSETTO:-0600
TZNAME:CST
DTSTART:20271107T070000
END:STANDARD
END:VTIMEZONE
BEGIN:VEVENT
DTSTART;TZID=America/Chicago:20260502T110000
DTEND;TZID=America/Chicago:20260502T120000
DTSTAMP:20260420T002530
CREATED:20260406T130804Z
LAST-MODIFIED:20260406T130804Z
UID:205354-1777719600-1777723200@bravamagazine.com
SUMMARY:Pinney Saturday Music Series - presenting the Madison Brass Band
DESCRIPTION:Pinney Library\nCommunity Rooms A and B Combined\nMay 2\, 2026 | 11am – 12pm\nThe Pinney Saturday Music Series welcomes performers on the first Saturday of the month! (Intended audience is adults\, teens\, and older children.) \nThe Madison Brass Band in its current form was created in 2002 and is one of three British-style brass bands in Wisconsin. The band has performed as a small group and full band all across Wisconsin and across the United States and play a variety of music including contest music\, marches\, hymns\, ballads\, pops\, jazz\, and more! \nThe series is generously sponsored by The Friends of Pinney Library.
URL:https://bravamagazine.com/event/pinney-saturday-music-series-presenting-the-madison-brass-band/
LOCATION:Pinney Library\, 204 Cottage Grove Rd. \, Madison\, WI\, 53716\, United States
CATEGORIES:Live Music
ATTACH;FMTTYPE=image/png:https://bravamagazine.com/wp-content/uploads/2026/04/MBB-20Photo.png.png
ORGANIZER;CN="Madison Brass Band":MAILTO:madwisbb@gmail.com
END:VEVENT
END:VCALENDAR