BEGIN:VCALENDAR
VERSION:2.0
PRODID:-//BRAVA Magazine - ECPv6.15.20//NONSGML v1.0//EN
CALSCALE:GREGORIAN
METHOD:PUBLISH
X-WR-CALNAME:BRAVA Magazine
X-ORIGINAL-URL:https://bravamagazine.com
X-WR-CALDESC:Events for BRAVA Magazine
REFRESH-INTERVAL;VALUE=DURATION:PT1H
X-Robots-Tag:noindex
X-PUBLISHED-TTL:PT1H
BEGIN:VTIMEZONE
TZID:UTC
BEGIN:STANDARD
TZOFFSETFROM:+0000
TZOFFSETTO:+0000
TZNAME:UTC
DTSTART:20240101T000000
END:STANDARD
END:VTIMEZONE
BEGIN:VEVENT
DTSTART;TZID=UTC:20251104T180000
DTEND;TZID=UTC:20251104T210000
DTSTAMP:20260420T065513
CREATED:20251016T220225Z
LAST-MODIFIED:20251016T220225Z
UID:101621-1762279200-1762290000@bravamagazine.com
SUMMARY:Neshama: The Inextinguishable Jewish Spirit\, Exhibit Opening Preview
DESCRIPTION:This exhibition is built around the internationally renowned Violins of Hope project. Each violin in this moving collection of 24 restored instruments carries a deeply personal story\, paying tribute to the resilience of Jewish people who turned to music as a source of solace\, survival and defiance. \nJoin us for an unforgettable opening celebration with a special introduction by Rabbi Michel Twerski\, followed by a powerful performance from The Prometheus Trio. Resident at the Wisconsin Conservatory of Music since 2000\, The Prometheus Trio performs a blend of classical chamber music that both challenges and excites the musicians and audiences\, creating an extraordinary experience for all. \nFeatured violinist Emmy Tisdel Lohr\, cellist Scott Tisdel\, and pianist Stefanie Jacob\, will perform a repertoire recalling adversity faced by the Jewish people and honoring Judaism’s soulful strength and enduring light. \nThis program is presented in partnership with the Nathan and Esther Pelz Holocaust Education Resource Center and Ruach\, the Jewish arts and music organization serving Greater Milwaukee. \nLOCATION:\nReception at Jewish Museum Milwaukee (1360 N Prospect Ave)\nProgram in the Rubenstein Pavilion at Ovation Communities\n*Ovation Communities is just next door at 1414 N Prospect Ave\nCOST: Members $12 | Nonmembers $18 \nRSVP by October 28
URL:https://bravamagazine.com/event/neshama-the-inextinguishable-jewish-spirit-exhibit-opening-preview/
LOCATION:Jewish Museum Milwaukee\, 1360 N. Prospect Ave.\, Milwaukee\, WI\, 53202\, United States
CATEGORIES:Community Event
ATTACH;FMTTYPE=image/jpeg:https://bravamagazine.com/wp-content/uploads/2025/10/JMM_VOH_PreviewPostcard_v4-FNL_Page_1_crop.jpg
ORGANIZER;CN="Jewish Museum Milwaukee":MAILTO:info@jewishmuseummilwaukee.org
END:VEVENT
END:VCALENDAR