BEGIN:VCALENDAR
VERSION:2.0
PRODID:-//BRAVA Magazine - ECPv6.15.20//NONSGML v1.0//EN
CALSCALE:GREGORIAN
METHOD:PUBLISH
X-ORIGINAL-URL:https://bravamagazine.com
X-WR-CALDESC:Events for BRAVA Magazine
REFRESH-INTERVAL;VALUE=DURATION:PT1H
X-Robots-Tag:noindex
X-PUBLISHED-TTL:PT1H
BEGIN:VTIMEZONE
TZID:UTC
BEGIN:STANDARD
TZOFFSETFROM:+0000
TZOFFSETTO:+0000
TZNAME:UTC
DTSTART:20240101T000000
END:STANDARD
END:VTIMEZONE
BEGIN:VEVENT
DTSTART;TZID=UTC:20250517T160000
DTEND;TZID=UTC:20250517T173000
DTSTAMP:20260420T170157
CREATED:20250424T013707Z
LAST-MODIFIED:20250424T013707Z
UID:53869-1747497600-1747503000@bravamagazine.com
SUMMARY:WYSO Percussion Ensemble & Concert Orchestra
DESCRIPTION:You are invited to attend the Eugenie Mayer Bolz Family Concerts: Percussion Ensemble and Concert Orchestra. \nThe WYSO Percussion Ensemble\, directed by Vicki Peterson Jenks and Dane Crozier\, will perform The Chameleon by Andrew R. Stout and the beloved Londonderry Air\, a traditional Irish melody. \nConcert Orchestra\, conducted by Christine Mata Eckel\, will present a spirited program including Beseda\, a suite of traditional Czech dances (arr. Robert Bauernschmidt)\, Prelude to Carmen by Georges Bizet (arr. Casey B. Kriechbaum)\, Bellingrath Gardens by Ralph Ford\, and Gustav Holst’s Song Without Words (arr. Roy Phillippe).
URL:https://bravamagazine.com/event/wyso-percussion-ensemble-concert-orchestra/
LOCATION:Mead Witter Concert Hall at Hamel Music Center-UW Campus\, 740 University Ave\, Madison\, WI\, 53706\, United States
CATEGORIES:Live Music
ATTACH;FMTTYPE=image/jpeg:https://bravamagazine.com/wp-content/uploads/2025/04/Concert.jpg
ORGANIZER;CN="Wisconsin Youth Symphony Orchestras":MAILTO:wyso@wysomusic.org
END:VEVENT
END:VCALENDAR