BEGIN:VCALENDAR
VERSION:2.0
PRODID:-//BRAVA Magazine - ECPv6.15.20//NONSGML v1.0//EN
CALSCALE:GREGORIAN
METHOD:PUBLISH
X-ORIGINAL-URL:https://bravamagazine.com
X-WR-CALDESC:Events for BRAVA Magazine
REFRESH-INTERVAL;VALUE=DURATION:PT1H
X-Robots-Tag:noindex
X-PUBLISHED-TTL:PT1H
BEGIN:VTIMEZONE
TZID:America/Chicago
BEGIN:DAYLIGHT
TZOFFSETFROM:-0600
TZOFFSETTO:-0500
TZNAME:CDT
DTSTART:20240310T080000
END:DAYLIGHT
BEGIN:STANDARD
TZOFFSETFROM:-0500
TZOFFSETTO:-0600
TZNAME:CST
DTSTART:20241103T070000
END:STANDARD
BEGIN:DAYLIGHT
TZOFFSETFROM:-0600
TZOFFSETTO:-0500
TZNAME:CDT
DTSTART:20250309T080000
END:DAYLIGHT
BEGIN:STANDARD
TZOFFSETFROM:-0500
TZOFFSETTO:-0600
TZNAME:CST
DTSTART:20251102T070000
END:STANDARD
BEGIN:DAYLIGHT
TZOFFSETFROM:-0600
TZOFFSETTO:-0500
TZNAME:CDT
DTSTART:20260308T080000
END:DAYLIGHT
BEGIN:STANDARD
TZOFFSETFROM:-0500
TZOFFSETTO:-0600
TZNAME:CST
DTSTART:20261101T070000
END:STANDARD
END:VTIMEZONE
BEGIN:VEVENT
DTSTART;TZID=America/Chicago:20251003T173000
DTEND;TZID=America/Chicago:20251003T193000
DTSTAMP:20260420T083447
CREATED:20250922T221256Z
LAST-MODIFIED:20250922T221256Z
UID:91573-1759512600-1759519800@bravamagazine.com
SUMMARY:Fall Fest
DESCRIPTION:Join us for our spooky-ish celebration featuring Creatures of the Night! \nFall Fest returns with a fun-filled night of spooky nature activities in not-so-scary style! With activity stations indoors and out\, there is plenty of FREE fall fun for everyone to enjoy. \nPark your car at Ahuska Park and ride a FREE Shuttle to ALNC. \nExciting activities include: \n– Conduct surprising SCIENCE EXPERIMENTS\n– Discover what’s hiding in the BONE YARD\n– Hike the Basswood Forest trails and find CREATURES OF THE NIGHT\n– Hear spooky stories by THE HAUNTED SHACK\n– Solve a MURDER MYSTERY\n– Participate in the COSTUME PARADE\n– Take a hike through the prairie and play NIGHT TIME NATURE BINGO\n– Roast marshmallows over a FALL CAMPFIRE (for a small fee) and more \nIf you have a flashlight or two\, bring them along! Otherwise\, we will have a limited quantity for use on the trails. \nHungry? We’ll also have a couple of food trucks to fill your bellies – Banzo\, and Ugly Apple will be here. \nThis event is FREE and open to the PUBLIC! $5 suggested donation per person. \nNo registration required; walk-ins welcome! \nA photographer may be onsite to document this event. If you would not like your photo taken\, please advise the photographer. Thank you!
URL:https://bravamagazine.com/event/fall-fest/
LOCATION:Aldo Leopold Nature Center\, 330 Femrite Drive\, Monona\, WI\, 53716\, United States
CATEGORIES:Community Event,Kid-Friendly Event
ATTACH;FMTTYPE=image/jpeg:https://bravamagazine.com/wp-content/uploads/2025/09/IMG_2296-2.jpg
ORGANIZER;CN="Aldo Leopold Nature Center":MAILTO:kelley@aldoleopoldnaturecenter.org
END:VEVENT
END:VCALENDAR