BEGIN:VCALENDAR
VERSION:2.0
PRODID:-//BRAVA Magazine - ECPv6.15.20//NONSGML v1.0//EN
CALSCALE:GREGORIAN
METHOD:PUBLISH
X-ORIGINAL-URL:https://bravamagazine.com
X-WR-CALDESC:Events for BRAVA Magazine
REFRESH-INTERVAL;VALUE=DURATION:PT1H
X-Robots-Tag:noindex
X-PUBLISHED-TTL:PT1H
BEGIN:VTIMEZONE
TZID:America/Chicago
BEGIN:DAYLIGHT
TZOFFSETFROM:-0600
TZOFFSETTO:-0500
TZNAME:CDT
DTSTART:20250309T080000
END:DAYLIGHT
BEGIN:STANDARD
TZOFFSETFROM:-0500
TZOFFSETTO:-0600
TZNAME:CST
DTSTART:20251102T070000
END:STANDARD
BEGIN:DAYLIGHT
TZOFFSETFROM:-0600
TZOFFSETTO:-0500
TZNAME:CDT
DTSTART:20260308T080000
END:DAYLIGHT
BEGIN:STANDARD
TZOFFSETFROM:-0500
TZOFFSETTO:-0600
TZNAME:CST
DTSTART:20261101T070000
END:STANDARD
BEGIN:DAYLIGHT
TZOFFSETFROM:-0600
TZOFFSETTO:-0500
TZNAME:CDT
DTSTART:20270314T080000
END:DAYLIGHT
BEGIN:STANDARD
TZOFFSETFROM:-0500
TZOFFSETTO:-0600
TZNAME:CST
DTSTART:20271107T070000
END:STANDARD
END:VTIMEZONE
BEGIN:VEVENT
DTSTART;TZID=America/Chicago:20260110T163000
DTEND;TZID=America/Chicago:20260110T190000
DTSTAMP:20260420T021121
CREATED:20251222T133226Z
LAST-MODIFIED:20251222T133226Z
UID:140993-1768062600-1768071600@bravamagazine.com
SUMMARY:Candlelight Hike
DESCRIPTION:Hundreds of softly glowing lights illuminate the trails of Aldo Leopold Nature Center and Edna Taylor Conservancy. \nJoin us for a hike and enjoy a roaring bonfire! \nIn partnership with Madison Parks\, all ages and abilities are welcome to this family-friendly event! Warm up by a roaring fire; and enjoy a cup of hot chocolate\, coffee\, or tea. If there’s snow\, you can bring your own snowshoes or borrow a pair (for free) to use during the event. Food carts available on site! Indoor restrooms available. \nCome one\, come all… No pre-registration is required! \nThis is a FREE event with FREE parking and a FREE shuttle from the Ahuska Park parking lot (400 E. Broadway). \nPARKING: Free shuttle service and free parking at Ahuska Park. Parking\, without shuttle service\, may be available along Femrite Drive\, Roselawn Drive\, and Edna Taylor Parkway. Parking map found here. \nFor more information\, please call: 608-221-0404 x 0. \nA photographer may be onsite to document this event. If you would not like your photo taken\, please advise the photographer. Thank you!
URL:https://bravamagazine.com/event/candlelight-hike/
LOCATION:Aldo Leopold Nature Center\, 330 Femrite Drive\, Monona\, WI\, 53716\, United States
CATEGORIES:Community Event,Kid-Friendly Event
ATTACH;FMTTYPE=image/png:https://bravamagazine.com/wp-content/uploads/2025/12/Candlelight2026-1920x1005-1.png
ORGANIZER;CN="Aldo Leopold Nature Center":MAILTO:kelley@aldoleopoldnaturecenter.org
END:VEVENT
BEGIN:VEVENT
DTSTART;TZID=America/Chicago:20260114T170000
DTEND;TZID=America/Chicago:20260114T190000
DTSTAMP:20260420T021121
CREATED:20251229T180551Z
LAST-MODIFIED:20251229T180551Z
UID:146912-1768410000-1768417200@bravamagazine.com
SUMMARY:Winter Warm-Up Open House in Support of Habitat for Humanity
DESCRIPTION:Enjoy a festive evening filled with seasonal fun\, local treats and a holiday house craft for a cause – plus a special musical performance!\nJoin us at DreamBank in Madison\, WI for this in-person special event! \nStart the new year with warmth\, connection and meaningful impact! You and your family are invited to a cozy Winter Warm-Up celebration with the American Family Insurance DreamBank\, supporting Habitat for Humanity of Dane County. Join us for an open house that brings our community together for a lively evening filled with seasonal fun\, delicious treats and refreshments from local favorites\, plus a winter-inspired DIY house craft for a cause. \nAnd did you know? Your participation will help provide for families in need of a place to live and affordable housing. For every house craft that’s created during the event\, American Family Insurance will donate $10 to Habitat for Humanity of Dane County – with a donation goal of $5\,000. Everyone deserves to feel protected under a roof of their own. Let’s embrace the winter season and make a difference together! \nAt American Family Insurance\, life’s better when you’re under our roof because when you feel totally supported and protected\, any dream is possible. That’s why we created DreamBank\, an inspirational community destination and virtual experience that provides events\, signature experiences and resources to help people pursue\, achieve and protect their dreams.
URL:https://bravamagazine.com/event/winter-warm-up-open-house-in-support-of-habitat-for-humanity/
LOCATION:DreamBank\, One North Pinckney\, Madison\, WI\, 53703\, United States
CATEGORIES:Community Event,Kid-Friendly Event,Live Music
ATTACH;FMTTYPE=image/jpeg:https://bravamagazine.com/wp-content/uploads/2025/12/DB_Instagram_1080x1350_Jan14_26_OpenHouse.jpg
ORGANIZER;CN="DreamBank":MAILTO:DreamBank@AmFam.com
END:VEVENT
END:VCALENDAR