BEGIN:VCALENDAR
VERSION:2.0
PRODID:-//BRAVA Magazine - ECPv6.15.20//NONSGML v1.0//EN
CALSCALE:GREGORIAN
METHOD:PUBLISH
X-ORIGINAL-URL:https://bravamagazine.com
X-WR-CALDESC:Events for BRAVA Magazine
REFRESH-INTERVAL;VALUE=DURATION:PT1H
X-Robots-Tag:noindex
X-PUBLISHED-TTL:PT1H
BEGIN:VTIMEZONE
TZID:UTC
BEGIN:STANDARD
TZOFFSETFROM:+0000
TZOFFSETTO:+0000
TZNAME:UTC
DTSTART:20240101T000000
END:STANDARD
END:VTIMEZONE
BEGIN:VEVENT
DTSTART;TZID=UTC:20250616T180000
DTEND;TZID=UTC:20250616T193000
DTSTAMP:20260419T111839
CREATED:20250604T022825Z
LAST-MODIFIED:20250604T022825Z
UID:61525-1750096800-1750102200@bravamagazine.com
SUMMARY:Integrative Approaches to Food Choice
DESCRIPTION:We all get to choose our food\, every meal\, every morsel. Does it matter? Yes. \nIn this workshop\, we will explore integrative food choice approaches to deal with side effects and potentially improve cancer outcomes. \nWe will also describe and define Integrative Oncology. Be curious\, check this out. Led by Dr. Kim Dittus\, a board certified Medical Oncologist who works with the Breast Center and Integrative Health and Medicine at UW Health. \nLight refreshments will be available in person.
URL:https://bravamagazine.com/event/integrative-approaches-to-food-choice/
LOCATION:Gilda’s Club Madison\, 7907 UW Health Court\, Middleton\, 53562\, United States
CATEGORIES:Community Event
ATTACH;FMTTYPE=image/jpeg:https://bravamagazine.com/wp-content/uploads/2025/06/Integrative-Food.jpg
ORGANIZER;CN="Gilda's Club Madison":MAILTO:lannia@gildasclubmadison.org
END:VEVENT
END:VCALENDAR