BEGIN:VCALENDAR
VERSION:2.0
PRODID:-//BRAVA Magazine - ECPv6.15.20//NONSGML v1.0//EN
CALSCALE:GREGORIAN
METHOD:PUBLISH
X-WR-CALNAME:BRAVA Magazine
X-ORIGINAL-URL:https://bravamagazine.com
X-WR-CALDESC:Events for BRAVA Magazine
REFRESH-INTERVAL;VALUE=DURATION:PT1H
X-Robots-Tag:noindex
X-PUBLISHED-TTL:PT1H
BEGIN:VTIMEZONE
TZID:UTC
BEGIN:STANDARD
TZOFFSETFROM:+0000
TZOFFSETTO:+0000
TZNAME:UTC
DTSTART:20240101T000000
END:STANDARD
END:VTIMEZONE
BEGIN:VEVENT
DTSTART;TZID=UTC:20250529T123000
DTEND;TZID=UTC:20250529T130000
DTSTAMP:20260419T111445
CREATED:20250423T180423Z
LAST-MODIFIED:20250423T180423Z
UID:53737-1748521800-1748523600@bravamagazine.com
SUMMARY:Cancer Support Services through Gilda’s Club Madison [Virtual]
DESCRIPTION:Have you or someone you loved been given a cancer diagnosis? Are you looking for a space to connect with others who understand? \nJoin Gilda’s Club for a group New Member Meeting delivered on Zoom. \nThis meeting will discuss the resources we have to offer and get you started as a Gilda’s Club member. \n*If you do not wish to meet in a group setting\, please email program@gildasclubmadison.org to schedule an individual New Member Meeting. \nQuestions? Please email program@gildasclubmadison.org or call 608-828-8880.
URL:https://bravamagazine.com/event/cancer-support-services-through-gildas-club-madison-virtual-10/
LOCATION:Gilda’s Club Madison\, 7907 UW Health Court\, Middleton\, 53562\, United States
CATEGORIES:Community Event
ATTACH;FMTTYPE=image/jpeg:https://bravamagazine.com/wp-content/uploads/2025/04/GCM_Logo_Sq-1-Copy-6.jpg
ORGANIZER;CN="Gilda's Club Madison":MAILTO:lannia@gildasclubmadison.org
END:VEVENT
BEGIN:VEVENT
DTSTART;TZID=UTC:20250529T180000
DTEND;TZID=UTC:20250529T193000
DTSTAMP:20260419T111445
CREATED:20250410T173009Z
LAST-MODIFIED:20250410T173009Z
UID:53456-1748541600-1748547000@bravamagazine.com
SUMMARY:Art Show Opening Reception
DESCRIPTION:Join us to celebrate the opening of our Community Art Show\, view the art exhibition\, and meet some of the artists. This is sure to be an evening of powerful art\, great music\, and time to reconnect with others impacted by cancer. The reception will be held in the backyard (weather permitting). To learn more about our community art show\, visit https://gildasclubmadison.org/artshow. \nArt is a powerful medium to process a cancer experience\, one that facilitates healing and growth. Our annual art exhibition showcases the talent of our members\, volunteers\, and staff. Art will be exhibited from Thursday\, May 29th to Wednesday\, June 11th. Questions? Contact autumn@gildasclubmadison.org.
URL:https://bravamagazine.com/event/art-show-opening-reception/
LOCATION:Gilda’s Club Madison\, 7907 UW Health Court\, Middleton\, 53562\, United States
CATEGORIES:Community Event
ATTACH;FMTTYPE=image/jpeg:https://bravamagazine.com/wp-content/uploads/2025/04/Art-Show.jpg
ORGANIZER;CN="Gilda's Club Madison":MAILTO:lannia@gildasclubmadison.org
END:VEVENT
END:VCALENDAR