BEGIN:VCALENDAR
VERSION:2.0
PRODID:-//BRAVA Magazine - ECPv6.15.20//NONSGML v1.0//EN
CALSCALE:GREGORIAN
METHOD:PUBLISH
X-WR-CALNAME:BRAVA Magazine
X-ORIGINAL-URL:https://bravamagazine.com
X-WR-CALDESC:Events for BRAVA Magazine
REFRESH-INTERVAL;VALUE=DURATION:PT1H
X-Robots-Tag:noindex
X-PUBLISHED-TTL:PT1H
BEGIN:VTIMEZONE
TZID:UTC
BEGIN:STANDARD
TZOFFSETFROM:+0000
TZOFFSETTO:+0000
TZNAME:UTC
DTSTART:20240101T000000
END:STANDARD
END:VTIMEZONE
BEGIN:VEVENT
DTSTART;TZID=UTC:20250513T170000
DTEND;TZID=UTC:20250513T190000
DTSTAMP:20260419T130952
CREATED:20250414T221557Z
LAST-MODIFIED:20250414T221557Z
UID:53582-1747155600-1747162800@bravamagazine.com
SUMMARY:NAMI Dane County Open House
DESCRIPTION:Join NAMI Dane County as we celebrate our move to a new office location that will allow us to increase and expand services and support for our community. We will also be celebrating all of the connections we have made this year and the community partners we have worked with to best serve individuals and families affected by mental illness through support\, education\, and advocacy. We are excited to welcome the community to tour our new space\, connect with community partners\, and celebrate the accomplishments of the last year. \nTuesday\, May 13\, 5-7pm. Ribbon cutting at 5:30pm and Awards Recognition at 6pm. \nEnjoy appetizers\, mocktails\, and desserts. \n*Please RSVP so that we can plan for food\, beverages\, and dessert.
URL:https://bravamagazine.com/event/nami-dane-county-open-house/
LOCATION:25 Kessel Court\, Madison\, WI 53711\, 25 Kessel Ct\, Madison\, WI\, 53711\, United States
CATEGORIES:Community Event
ATTACH;FMTTYPE=image/jpeg:https://bravamagazine.com/wp-content/uploads/2025/04/JPG-Open-House-Invitation.jpg
END:VEVENT
END:VCALENDAR