BEGIN:VCALENDAR
VERSION:2.0
PRODID:-//BRAVA Magazine - ECPv6.15.20//NONSGML v1.0//EN
CALSCALE:GREGORIAN
METHOD:PUBLISH
X-WR-CALNAME:BRAVA Magazine
X-ORIGINAL-URL:https://bravamagazine.com
X-WR-CALDESC:Events for BRAVA Magazine
REFRESH-INTERVAL;VALUE=DURATION:PT1H
X-Robots-Tag:noindex
X-PUBLISHED-TTL:PT1H
BEGIN:VTIMEZONE
TZID:UTC
BEGIN:STANDARD
TZOFFSETFROM:+0000
TZOFFSETTO:+0000
TZNAME:UTC
DTSTART:20240101T000000
END:STANDARD
END:VTIMEZONE
BEGIN:VTIMEZONE
TZID:America/New_York
BEGIN:DAYLIGHT
TZOFFSETFROM:-0500
TZOFFSETTO:-0400
TZNAME:EDT
DTSTART:20240310T070000
END:DAYLIGHT
BEGIN:STANDARD
TZOFFSETFROM:-0400
TZOFFSETTO:-0500
TZNAME:EST
DTSTART:20241103T060000
END:STANDARD
BEGIN:DAYLIGHT
TZOFFSETFROM:-0500
TZOFFSETTO:-0400
TZNAME:EDT
DTSTART:20250309T070000
END:DAYLIGHT
BEGIN:STANDARD
TZOFFSETFROM:-0400
TZOFFSETTO:-0500
TZNAME:EST
DTSTART:20251102T060000
END:STANDARD
BEGIN:DAYLIGHT
TZOFFSETFROM:-0500
TZOFFSETTO:-0400
TZNAME:EDT
DTSTART:20260308T070000
END:DAYLIGHT
BEGIN:STANDARD
TZOFFSETFROM:-0400
TZOFFSETTO:-0500
TZNAME:EST
DTSTART:20261101T060000
END:STANDARD
END:VTIMEZONE
BEGIN:VEVENT
DTSTART;TZID=UTC:20250703T133000
DTEND;TZID=UTC:20250703T140000
DTSTAMP:20260419T075207
CREATED:20250618T012404Z
LAST-MODIFIED:20250618T012404Z
UID:79605-1751549400-1751551200@bravamagazine.com
SUMMARY:Cancer Support Services through Gilda’s Club Madison [Virtual]
DESCRIPTION:Have you or someone you loved been given a cancer diagnosis? Are you looking for a space to connect with others who understand? \nJoin Gilda’s Club for a group New Member Meeting delivered on Zoom. \nThis meeting will discuss the resources we have to offer and get you started as a Gilda’s Club member. \n*If you do not wish to meet in a group setting\, please email program@gildasclubmadison.org to schedule an individual New Member Meeting. \nQuestions? Please email program@gildasclubmadison.org or call 608-828-8880.
URL:https://bravamagazine.com/event/cancer-support-services-through-gildas-club-madison-virtual-12/
LOCATION:Gilda’s Club Madison\, 7907 UW Health Court\, Middleton\, 53562\, United States
CATEGORIES:Community Event
ATTACH;FMTTYPE=image/jpeg:https://bravamagazine.com/wp-content/uploads/2025/06/GCM_Logo_Sq-1-Copy-1.jpg
ORGANIZER;CN="Gilda's Club Madison":MAILTO:lannia@gildasclubmadison.org
END:VEVENT
BEGIN:VEVENT
DTSTART;TZID=UTC:20250707T160000
DTEND;TZID=UTC:20250707T173000
DTSTAMP:20260419T075207
CREATED:20250702T012839Z
LAST-MODIFIED:20250702T012839Z
UID:80031-1751904000-1751909400@bravamagazine.com
SUMMARY:Cancer Transitions [Virtual Series]
DESCRIPTION:This program consists of four weekly sessions\, delivered online on every Monday in July\, 4:00 pm – 5:30 pm.\nIt’s quite common to feel a range of emotions once treatment ends. You can improve your quality of life by addressing these in an active way. \nThis post-treatment phase of survivorship requires many things: physical activity\, nutrition\, a healthy emotional life\, and management of any health concerns that may arise. \nCancer Transitions® is a free\, four-week workshop (delivered in 90-minute sessions) designed to help cancer survivors make the transition from active treatment to post-treatment care.\n• Session 1 (July 7th): Get Back to Wellness: Take Control of Your Survivorship\n• Session 2 (July 14th): Emotional Health\n• Session 3 (July 21st): Eating Well and Staying Active\n• Session 4 (July 28th): Medical Management Beyond Cancer: What You Need to Know \nQuestions? Email Kirsten Norslien at Kirsten@gildasclubmadison.org.
URL:https://bravamagazine.com/event/cancer-transitions-virtual-series/
LOCATION:Gilda’s Club Madison\, 7907 UW Health Court\, Middleton\, 53562\, United States
CATEGORIES:Community Event
ATTACH;FMTTYPE=image/jpeg:https://bravamagazine.com/wp-content/uploads/2025/07/CT-logo.jpg
ORGANIZER;CN="Gilda's Club Madison":MAILTO:lannia@gildasclubmadison.org
END:VEVENT
BEGIN:VEVENT
DTSTART;TZID=UTC:20250707T170000
DTEND;TZID=UTC:20250707T180000
DTSTAMP:20260419T075207
CREATED:20250530T060559Z
LAST-MODIFIED:20250530T060559Z
UID:58091-1751907600-1751911200@bravamagazine.com
SUMMARY:Rooftop Yoga
DESCRIPTION:Join us on the beautiful Monona Terrace William T. Evjue Rooftop Garden for a unique yoga experience that will leave you feeling relaxed\, rejuvenated and balanced. This yoga class is perfect for all levels\, with a focus on gentle movements\, meditation and deep breathing to calm the mind and body. \nFree (Eventbrite Registration Recommended: https://www.eventbrite.com/e/rooftop-yoga-tickets-1318995915289?aff=oddtdtcreator \nWhether you’re looking to reduce stress\, improve sleep\, or simply take some time for yourself\, this yoga workshop with yoga instructor Joan Herzing is the perfect opportunity to connect with your body and mind. \nAt the end of class\, Joan will play from her collection of hand pans and tongue drums\, which will help you let go of any remaining tension or stress. The sound vibrations will promote a sense of inner peace\, balance\, and harmony\, leaving you feeling refreshed and renewed. \nBe sure to wear clothing that is comfortable to move in and bring something to lie on (e.g. yoga mat\, beach towel\, camping bedroll). Rooftop is made up of stone tiles. Also be sure to bring a water bottle and sunscreen – there is little to no shade on the rooftop. \nWilliam T. Evjue Rooftop Gardens\, Monona Terrace\n(if inclement weather\, event will be moved inside) \nInstructor\nJoan Herzing is an RYT-500. She has completed programs with 21st Century Yoga on the Mat and the RajaHatha school of yoga. She is a Reiki Master\, and trained in Sound Healing\, Aromatherapy\, Pranayama\, Meditation\, Yin Yoga and Yoga Nidra. In her classes\, expect dynamic movement\, breathwork\, meditation\, and a physical challenge adaptable for multiple levels. Her goal is for students to leave feeling lighter and stronger physically\, emotionally and spiritually.
URL:https://bravamagazine.com/event/rooftop-yoga-7/
LOCATION:Monona Terrace Community & Convention Center\, 1 John Nolen Drive\, Madison\, WI\, 53705\, Select a Country:
CATEGORIES:Community Event
ATTACH;FMTTYPE=image/jpeg:https://bravamagazine.com/wp-content/uploads/2025/05/DestinationMadisonCalendarRooftopYoga-7-1.jpg
ORGANIZER;CN="Monona Terrace Community and Convention Center":MAILTO:fpuleo@mononaterrace.com
END:VEVENT
BEGIN:VEVENT
DTSTART;TZID=UTC:20250717T180000
DTEND;TZID=UTC:20250717T190000
DTSTAMP:20260419T075207
CREATED:20250702T010523Z
LAST-MODIFIED:20250702T010523Z
UID:80021-1752775200-1752778800@bravamagazine.com
SUMMARY:Every Day Counts [Virtual]
DESCRIPTION:Lifestyle and Metastatic Breast Cancer: What Do We Know? What Do We Need to Know? This event will provide information on lifestyle and metastatic breast cancer\, as well as review results of a recent study carried out by researchers at the Medical College of Wisconsin and Loyola University Chicago. Dr. Melinda Stolley is a clinical psychologist and lifestyle medicine researcher at the Medical College of Wisconsin. Dr. Patricia Sheean is a nutrition scientist and registered dietitian at Loyola University Chicago. They work together to develop and test lifestyle programs for cancer survivors. Their most recent program\, Every Day Counts\, was developed with and for women with metastatic breast cancer with the goal of building strength\, reducing fatigue and improving overall quality of life.
URL:https://bravamagazine.com/event/every-day-counts-virtual/
LOCATION:Gilda’s Club Madison\, 7907 UW Health Court\, Middleton\, 53562\, United States
CATEGORIES:Community Event
ATTACH;FMTTYPE=image/jpeg:https://bravamagazine.com/wp-content/uploads/2025/07/Melinda-Stolley.jpg
ORGANIZER;CN="Gilda's Club Madison":MAILTO:lannia@gildasclubmadison.org
END:VEVENT
BEGIN:VEVENT
DTSTART;TZID=America/New_York:20250726T090000
DTEND;TZID=America/New_York:20250727T163000
DTSTAMP:20260419T075207
CREATED:20250313T023341Z
LAST-MODIFIED:20250313T023341Z
UID:52716-1753520400-1753633800@bravamagazine.com
SUMMARY:Wild Foods\, Wild Medicine: 2-day Immersion
DESCRIPTION:Join us for this two-day immersion\, focusing on the plants that grow around us. \nDay 1 will focus on herbs and wild food for nourishment. We will learn to identify\, harvest\, and prepare the plants that promote and build health. As part of this day\, we will prepare a wild/herbal/whole food lunch. Lunch preparation will be part of the learning experience. \nDay 2 will focus on herbal medicine. We will take a wild plant walk\, learning to identify medicinal plants that grow around us. We will talk about ways to differentiate the nourishing and the medicinal herbs as well as how to best prepare them for optimal benefit. As part of this walk\, we will learn to engage our senses to explore plant qualities. Lunch will be served and will include wild/herb/whole foods. The later part of the day will be spent making herbal medicines that participants will be able to take home. \nThis will be a fun and full weekend. Everyone will leave with nourishing and medicinal herbal preparations that can be used at home. Come prepared to be fully immersed in the plant world! \nLunch will be provided both days. \nAges: 12+ \nClick the link to learn more and sign-up
URL:https://bravamagazine.com/event/wild-foods-wild-medicine-2-day-immersion/
LOCATION:Driftless Folk School\, Edgerton\, WI\, United States
CATEGORIES:Community Event
ATTACH;FMTTYPE=image/jpeg:https://bravamagazine.com/wp-content/uploads/2025/03/Wild-Foods-Wild-Med-2-Day-Immersion-FB-Event-July-26-27.jpg
ORGANIZER;CN="Moonwise Herbs":MAILTO:rosemarygoddess@moonwiseherbs.com
END:VEVENT
BEGIN:VEVENT
DTSTART;TZID=UTC:20250729T080000
DTEND;TZID=UTC:20250729T170000
DTSTAMP:20260419T075207
CREATED:20250801T204556Z
LAST-MODIFIED:20250801T204556Z
UID:80988-1753776000-1753808400@bravamagazine.com
SUMMARY:Yin Yoga
DESCRIPTION:Yin Yoga w/ Kari \nGive yourself permission to slow down. This deeply nourishing practice invites you to settle into floor-based postures held for 3–5 minutes\, gently targeting the fascia and connective tissues. Through stillness and breath\, Yin Yoga helps release tension\, calm the nervous system\, and create space—physically and energetically—for rest and renewal. \nWhen: Sundays 6:30-7:30pm\nWhere: Ether Wellness | 25 N Pinckney St. Ste 310\, Madison\, WI\nCost: Non-Members = $22/class (4 class pack = $19/class) | Members = Free (view our website to find out more about our memberships: https://etherwellnessmadison.com/studio/ \nRegister at least 2 hours in advance: https://etherwellnessmadison.buzops.com/YinYoga
URL:https://bravamagazine.com/event/yin-yoga/
LOCATION:Ether Wellness\, 25 N Pinckney St. Ste 310\, Madison\, WI\, 53703\, United States
CATEGORIES:Community Event
ATTACH;FMTTYPE=image/png:https://bravamagazine.com/wp-content/uploads/2025/07/icon-purple.png
END:VEVENT
BEGIN:VEVENT
DTSTART;TZID=UTC:20250731T123000
DTEND;TZID=UTC:20250731T130000
DTSTAMP:20260419T075207
CREATED:20250801T204556Z
LAST-MODIFIED:20250801T204556Z
UID:81001-1753965000-1753966800@bravamagazine.com
SUMMARY:Cancer Support Services through Gilda’s Club Madison [Virtual]
DESCRIPTION:Have you or someone you loved been given a cancer diagnosis? Are you looking for a space to connect with others who understand? \nJoin Gilda’s Club for a group New Member Meeting delivered on Zoom. \nThis meeting will discuss the resources we have to offer and get you started as a Gilda’s Club member. \n*If you do not wish to meet in a group setting\, please email program@gildasclubmadison.org to schedule an individual New Member Meeting. \nQuestions? Please email program@gildasclubmadison.org or call 608-828-8880.
URL:https://bravamagazine.com/event/cancer-support-services-through-gildas-club-madison-virtual-13/
LOCATION:Gilda’s Club Madison\, 7907 UW Health Court\, Middleton\, 53562\, United States
CATEGORIES:Community Event
ATTACH;FMTTYPE=image/jpeg:https://bravamagazine.com/wp-content/uploads/2025/07/GCM_Logo_Sq-1-Copy.jpg
ORGANIZER;CN="Gilda's Club Madison":MAILTO:lannia@gildasclubmadison.org
END:VEVENT
END:VCALENDAR