BEGIN:VCALENDAR
VERSION:2.0
PRODID:-//BRAVA Magazine - ECPv6.15.20//NONSGML v1.0//EN
CALSCALE:GREGORIAN
METHOD:PUBLISH
X-ORIGINAL-URL:https://bravamagazine.com
X-WR-CALDESC:Events for BRAVA Magazine
REFRESH-INTERVAL;VALUE=DURATION:PT1H
X-Robots-Tag:noindex
X-PUBLISHED-TTL:PT1H
BEGIN:VTIMEZONE
TZID:America/Chicago
BEGIN:DAYLIGHT
TZOFFSETFROM:-0600
TZOFFSETTO:-0500
TZNAME:CDT
DTSTART:20240310T080000
END:DAYLIGHT
BEGIN:STANDARD
TZOFFSETFROM:-0500
TZOFFSETTO:-0600
TZNAME:CST
DTSTART:20241103T070000
END:STANDARD
BEGIN:DAYLIGHT
TZOFFSETFROM:-0600
TZOFFSETTO:-0500
TZNAME:CDT
DTSTART:20250309T080000
END:DAYLIGHT
BEGIN:STANDARD
TZOFFSETFROM:-0500
TZOFFSETTO:-0600
TZNAME:CST
DTSTART:20251102T070000
END:STANDARD
BEGIN:DAYLIGHT
TZOFFSETFROM:-0600
TZOFFSETTO:-0500
TZNAME:CDT
DTSTART:20260308T080000
END:DAYLIGHT
BEGIN:STANDARD
TZOFFSETFROM:-0500
TZOFFSETTO:-0600
TZNAME:CST
DTSTART:20261101T070000
END:STANDARD
END:VTIMEZONE
BEGIN:VTIMEZONE
TZID:UTC
BEGIN:STANDARD
TZOFFSETFROM:+0000
TZOFFSETTO:+0000
TZNAME:UTC
DTSTART:20240101T000000
END:STANDARD
END:VTIMEZONE
BEGIN:VEVENT
DTSTART;TZID=America/Chicago:20250419T130000
DTEND;TZID=America/Chicago:20250419T170000
DTSTAMP:20260419T130945
CREATED:20250122T235730Z
LAST-MODIFIED:20250122T235730Z
UID:51467-1745067600-1745082000@bravamagazine.com
SUMMARY:Herbs for Topical Applications: Salves\, Lotions\, and More!
DESCRIPTION:Join herbalist Linda Conroy for this fun and inspiring class to learn about topical applications of herbs. We will cover skin healing\, relieving pain\, moisturizing and much more! In the hands-on portion we will make infused oils\, lotions and salves that everyone will take home.
URL:https://bravamagazine.com/event/herbs-for-topical-applications-salves-lotions-and-more/
LOCATION:Olbrich Botanical Gardens\, 3330 Atwood Ave.\, Madison\, 53704\, United States
CATEGORIES:Community Event
ATTACH;FMTTYPE=image/jpeg:https://bravamagazine.com/wp-content/uploads/2025/01/27.jpg
ORGANIZER;CN="Moonwise Herbs":MAILTO:rosemarygoddess@moonwiseherbs.com
END:VEVENT
BEGIN:VEVENT
DTSTART;TZID=UTC:20250421T113000
DTEND;TZID=UTC:20250421T120000
DTSTAMP:20260419T130945
CREATED:20250313T204611Z
LAST-MODIFIED:20250313T204611Z
UID:52756-1745235000-1745236800@bravamagazine.com
SUMMARY:Cancer Support Services through Gilda’s Club Madison [Virtual]
DESCRIPTION:Have you or someone you loved been given a cancer diagnosis? Are you looking for a space to connect with others who understand? \nJoin Gilda’s Club for a group New Member Meeting delivered on Zoom. \nThis meeting will discuss the resources we have to offer and get you started as a Gilda’s Club member. \n*If you do not wish to meet in a group setting\, please email program@gildasclubmadison.org to schedule an individual New Member Meeting. \nQuestions? Please email program@gildasclubmadison.org or call 608-828-8880.
URL:https://bravamagazine.com/event/cancer-support-services-through-gildas-club-madison-virtual-6/
LOCATION:Virtual
CATEGORIES:Community Event
ATTACH;FMTTYPE=image/jpeg:https://bravamagazine.com/wp-content/uploads/2025/03/GCM_Logo_Sq-1-Copy-5.jpg
ORGANIZER;CN="Gilda's Club Madison":MAILTO:lannia@gildasclubmadison.org
END:VEVENT
BEGIN:VEVENT
DTSTART;TZID=UTC:20250424T130000
DTEND;TZID=UTC:20250424T140000
DTSTAMP:20260419T130945
CREATED:20250408T201341Z
LAST-MODIFIED:20250408T201341Z
UID:53338-1745499600-1745503200@bravamagazine.com
SUMMARY:Masterclass:  Writing Out Your Worries: A 3-Step Process for Mental Relief.
DESCRIPTION:Ever feel like your worries are running the show? Your mind keeps spinning\, stress piles up\, and no matter what you do\, you can’t seem to shake the mental clutter? \n✨ Imagine if you had a simple\, 3-step process to clear your head\, release stress\, and actually feel lighter in just minutes. \nThat’s exactly what we’ll do in my upcoming Masterclass: \nWriting Out Your Worries: A 3-Step Process for Mental Relief. \n📌 What You’ll Learn:\n✅ A powerful way to release the thoughts weighing you down\n✅ How to sort & solve the worries that actually matter\n✅ A simple shift to rewire your mind for ease & clarity \n💡 In just 60 minutes\, you’ll walk away with a clear mind\, less stress\, and a new sense of calm. \nLast half of class is reserved for open Q&A and Coaching\, please feel free to come to the masterclass with something in mind to support help with on the call. \nI look forward to seeing you there!
URL:https://bravamagazine.com/event/masterclass-writing-out-your-worries-a-3-step-process-for-mental-relief/
LOCATION:WI
ATTACH;FMTTYPE=image/jpeg:https://bravamagazine.com/wp-content/uploads/2025/04/linkedIn-thumbnail-for-feature-section-22.jpg
END:VEVENT
BEGIN:VEVENT
DTSTART;TZID=UTC:20250426T103000
DTEND;TZID=UTC:20250426T123000
DTSTAMP:20260419T130945
CREATED:20250409T010553Z
LAST-MODIFIED:20250409T010553Z
UID:53435-1745663400-1745670600@bravamagazine.com
SUMMARY:Hereditary Cancer: Causes\, Clues & a Call to Action
DESCRIPTION:In this presentation Katie Vine\, from Genetic Support Foundation will provide an overview of genetic counselors\, explaining their role and expertise. We will also differentiate between hereditary and sporadic cancers\, discuss when it’s appropriate to consult a genetic counselor\, and outline what to expect during a genetic counseling appointment. \nWhat’s the benefit?: The benefits of this talk include gaining a clearer understanding of the role of genetic counselors and how they can assist in managing cancer risk. Attendees will learn to distinguish between hereditary and sporadic cancers\, helping to identify when genetic counseling may be beneficial. By outlining what to expect from a genetic counseling appointment\, this talk will help individuals feel more confident and prepared when meeting with a genetic counselor.
URL:https://bravamagazine.com/event/hereditary-cancer-causes-clues-a-call-to-action/
LOCATION:Gilda’s Club Madison\, 7907 UW Health Court\, Middleton\, 53562\, United States
CATEGORIES:Community Event
ATTACH;FMTTYPE=image/jpeg:https://bravamagazine.com/wp-content/uploads/2025/04/GCM_Logo_Sq-1-Copy.jpg
ORGANIZER;CN="Gilda's Club Madison":MAILTO:lannia@gildasclubmadison.org
END:VEVENT
BEGIN:VEVENT
DTSTART;TZID=UTC:20250426T103000
DTEND;TZID=UTC:20250426T123000
DTSTAMP:20260419T130945
CREATED:20250423T173730Z
LAST-MODIFIED:20250423T173730Z
UID:53712-1745663400-1745670600@bravamagazine.com
SUMMARY:El Cáncer Hereditario: Causas\, Señales y un Llamado a la Acción (Abierto a todos)
DESCRIPTION:En esta presentación\, proporcionaremos una visión general de los consejeros genéticos\, explicando su papel y conocimiento especializado. También conversaremos acerca de las diferencias entre los cánceres hereditarios y esporádicos\, cuándo es apropiado consultar con un asesor genético y qué esperar durante una cita de asesoramiento genético. \nLos beneficios de esta charla incluyen entender cuál es el papel de los consejeros genéticos y cómo nos pueden ayudar a determinar el riesgo de cáncer. Los participantes aprenderán a distinguir entre los cánceres hereditarios y esporádicos\, lo que ayudará a identificar cuándo el asesoramiento genético puede ser beneficioso. Aprendiendo acerca de qué esperar de una cita de asesoramiento genético\, esta charla ayudará a las personas a sentirse más seguras y preparadas cuando tengan que reunirse con un consejero genético.
URL:https://bravamagazine.com/event/el-cancer-hereditario-causas-senales-y-un-llamado-a-la-accion-abierto-a-todos/
LOCATION:Gilda’s Club Madison\, 7907 UW Health Court\, Middleton\, 53562\, United States
CATEGORIES:Community Event
ATTACH;FMTTYPE=image/jpeg:https://bravamagazine.com/wp-content/uploads/2025/04/GCM_Logo_Sq-1-Copy-3.jpg
ORGANIZER;CN="Gilda's Club Madison":MAILTO:lannia@gildasclubmadison.org
END:VEVENT
BEGIN:VEVENT
DTSTART;TZID=UTC:20250430T090000
DTEND;TZID=UTC:20250430T150000
DTSTAMP:20260419T130945
CREATED:20250423T173753Z
LAST-MODIFIED:20250423T173753Z
UID:53720-1746003600-1746025200@bravamagazine.com
SUMMARY:All of Us Enrollment Event (PUBLIC)
DESCRIPTION:ALL OF US IS A RESEARCH PROGRAM FROM THE NATIONAL INSTITUTES OF HEALTH (NIH). It is seeking one million or more people from across the U.S. to help speed up medical research. People who join will share information about their health\, habits\, and what it’s like where they live. By looking for patterns\, researchers will learn more about what affects people’s health. Learn more at https://allofus.wisc.edu/ This is your opportunity to be part of a big picture.
URL:https://bravamagazine.com/event/all-of-us-enrollment-event-public/
LOCATION:Gilda’s Club Madison\, 7907 UW Health Court\, Middleton\, 53562\, United States
CATEGORIES:Community Event
ATTACH;FMTTYPE=image/png:https://bravamagazine.com/wp-content/uploads/2025/04/GC_MADISON-NewVertical-Digital_RGB-transparent-background.png
ORGANIZER;CN="Gilda's Club Madison":MAILTO:lannia@gildasclubmadison.org
END:VEVENT
BEGIN:VEVENT
DTSTART;TZID=UTC:20250430T173000
DTEND;TZID=UTC:20250430T193000
DTSTAMP:20260419T130945
CREATED:20250409T010640Z
LAST-MODIFIED:20250409T010640Z
UID:53440-1746034200-1746041400@bravamagazine.com
SUMMARY:Spring Social and Volunteer Appreciation
DESCRIPTION:You\, your family and friends are invited to Gilda’s Spring Social and Volunteer Appreciation! Join us in the backyard for music\, activities\, art\, games\, snacks\, character appearances from A Moment of Magic\, and fun for all ages. \n***This event will be held rain or shine. In the event of inclement weather\, we’ll have these activities indoors. \nQuestions? Email elizabeth@gildasclubmadison.org or call 608-828-8880.
URL:https://bravamagazine.com/event/spring-social-and-volunteer-appreciation/
LOCATION:Gilda’s Club Madison\, 7907 UW Health Court\, Middleton\, 53562\, United States
CATEGORIES:Community Event,Kid-Friendly Event
ATTACH;FMTTYPE=image/jpeg:https://bravamagazine.com/wp-content/uploads/2025/04/Spring-Social-image.jpg
ORGANIZER;CN="Gilda's Club Madison":MAILTO:lannia@gildasclubmadison.org
END:VEVENT
END:VCALENDAR