BEGIN:VCALENDAR
VERSION:2.0
PRODID:-//BRAVA Magazine - ECPv6.15.20//NONSGML v1.0//EN
CALSCALE:GREGORIAN
METHOD:PUBLISH
X-WR-CALNAME:BRAVA Magazine
X-ORIGINAL-URL:https://bravamagazine.com
X-WR-CALDESC:Events for BRAVA Magazine
REFRESH-INTERVAL;VALUE=DURATION:PT1H
X-Robots-Tag:noindex
X-PUBLISHED-TTL:PT1H
BEGIN:VTIMEZONE
TZID:UTC
BEGIN:STANDARD
TZOFFSETFROM:+0000
TZOFFSETTO:+0000
TZNAME:UTC
DTSTART:20240101T000000
END:STANDARD
END:VTIMEZONE
BEGIN:VEVENT
DTSTART;TZID=UTC:20250823T093000
DTEND;TZID=UTC:20250823T113000
DTSTAMP:20260420T184153
CREATED:20250715T005754Z
LAST-MODIFIED:20250715T005754Z
UID:80555-1755941400-1755948600@bravamagazine.com
SUMMARY:Grow and Gather: Eat the Weeds!
DESCRIPTION:Tired of fighting all those garden weeds? Good news – you can eat them! \nJoin us in the Kitchen Garden at Taliesin with Taliesin Preservation’s Kitchen Gardener\, Abbie Lehman\, to learn what weeds in your garden are delicious and nutritious. Learn about companion planting and how some weeds can actually benefit your garden when managed properly. \nWe will also discuss the importance of understanding native vs invasive weeds\, and how our gardening affects the greater ecosystem. Participants will tour the Kitchen Garden at Taliesin and have the opportunity to sample the weeds and the garden produce. \nBring a tote bag or basket to take home some garden goodies!
URL:https://bravamagazine.com/event/grow-and-gather-eat-the-weeds/
LOCATION:Frank Lloyd Wright Visitor Center\, 5607 County Rd\, Spring Green8\, WI\, 53588\, United States
CATEGORIES:Community Event
ATTACH;FMTTYPE=image/jpeg:https://bravamagazine.com/wp-content/uploads/2025/07/eat-the-weeds-3.jpg
ORGANIZER;CN="Taliesin Preservation":MAILTO:enews@taliesinpreservation.org
END:VEVENT
END:VCALENDAR