BEGIN:VCALENDAR
VERSION:2.0
PRODID:-//BRAVA Magazine - ECPv6.15.20//NONSGML v1.0//EN
CALSCALE:GREGORIAN
METHOD:PUBLISH
X-ORIGINAL-URL:https://bravamagazine.com
X-WR-CALDESC:Events for BRAVA Magazine
REFRESH-INTERVAL;VALUE=DURATION:PT1H
X-Robots-Tag:noindex
X-PUBLISHED-TTL:PT1H
BEGIN:VTIMEZONE
TZID:UTC
BEGIN:STANDARD
TZOFFSETFROM:+0000
TZOFFSETTO:+0000
TZNAME:UTC
DTSTART:20240101T000000
END:STANDARD
END:VTIMEZONE
BEGIN:VEVENT
DTSTART;TZID=UTC:20250719T093000
DTEND;TZID=UTC:20250719T123000
DTSTAMP:20260420T203949
CREATED:20250610T072625Z
LAST-MODIFIED:20250610T072625Z
UID:66857-1752917400-1752928200@bravamagazine.com
SUMMARY:Grow and Gather: Companion Planting
DESCRIPTION:Companion planting is at the center of any good organic gardening plan. Join Kitchen Gardener\, Abbie Lehman\, in the Kitchen Garden at Taliesin to learn how to harness the power of companion planting and create a happier and healthier garden! \nWe will discuss common plant companionships\, as well as common plant families to better understand their relationships. Learn how companion planting and good planning can help naturally repel pests\, attract beneficial natural enemies\, and help prevent disease.
URL:https://bravamagazine.com/event/grow-and-gather-companion-planting/
LOCATION:Frank Lloyd Wright Visitor Center\, 5607 County Rd\, Spring Green8\, WI\, 53588\, United States
CATEGORIES:Community Event
ATTACH;FMTTYPE=image/jpeg:https://bravamagazine.com/wp-content/uploads/2025/06/companion-type-3.jpg
ORGANIZER;CN="Taliesin Preservation":MAILTO:enews@taliesinpreservation.org
END:VEVENT
END:VCALENDAR