BEGIN:VCALENDAR
VERSION:2.0
PRODID:-//BRAVA Magazine - ECPv6.15.20//NONSGML v1.0//EN
CALSCALE:GREGORIAN
METHOD:PUBLISH
X-ORIGINAL-URL:https://bravamagazine.com
X-WR-CALDESC:Events for BRAVA Magazine
REFRESH-INTERVAL;VALUE=DURATION:PT1H
X-Robots-Tag:noindex
X-PUBLISHED-TTL:PT1H
BEGIN:VTIMEZONE
TZID:America/Chicago
BEGIN:DAYLIGHT
TZOFFSETFROM:-0600
TZOFFSETTO:-0500
TZNAME:CDT
DTSTART:20250309T080000
END:DAYLIGHT
BEGIN:STANDARD
TZOFFSETFROM:-0500
TZOFFSETTO:-0600
TZNAME:CST
DTSTART:20251102T070000
END:STANDARD
BEGIN:DAYLIGHT
TZOFFSETFROM:-0600
TZOFFSETTO:-0500
TZNAME:CDT
DTSTART:20260308T080000
END:DAYLIGHT
BEGIN:STANDARD
TZOFFSETFROM:-0500
TZOFFSETTO:-0600
TZNAME:CST
DTSTART:20261101T070000
END:STANDARD
BEGIN:DAYLIGHT
TZOFFSETFROM:-0600
TZOFFSETTO:-0500
TZNAME:CDT
DTSTART:20270314T080000
END:DAYLIGHT
BEGIN:STANDARD
TZOFFSETFROM:-0500
TZOFFSETTO:-0600
TZNAME:CST
DTSTART:20271107T070000
END:STANDARD
END:VTIMEZONE
BEGIN:VEVENT
DTSTART;TZID=America/Chicago:20260321T083000
DTEND;TZID=America/Chicago:20260321T120000
DTSTAMP:20260420T052236
CREATED:20260204T202852Z
LAST-MODIFIED:20260204T202852Z
UID:169806-1774081800-1774094400@bravamagazine.com
SUMMARY:Introduction to Permaculture Design
DESCRIPTION:Permaculture is a design process that uses ecological principles to create healthy and resilient food systems and communities. In this interactive workshop\, you will learn about permaculture basics\, what are ecological and permaculture principles\, and how these principles are applied to garden design. You will also learn organic garden techniques (including from the Kitchen Garden at Taliesin) that can be adapted to your property. Learn new ideas to get your gardens ready for spring!
URL:https://bravamagazine.com/event/introduction-to-permaculture-design/
LOCATION:Frank Lloyd Wright Visitor Center\, 5607 County Rd\, Spring Green8\, WI\, 53588\, United States
CATEGORIES:Community Event
ATTACH;FMTTYPE=image/jpeg:https://bravamagazine.com/wp-content/uploads/2026/02/Community-Calendars-Type-3-800x400-5.jpg
ORGANIZER;CN="Taliesin Preservation":MAILTO:enews@taliesinpreservation.org
END:VEVENT
END:VCALENDAR