BEGIN:VCALENDAR
VERSION:2.0
PRODID:-//BRAVA Magazine - ECPv6.15.20//NONSGML v1.0//EN
CALSCALE:GREGORIAN
METHOD:PUBLISH
X-ORIGINAL-URL:https://bravamagazine.com
X-WR-CALDESC:Events for BRAVA Magazine
REFRESH-INTERVAL;VALUE=DURATION:PT1H
X-Robots-Tag:noindex
X-PUBLISHED-TTL:PT1H
BEGIN:VTIMEZONE
TZID:UTC
BEGIN:STANDARD
TZOFFSETFROM:+0000
TZOFFSETTO:+0000
TZNAME:UTC
DTSTART:20240101T000000
END:STANDARD
END:VTIMEZONE
BEGIN:VEVENT
DTSTART;TZID=UTC:20250621T093000
DTEND;TZID=UTC:20250621T123000
DTSTAMP:20260420T203451
CREATED:20250501T195940Z
LAST-MODIFIED:20250501T195940Z
UID:54677-1750498200-1750509000@bravamagazine.com
SUMMARY:Grow and Gather: Garden Propagation with Abbie Lehman
DESCRIPTION:Join Kitchen Gardener\, Abbie Lehman\, in the Kitchen Garden at Taliesin to learn all about the power of propagation\, and how it can help you share and extend the life of your garden bounty! \nBeginning with the basics of plant biology and seed anatomy\, learn how to best propagate different plants in the garden. Participants will go home with a genetic clone of a plant grown on the Taliesin estate!
URL:https://bravamagazine.com/event/grow-and-gather-garden-propagation-with-abbie-lehman/
LOCATION:Taliesin Preservation\, 5607 County Road C\, Spring Green\, WI\, United States
CATEGORIES:Community Event
ATTACH;FMTTYPE=image/jpeg:https://bravamagazine.com/wp-content/uploads/2025/05/prop-type-3.jpg
ORGANIZER;CN="Taliesin Preservation":MAILTO:enews@taliesinpreservation.org
END:VEVENT
END:VCALENDAR