BEGIN:VCALENDAR
VERSION:2.0
PRODID:-//BRAVA Magazine - ECPv6.15.20//NONSGML v1.0//EN
CALSCALE:GREGORIAN
METHOD:PUBLISH
X-WR-CALNAME:BRAVA Magazine
X-ORIGINAL-URL:https://bravamagazine.com
X-WR-CALDESC:Events for BRAVA Magazine
REFRESH-INTERVAL;VALUE=DURATION:PT1H
X-Robots-Tag:noindex
X-PUBLISHED-TTL:PT1H
BEGIN:VTIMEZONE
TZID:America/Chicago
BEGIN:DAYLIGHT
TZOFFSETFROM:-0600
TZOFFSETTO:-0500
TZNAME:CDT
DTSTART:20250309T080000
END:DAYLIGHT
BEGIN:STANDARD
TZOFFSETFROM:-0500
TZOFFSETTO:-0600
TZNAME:CST
DTSTART:20251102T070000
END:STANDARD
BEGIN:DAYLIGHT
TZOFFSETFROM:-0600
TZOFFSETTO:-0500
TZNAME:CDT
DTSTART:20260308T080000
END:DAYLIGHT
BEGIN:STANDARD
TZOFFSETFROM:-0500
TZOFFSETTO:-0600
TZNAME:CST
DTSTART:20261101T070000
END:STANDARD
BEGIN:DAYLIGHT
TZOFFSETFROM:-0600
TZOFFSETTO:-0500
TZNAME:CDT
DTSTART:20270314T080000
END:DAYLIGHT
BEGIN:STANDARD
TZOFFSETFROM:-0500
TZOFFSETTO:-0600
TZNAME:CST
DTSTART:20271107T070000
END:STANDARD
END:VTIMEZONE
BEGIN:VEVENT
DTSTART;TZID=America/Chicago:20260420T080000
DTEND;TZID=America/Chicago:20260420T170000
DTSTAMP:20260419T160449
CREATED:20260324T204009Z
LAST-MODIFIED:20260324T204009Z
UID:198156-1776672000-1776704400@bravamagazine.com
SUMMARY:Cancer Support Services at Gilda’s Club Wisconsin [In-Person]
DESCRIPTION:Have you or someone you loved been given a cancer diagnosis? Are you looking for a space to connect with others who understand? \nJoin us for an in person group new member meeting. We’ll take some time to talk about the resources available at Gilda’s Club Wisconsin\, then take a short tour of the clubhouse. \nMeet at the Clubhouse located at 7907 UW Ct\, Middleton\, WI.
URL:https://bravamagazine.com/event/cancer-support-services-at-gildas-club-wisconsin-in-person-6/
LOCATION:Gilda’s Club Wisconsin\, 7907 UW Health Ct\, Middleton\, WI\, 53562\, United States
CATEGORIES:Community Event
ATTACH;FMTTYPE=image/jpeg:https://bravamagazine.com/wp-content/uploads/2026/03/NMM-3.jpg
ORGANIZER;CN="Gilda's Club Wisconsin":MAILTO:gabe@gildasclubwi.org
END:VEVENT
BEGIN:VEVENT
DTSTART;TZID=America/Chicago:20260422T113000
DTEND;TZID=America/Chicago:20260422T120000
DTSTAMP:20260419T160449
CREATED:20260324T204009Z
LAST-MODIFIED:20260324T204009Z
UID:198140-1776857400-1776859200@bravamagazine.com
SUMMARY:Cancer Support Services through Gilda’s Club Wisconsin [Virtual]
DESCRIPTION:Have you or someone you loved been given a cancer diagnosis? Are you looking for a space to connect with others who understand? \nJoin Gilda’s Club for a group New Member Meeting delivered on Zoom. \nThis meeting will discuss the resources we have to offer and get you started as a Gilda’s Club member. \n*If you do not wish to meet in a group setting\, please email program@gildasclubmadison.org to schedule an individual New Member Meeting. \nQuestions? Please email program@gildasclubmadison.org or call 608-828-8880.
URL:https://bravamagazine.com/event/cancer-support-services-through-gildas-club-wisconsin-virtual-9/
LOCATION:Gilda’s Club Wisconsin\, 7907 UW Health Ct\, Middleton\, WI\, 53562\, United States
CATEGORIES:Community Event
ATTACH;FMTTYPE=image/jpeg:https://bravamagazine.com/wp-content/uploads/2026/03/NMM-1.jpg
ORGANIZER;CN="Gilda's Club Wisconsin":MAILTO:gabe@gildasclubwi.org
END:VEVENT
BEGIN:VEVENT
DTSTART;TZID=America/Chicago:20260422T140000
DTEND;TZID=America/Chicago:20260422T170000
DTSTAMP:20260419T160449
CREATED:20260225T202309Z
LAST-MODIFIED:20260225T202309Z
UID:181840-1776866400-1776877200@bravamagazine.com
SUMMARY:Earth Day Volunteer Extravaganza
DESCRIPTION:Join Dane County Parks staff for an Earth Day Extravaganza \nWe will have volunteer shifts for a number of activities including tree planting\, native plant transplanting\, and more. Please sign up in advance if you would like to help with one of these volunteer activities. An outdoor wheelchair will be available for use by volunteers (must request using the instructions below). \nSign up: https://app.betterimpact.com/PublicOrganization/882526a6-20c8-475d-8ddc-1b4bb6136c2f/ActivityCategory/245155/1 \nAccessibility and Language Access:\nOur department is committed to providing meaningful access to our programs and resources to all individuals\, regardless of primary language or ability. If you need language assistance services or an accessibility modification for this event\, including reserving our all-terrain wheelchair\, please submit this request form a minimum of 10 business days before the event. Please note\, it is not possible for all activities to be modified
URL:https://bravamagazine.com/event/earth-day-volunteer-extravaganza/
LOCATION:lussier family heritage center\, 3101 Lake Farm Rd\, Madison\, WI\, 53711\, United States
ATTACH;FMTTYPE=image/jpeg:https://bravamagazine.com/wp-content/uploads/2026/02/Facebook-Event-Covers-3.jpg
END:VEVENT
BEGIN:VEVENT
DTSTART;TZID=America/Chicago:20260426T123000
DTEND;TZID=America/Chicago:20260426T140000
DTSTAMP:20260419T160449
CREATED:20260414T135615Z
LAST-MODIFIED:20260414T135615Z
UID:220435-1777206600-1777212000@bravamagazine.com
SUMMARY:FREE Sunday Ballet Class
DESCRIPTION:Come dance with us and give Central Midwest Ballet’s classes a try! \nOpen to all dancers ages 11+ including adults. These FREE classes will be taught by CMB faculty members at an intermediate to advanced level. There is no dress code and the doors will open 20 minutes before class begins. Class is completely free\, but please register ahead of time so we know how many to expect. \nSunday\, April 26\n12:30 – 2:00pm \nSunday\, May 31\n12:30 – 2:00pm \nRegistration Link\nhttps://www.cmballet.org/free-sunday-classes
URL:https://bravamagazine.com/event/free-sunday-ballet-class-3/
LOCATION:Central Midwest Ballet Academy\, 2831 Parmenter Street\, Middleton\, WI\, 53562\, United States
CATEGORIES:Community Event,Kid-Friendly Event
ATTACH;FMTTYPE=image/jpeg:https://bravamagazine.com/wp-content/uploads/2026/04/Free-Sunday-Ballet-1200-X-840.jpg
ORGANIZER;CN="Central Midwest Ballet Academy":MAILTO:mluksik@cmballet.org
END:VEVENT
BEGIN:VEVENT
DTSTART;TZID=America/Chicago:20260428T163000
DTEND;TZID=America/Chicago:20260428T170000
DTSTAMP:20260419T160449
CREATED:20260324T204009Z
LAST-MODIFIED:20260324T204009Z
UID:198147-1777393800-1777395600@bravamagazine.com
SUMMARY:Cancer Support Services through Gilda’s Club Wisconsin [Virtual]
DESCRIPTION:Have you or someone you loved been given a cancer diagnosis? Are you looking for a space to connect with others who understand? \nJoin Gilda’s Club for a group New Member Meeting delivered on Zoom. \nThis meeting will discuss the resources we have to offer and get you started as a Gilda’s Club member. \n*If you do not wish to meet in a group setting\, please email program@gildasclubmadison.org to schedule an individual New Member Meeting. \nQuestions? Please email program@gildasclubmadison.org or call 608-828-8880.
URL:https://bravamagazine.com/event/cancer-support-services-through-gildas-club-wisconsin-virtual-10/
LOCATION:Gilda’s Club Wisconsin\, 7907 UW Health Ct\, Middleton\, WI\, 53562\, United States
CATEGORIES:Community Event
ATTACH;FMTTYPE=image/jpeg:https://bravamagazine.com/wp-content/uploads/2026/03/NMM-2.jpg
ORGANIZER;CN="Gilda's Club Wisconsin":MAILTO:gabe@gildasclubwi.org
END:VEVENT
BEGIN:VEVENT
DTSTART;TZID=America/Chicago:20260429T160000
DTEND;TZID=America/Chicago:20260429T170000
DTSTAMP:20260419T160449
CREATED:20260324T204009Z
LAST-MODIFIED:20260324T204009Z
UID:198163-1777478400-1777482000@bravamagazine.com
SUMMARY:Cancer Support Services at Gilda’s Club Wisconsin [In-Person]
DESCRIPTION:Have you or someone you loved been given a cancer diagnosis? Are you looking for a space to connect with others who understand? \nJoin us for an in person group new member meeting. We’ll take some time to talk about the resources available at Gilda’s Club Wisconsin\, then take a short tour of the clubhouse. \nMeet at the Clubhouse located at 7907 UW Ct\, Middleton\, WI.
URL:https://bravamagazine.com/event/cancer-support-services-at-gildas-club-wisconsin-in-person-7/
LOCATION:Gilda’s Club Wisconsin\, 7907 UW Health Ct\, Middleton\, WI\, 53562\, United States
CATEGORIES:Community Event
ATTACH;FMTTYPE=image/jpeg:https://bravamagazine.com/wp-content/uploads/2026/03/NMM-4.jpg
ORGANIZER;CN="Gilda's Club Wisconsin":MAILTO:gabe@gildasclubwi.org
END:VEVENT
BEGIN:VEVENT
DTSTART;TZID=America/Chicago:20260430T180000
DTEND;TZID=America/Chicago:20260430T193000
DTSTAMP:20260419T160449
CREATED:20260324T204009Z
LAST-MODIFIED:20260324T204009Z
UID:198172-1777572000-1777577400@bravamagazine.com
SUMMARY:Monkey Business Institute Improv
DESCRIPTION:Monkey Business Institute (MBI) is Madison’s favorite improv comedy company\, made up of seasoned performers who have been creating laughter and connection in our community for 20+ years. We believe—just like Gilda’s Club—that laughter is powerful\, healing\, and best enjoyed in a space where everyone feels welcome\, respected\, and safe. \nEach MBI show is completely custom\, inspired by audience suggestions and shaped in the moment. That means no scripts\, no re-runs\, and no picking on anyone—ever. Our performers are kind humans first and comedians second\, and our goal is always to lift people up\, not put them on the spot. Audience participation is always invitational\, supportive\, and done with care\, so everyone can relax and enjoy the fun. \nThis one-hour show is packed with fast-paced\, classic short-form improv comedy that’s smart\, clean\, and laugh-out-loud funny. The content is appropriate for all ages—delighting kids\, adults\, and anyone who appreciates clever humor with heart. Expect big laughs\, joyful surprises\, and a room full of people feeling connected\, seen\, and a little lighter than when they arrived. \nJoin us for this great evening of the unexpected\, improv\, and laughter.
URL:https://bravamagazine.com/event/monkey-business-institute-improv/
LOCATION:Gilda’s Club Wisconsin\, 7907 UW Health Ct\, Middleton\, WI\, 53562\, United States
CATEGORIES:Community Event
ATTACH;FMTTYPE=image/jpeg:https://bravamagazine.com/wp-content/uploads/2026/03/NMM-5.jpg
ORGANIZER;CN="Gilda's Club Wisconsin":MAILTO:gabe@gildasclubwi.org
END:VEVENT
BEGIN:VEVENT
DTSTART;TZID=America/Chicago:20260430T180000
DTEND;TZID=America/Chicago:20260430T210000
DTSTAMP:20260419T160449
CREATED:20260415T133728Z
LAST-MODIFIED:20260415T133728Z
UID:221457-1777572000-1777582800@bravamagazine.com
SUMMARY:A Starry Night at Mimosa Books & Gifts
DESCRIPTION:Join us for A Starry Night at Mimosa Books & Gifts – an immersive\, free event filled with crystals\, tarot and celestial vibes on the cusp of summer. Explore thousands of brand-new crystals sourced from around the world\, many arriving fresh from the world’s largest gem and mineral show\, and be among the first to see these sparkling new arrivals. \nEnjoy complimentary finger foods\, desserts and drinks while soaking in the cozy\, nocturnal atmosphere. Guests can receive a free tarot reading from Stargaze Tarot\, enter a raffle-style prize drawing with multiple winners\, and receive a gift bag on entry while supplies last. \nWhether you’re a crystal collector\, tarot-curious or simply looking for a fun and magical night out\, A Starry Night is a perfect way to gather with friends\, discover something new and support a local\, woman-owned business! \nThursday\, April 30 | 6–9 PM\nMimosa Books & Gifts\n409 State St\, Madison\, WI\nFree admission | All are welcome
URL:https://bravamagazine.com/event/a-starry-night-at-mimosa-books-gifts/
LOCATION:Mimosa Books & Gifts\, 409 State Street\, Madison\, WI\, 53703\, United States
CATEGORIES:Community Event
ATTACH;FMTTYPE=image/jpeg:https://bravamagazine.com/wp-content/uploads/2026/04/Event-Flyer-A-Starry-Night-Event-Mimosa-Books-Gifts-04302026.jpg
ORGANIZER;CN="Mimosa Books &amp%3B Gifts":MAILTO:mimosabooks@gmail.com
END:VEVENT
END:VCALENDAR