BEGIN:VCALENDAR
VERSION:2.0
PRODID:-//BRAVA Magazine - ECPv6.15.20//NONSGML v1.0//EN
CALSCALE:GREGORIAN
METHOD:PUBLISH
X-ORIGINAL-URL:https://bravamagazine.com
X-WR-CALDESC:Events for BRAVA Magazine
REFRESH-INTERVAL;VALUE=DURATION:PT1H
X-Robots-Tag:noindex
X-PUBLISHED-TTL:PT1H
BEGIN:VTIMEZONE
TZID:America/Chicago
BEGIN:DAYLIGHT
TZOFFSETFROM:-0600
TZOFFSETTO:-0500
TZNAME:CDT
DTSTART:20250309T080000
END:DAYLIGHT
BEGIN:STANDARD
TZOFFSETFROM:-0500
TZOFFSETTO:-0600
TZNAME:CST
DTSTART:20251102T070000
END:STANDARD
BEGIN:DAYLIGHT
TZOFFSETFROM:-0600
TZOFFSETTO:-0500
TZNAME:CDT
DTSTART:20260308T080000
END:DAYLIGHT
BEGIN:STANDARD
TZOFFSETFROM:-0500
TZOFFSETTO:-0600
TZNAME:CST
DTSTART:20261101T070000
END:STANDARD
BEGIN:DAYLIGHT
TZOFFSETFROM:-0600
TZOFFSETTO:-0500
TZNAME:CDT
DTSTART:20270314T080000
END:DAYLIGHT
BEGIN:STANDARD
TZOFFSETFROM:-0500
TZOFFSETTO:-0600
TZNAME:CST
DTSTART:20271107T070000
END:STANDARD
END:VTIMEZONE
BEGIN:VEVENT
DTSTART;TZID=America/Chicago:20260328T123000
DTEND;TZID=America/Chicago:20260328T140000
DTSTAMP:20260420T002928
CREATED:20260212T215241Z
LAST-MODIFIED:20260323T201156Z
UID:174821-1774701000-1774706400@bravamagazine.com
SUMMARY:Quiche Workshop With Pastry Chef Michelle Mau
DESCRIPTION:Join Pastry Chef Michelle Mau for a workshop that celebrates the savory\, delicate flavors of quiche. Michelle will guide you through her techniques for creating a buttery & flaky quiche that’s perfect for any spring gatherings. After the demonstration\, guests will sit down to enjoy a garden salad\, slice of quiche\, as well as a sweet surprise from the kitchen. Each guest will go home with the recipes\, making it easy to recreate in their own kitchen. \nBar & Shopping @ 12:00 p.m.\nWorkshop @ 12:30 p.m.\nTickets: $70 \nYour $25 reservation deposit will be subtracted from your final bill\nWe offer a 3% discount on final payment with cash
URL:https://bravamagazine.com/event/quiche-workshop-with-pastry-chef-michelle-mau-march-28th-2/
LOCATION:The Deliciouser\, 931 E. Main St. Suite 7\, Madison\, WI\, 53703\, United States
ATTACH;FMTTYPE=image/jpeg:https://bravamagazine.com/wp-content/uploads/2026/02/Toast-Event-Template-19.999-x-8-in-1.jpg
END:VEVENT
END:VCALENDAR