BEGIN:VCALENDAR
VERSION:2.0
PRODID:-//BRAVA Magazine - ECPv6.15.20//NONSGML v1.0//EN
CALSCALE:GREGORIAN
METHOD:PUBLISH
X-ORIGINAL-URL:https://bravamagazine.com
X-WR-CALDESC:Events for BRAVA Magazine
REFRESH-INTERVAL;VALUE=DURATION:PT1H
X-Robots-Tag:noindex
X-PUBLISHED-TTL:PT1H
BEGIN:VTIMEZONE
TZID:America/Chicago
BEGIN:DAYLIGHT
TZOFFSETFROM:-0600
TZOFFSETTO:-0500
TZNAME:CDT
DTSTART:20250309T080000
END:DAYLIGHT
BEGIN:STANDARD
TZOFFSETFROM:-0500
TZOFFSETTO:-0600
TZNAME:CST
DTSTART:20251102T070000
END:STANDARD
BEGIN:DAYLIGHT
TZOFFSETFROM:-0600
TZOFFSETTO:-0500
TZNAME:CDT
DTSTART:20260308T080000
END:DAYLIGHT
BEGIN:STANDARD
TZOFFSETFROM:-0500
TZOFFSETTO:-0600
TZNAME:CST
DTSTART:20261101T070000
END:STANDARD
BEGIN:DAYLIGHT
TZOFFSETFROM:-0600
TZOFFSETTO:-0500
TZNAME:CDT
DTSTART:20270314T080000
END:DAYLIGHT
BEGIN:STANDARD
TZOFFSETFROM:-0500
TZOFFSETTO:-0600
TZNAME:CST
DTSTART:20271107T070000
END:STANDARD
END:VTIMEZONE
BEGIN:VEVENT
DTSTART;TZID=America/Chicago:20260307T123000
DTEND;TZID=America/Chicago:20260307T140000
DTSTAMP:20260420T002858
CREATED:20251219T204355Z
LAST-MODIFIED:20251219T204355Z
UID:140860-1772886600-1772892000@bravamagazine.com
SUMMARY:Spice & Slice: A Focaccia Workshop
DESCRIPTION:Join Team Deliciouser for an afternoon of cooking and storytelling! This workshop highlights the bold\, vibrant flavors of our Italian spice collection\, and gives guests a behind-the-scenes look at how we bring those blends to life. Your experience includes a guided tour of our spice lab\, opportunities to taste our signature blends\, and a 10% discount on all spice blends and featured products—perfect for bringing the flavors of the day home with you. \nWe’ll cook through a delicious lineup of recipes featuring our signature Italian spices: \nOlive Oil Focaccia – fragrant\, pillowy\, and deeply flavorful \nNo-Cook Bomba Tomato Sauce – bright\, fresh\, and ready in minutes \nOur Gabagool Sandwich with Bomba Cracked Olive Salad – a bold\, packed-with-flavor twist on a classic \nCome ready to cook\, learn\, and enjoy a warm\, welcoming afternoon at The Deliciouser! \nBar & Shopping @ 12:00 p.m.\nWorkshop @ 12:30 p.m.\nTickets: $70 \nYour $25 reservation deposit will be subtracted from your final bill\nWe offer a 3% discount on final payment with cash
URL:https://bravamagazine.com/event/spice-slice-a-focaccia-workshop/
LOCATION:The Deliciouser\, 931 E. Main St. Suite 7\, Madison\, WI\, 53703\, United States
CATEGORIES:Community Event
ATTACH;FMTTYPE=image/jpeg:https://bravamagazine.com/wp-content/uploads/2025/12/Toast-Event-Template-1-copy-2.jpg
END:VEVENT
END:VCALENDAR