BEGIN:VCALENDAR
VERSION:2.0
PRODID:-//BRAVA Magazine - ECPv6.15.20//NONSGML v1.0//EN
CALSCALE:GREGORIAN
METHOD:PUBLISH
X-ORIGINAL-URL:https://bravamagazine.com
X-WR-CALDESC:Events for BRAVA Magazine
REFRESH-INTERVAL;VALUE=DURATION:PT1H
X-Robots-Tag:noindex
X-PUBLISHED-TTL:PT1H
BEGIN:VTIMEZONE
TZID:America/Chicago
BEGIN:DAYLIGHT
TZOFFSETFROM:-0600
TZOFFSETTO:-0500
TZNAME:CDT
DTSTART:20250309T080000
END:DAYLIGHT
BEGIN:STANDARD
TZOFFSETFROM:-0500
TZOFFSETTO:-0600
TZNAME:CST
DTSTART:20251102T070000
END:STANDARD
BEGIN:DAYLIGHT
TZOFFSETFROM:-0600
TZOFFSETTO:-0500
TZNAME:CDT
DTSTART:20260308T080000
END:DAYLIGHT
BEGIN:STANDARD
TZOFFSETFROM:-0500
TZOFFSETTO:-0600
TZNAME:CST
DTSTART:20261101T070000
END:STANDARD
BEGIN:DAYLIGHT
TZOFFSETFROM:-0600
TZOFFSETTO:-0500
TZNAME:CDT
DTSTART:20270314T080000
END:DAYLIGHT
BEGIN:STANDARD
TZOFFSETFROM:-0500
TZOFFSETTO:-0600
TZNAME:CST
DTSTART:20271107T070000
END:STANDARD
END:VTIMEZONE
BEGIN:VEVENT
DTSTART;TZID=America/Chicago:20260207T123000
DTEND;TZID=America/Chicago:20260207T140000
DTSTAMP:20260420T021720
CREATED:20251219T195304Z
LAST-MODIFIED:20251219T195304Z
UID:140844-1770467400-1770472800@bravamagazine.com
SUMMARY:Crêpes & Jam Workshop with Patrick O'Halloran & BJ Lee
DESCRIPTION:Start your Saturday with warm egg frittatas as you settle in for a delicious\, two-part culinary workshop. Our chef Patrick O’Halloran will teach you how to make delicate\, tender crêpes from scratch\, along with a rich chocolate sauce enhanced with our Barista espresso sea salt.\nThen\, join our head spice blender and resident jam expert BJ Lee to create a batch of house-made jam using peak-season fruit. You’ll leave with your own jar to enjoy at home—perfect for topping the crêpes you’ve just mastered. \nBy the end of the session\, you’ll have the skills to pair sweet\, silky crêpes with vibrant\, from-scratch jam and decadent chocolate sauce for an indulgent breakfast or dessert. \nBar & Shopping @ 12:00 p.m.\nWorkshop @ 12:30 p.m.\nTickets: $70
URL:https://bravamagazine.com/event/crepes-jam-workshop/
LOCATION:The Deliciouser\, 931 E. Main St. Suite 7\, Madison\, WI\, 53703\, United States
CATEGORIES:Community Event
ATTACH;FMTTYPE=image/jpeg:https://bravamagazine.com/wp-content/uploads/2025/12/download-5.jpg
END:VEVENT
END:VCALENDAR