BEGIN:VCALENDAR
VERSION:2.0
PRODID:-//BRAVA Magazine - ECPv6.15.20//NONSGML v1.0//EN
CALSCALE:GREGORIAN
METHOD:PUBLISH
X-WR-CALNAME:BRAVA Magazine
X-ORIGINAL-URL:https://bravamagazine.com
X-WR-CALDESC:Events for BRAVA Magazine
REFRESH-INTERVAL;VALUE=DURATION:PT1H
X-Robots-Tag:noindex
X-PUBLISHED-TTL:PT1H
BEGIN:VTIMEZONE
TZID:America/Chicago
BEGIN:DAYLIGHT
TZOFFSETFROM:-0600
TZOFFSETTO:-0500
TZNAME:CDT
DTSTART:20250309T080000
END:DAYLIGHT
BEGIN:STANDARD
TZOFFSETFROM:-0500
TZOFFSETTO:-0600
TZNAME:CST
DTSTART:20251102T070000
END:STANDARD
BEGIN:DAYLIGHT
TZOFFSETFROM:-0600
TZOFFSETTO:-0500
TZNAME:CDT
DTSTART:20260308T080000
END:DAYLIGHT
BEGIN:STANDARD
TZOFFSETFROM:-0500
TZOFFSETTO:-0600
TZNAME:CST
DTSTART:20261101T070000
END:STANDARD
BEGIN:DAYLIGHT
TZOFFSETFROM:-0600
TZOFFSETTO:-0500
TZNAME:CDT
DTSTART:20270314T080000
END:DAYLIGHT
BEGIN:STANDARD
TZOFFSETFROM:-0500
TZOFFSETTO:-0600
TZNAME:CST
DTSTART:20271107T070000
END:STANDARD
END:VTIMEZONE
BEGIN:VEVENT
DTSTART;TZID=America/Chicago:20260131T123000
DTEND;TZID=America/Chicago:20260131T140000
DTSTAMP:20260420T021400
CREATED:20251219T195147Z
LAST-MODIFIED:20251219T195147Z
UID:140836-1769862600-1769868000@bravamagazine.com
SUMMARY:Biscuits & Gravy Workshop with Chef de Cuisine Dan O’Connor
DESCRIPTION:Join Dan O’Connor—our chef de cuisine and resident biscuit expert—for a demonstration-style workshop featuring his legendary biscuits and rich\, savory sausage gravy. Dan will show you how he layers flavor into the gravy with our signature Bomba spice blend\, and share his secrets for making biscuits that are perfectly flaky every time. \nDuring the workshop\, enjoy a plate of biscuits and gravy served with a fresh market salad. You’ll also leave with a jar of our house-made jam\, ideal for savoring with any leftover biscuits. \nBar & Shopping @ 12:00 p.m.\nWorkshop @ 12:30 p.m.\nTickets: $70 \nYour $25 reservation deposit will be subtracted from your final bill\nWe offer a 3% discount on final payment with cash
URL:https://bravamagazine.com/event/biscuits-gravy-workshop-with-chef-de-cuisine-dan-oconnor/
LOCATION:The Deliciouser\, 931 E. Main St. Suite 7\, Madison\, WI\, 53703\, United States
CATEGORIES:Community Event
ATTACH;FMTTYPE=image/jpeg:https://bravamagazine.com/wp-content/uploads/2025/12/download-4.jpg
END:VEVENT
END:VCALENDAR