BEGIN:VCALENDAR
VERSION:2.0
PRODID:-//BRAVA Magazine - ECPv6.15.20//NONSGML v1.0//EN
CALSCALE:GREGORIAN
METHOD:PUBLISH
X-ORIGINAL-URL:https://bravamagazine.com
X-WR-CALDESC:Events for BRAVA Magazine
REFRESH-INTERVAL;VALUE=DURATION:PT1H
X-Robots-Tag:noindex
X-PUBLISHED-TTL:PT1H
BEGIN:VTIMEZONE
TZID:UTC
BEGIN:STANDARD
TZOFFSETFROM:+0000
TZOFFSETTO:+0000
TZNAME:UTC
DTSTART:20240101T000000
END:STANDARD
END:VTIMEZONE
BEGIN:VEVENT
DTSTART;TZID=UTC:20251220T090000
DTEND;TZID=UTC:20251220T140000
DTSTAMP:20260420T052924
CREATED:20251208T203710Z
LAST-MODIFIED:20251208T203710Z
UID:133502-1766221200-1766239200@bravamagazine.com
SUMMARY:Brunch with Santa at Garver Feed Mill
DESCRIPTION:✨ Brunch with Santa at Garver Feed Mill ✨\nSaturday\, December 20 • 9 AM–2 PM • Atrium\, Lounge & Patio\nCelebrate the season with a festive brunch experience at Garver Feed Mill! Meet Santa and Mrs. Claus\, see live reindeer\, enjoy a holiday buffet\, and explore family-friendly activities. Timed seating and kid VIP perks included.\n🎟 TICKETS:\nSold here: lavenderhazehospitality.com/santa\n—-Pricing—-\n• $45 Adult\n• $25 Child (ages 2+)\n• Under 2 yrs old\, FREE\n—-Available Time Slots—-\n• 9:00–10:30 AM\n• 10:30 AM–12:00 PM\n• 12:00–2:00 PM\n🎅 EVENT HIGHLIGHTS:\n—-Santa & Mrs. Claus—-\n• On-site 9 AM–2 PM\n• Sleigh photo area inside the atrium\n—-Live Reindeer—-\n• Outside main entrance (on the Patio) 10 AM–1 PM\n• VIP kids receive priority access\n—-VIP Kids Lanyard (Included with every child ticket)—-\n• Priority reindeer access\n• Complimentary small hot chocolate\n• VIP lanyard\n🍽 BRUNCH BUFFET MENU:\nA festive\, elevated buffet featuring:\n• Scrambled eggs with herbs and cheddar\n• Baked holiday ham\n• Crispy breakfast potatoes\n• Pancakes with warm syrup\n• Rolls with cinnamon whipped butter\n• Holiday fruit salad (grapes\, pineapple\, berries)\n• French toast casserole with powdered sugar\n• Vegan overnight oats (oat milk\, brown sugar\, cinnamon)\n—-Outdoor Food Truck—-\n• Hot Chocolate\n• Hot spiced cider\n• Holiday cookies\n❄️ OUTDOOR COMFORT & ACTIVITIES:\n• Fire barrels to keep guests warm\n• Cozy kids’ Reading Nook inside the atrium\nSee you there!!
URL:https://bravamagazine.com/event/brunch-with-santa-at-garver-feed-mill/
LOCATION:Garver Feed Mill\, 3241 Garver Green\, Madison\, WI\, 53407\, United States
CATEGORIES:Kid-Friendly Event
ATTACH;FMTTYPE=image/jpeg:https://bravamagazine.com/wp-content/uploads/2025/12/Brunch_With_Santa_FB_Graphic_Final.jpg
ORGANIZER;CN="Garver Events":MAILTO:events@garverevents.com
END:VEVENT
BEGIN:VEVENT
DTSTART;TZID=UTC:20251220T160000
DTEND;TZID=UTC:20251220T233000
DTSTAMP:20260420T052924
CREATED:20251028T004458Z
LAST-MODIFIED:20251028T004458Z
UID:108408-1766246400-1766273400@bravamagazine.com
SUMMARY:The Official Christmas Bar Crawl - Madison
DESCRIPTION:Join us in getting “LIT” for the Holidays! \nSnag your ticket\, round up your Santa’s\, Elves and Reindeer\, throw on your craziest holiday gear and get ready to party like it’s Christmas Eve! \nClick ✅ GOING ✅ On The Facebook Event ⬇️ So You Don’t Miss Updates \nhttps://www.facebook.com/events/3022916407868084/# \nHere’s What You Get: \n\nJoin the Jolliest Crawl of the Year!\n2-3 Drinks Or Shots Included With Ticket Purchase!\nNo Cover At All Bars\, Mid Party\, & After Party\nCrawl With US Stadium Party Cup and Bottle Opener Lanyard!\nPlush Santa Hat at Check In! (FIRST 100 CHECK INS)\nExclusive Drink Specials!\nFood Specials at Select Venues\nAwesome After Party!\nCustom Christmas Bar Crawl Badge With Vouchers!\nAccess To Our Madison Pub Crawl Map\n\nGet tickets NOW before prices go up! \n_______________________________________ \nThis Christmas crawl will take you through some of Madison’s top bars\, where you’ll meet new people and enjoy a joyful atmosphere you won’t find anywhere else. With music\, laughter\, and plenty of holiday cheer\, it’s the ultimate way to kick off your Christmas celebrations. \nThis isn’t your average night out—think festive drinks\, decked-out bars\, and a jolly crowd that’s ready to party! It’s the perfect way to celebrate\, connect with others\, and create memories that will keep you smiling all winter long. \nDon’t miss out on Madison’s biggest holiday bash! Secure your tickets today and join us for a night filled with holiday spirit\, laughter\, and unforgettable fun! \n_______________________________________ \nDonate to Toys For Tots\nToys for Tots brings joy and hope to children in need during the holiday season. By donating you can help make a child’s Christmas magical and ensure they feel loved and remembered. Your generous gift not only brightens their holiday but also fosters a sense of community and compassion. Together\, we can create lasting smiles and make a real difference in the lives of families facing tough times. Share the spirit of giving—donate today and help us spread joy to those who need it most! \nDonation Link: \nhttps://secure.toysfortots.org/a/donatetoday \nOther Ways To Get Involved with Toys For Tots: \nhttps://www.toysfortots.org/support-us/ \n_______________________________________ \nFor all the latest venue information\, special offers\, event details\, and ticket purchases\, be sure to visit our website! It’s your one-stop shop for everything you need to know. ⬇️ www.crawlwith.us/madison/christmas \nCHECK IN 4PM – 6PM \nCRAWL LOCATIONS 4PM – 10PM \nMID PARTY 7PM – 9PM \nAFTER PARTY 10PM – 12AM \n_______________________________________ \n100% CANCELLATION REFUND GUARANTEE: \nIf the event is cancelled for any reason\, all tickets will be refunded in full! No vouchers\, no credits\, just your money back in your bank! Guaranteed! \n_______________________________________ \n✔️ FREQUENTLY ASKED QUESTIONS ✔️ \nhttps://www.crawlwith.us/faq \n_______________________________________ \n🚫 DON’T DRINK AND DRIVE 🚫 \nWe Highly Suggest Using Uber or Lyft To And From The Bar Crawl! \n_______________________________________ \n㉑ ATTENDEES MUST BE 21+ ㉑ \nDue to the nature of our events\, all attendees must be 21+ with a valid government issued ID.
URL:https://bravamagazine.com/event/the-official-christmas-bar-crawl-madison/
LOCATION:Red Rock Saloon Madison\, 322 West Johnson Street\, Madison\, WI\, 53703
CATEGORIES:Live Music
ATTACH;FMTTYPE=image/jpeg:https://bravamagazine.com/wp-content/uploads/2025/10/The-Official-Christmas-Bar-Crawl-Madison-.jpeg
ORGANIZER;CN="Crawl With US":MAILTO:Support@CrawlWith.US
END:VEVENT
BEGIN:VEVENT
DTSTART;TZID=UTC:20251220T180000
DTEND;TZID=UTC:20251220T200000
DTSTAMP:20260420T052924
CREATED:20251017T004512Z
LAST-MODIFIED:20251017T004512Z
UID:101725-1766253600-1766260800@bravamagazine.com
SUMMARY:Paint Nite: Winter Glimmer
DESCRIPTION:Put a little more color in your week and join us for an Original Paint Nite party! No experience necessary\, just bring your creative side to The V\, VFW Post 1318 this an upcoming day night and get ready to be amazed. Tad McLain\, our talented local artist\, will give you all the steps you need to go from blank canvas to complete painting! Add a couple drinks\, some tunes and some laughs with friends and make it the highlight of your week! Paint Night events are always fun\, always local\, and always creative. Join us! \nYou may reschedule or cancel tickets up to 8 hours before the event starts. Read our reschedule policy here.
URL:https://bravamagazine.com/event/paint-nite-winter-glimmer/
LOCATION:The V\, VFW Post 1318\, 2740 Ski Ln\, Fitchburg\, WI\, 53713\, United States
CATEGORIES:Community Event
ATTACH;FMTTYPE=image/jpeg:https://bravamagazine.com/wp-content/uploads/2025/10/119081-Paint-Nite-Winter-Glimmer.jpg
ORGANIZER;CN="Paint Nite":MAILTO:dan@paintnite.com
END:VEVENT
END:VCALENDAR