BEGIN:VCALENDAR
VERSION:2.0
PRODID:-//BRAVA Magazine - ECPv6.15.20//NONSGML v1.0//EN
CALSCALE:GREGORIAN
METHOD:PUBLISH
X-ORIGINAL-URL:https://bravamagazine.com
X-WR-CALDESC:Events for BRAVA Magazine
REFRESH-INTERVAL;VALUE=DURATION:PT1H
X-Robots-Tag:noindex
X-PUBLISHED-TTL:PT1H
BEGIN:VTIMEZONE
TZID:UTC
BEGIN:STANDARD
TZOFFSETFROM:+0000
TZOFFSETTO:+0000
TZNAME:UTC
DTSTART:20240101T000000
END:STANDARD
END:VTIMEZONE
BEGIN:VEVENT
DTSTART;TZID=UTC:20251213T130000
DTEND;TZID=UTC:20251213T160000
DTSTAMP:20260420T054023
CREATED:20251205T004757Z
LAST-MODIFIED:20251205T004757Z
UID:131667-1765630800-1765641600@bravamagazine.com
SUMMARY:Delicious Natural Bubbling Beverages
DESCRIPTION:Get ready to mix\, fizz\, and ferment with Linda Conroy of Moonwise Herbs! This interactive class teaches you how to craft flavorful\, gut-loving bubbling beverages\, water kefir and lacto-fermented sodas. You will learn the basic principles of fermentation\, necessary equipment\, and tips for flavoring and troubleshooting. This immersive class will empower attendees to confidently create their own fermented beverages at home.
URL:https://bravamagazine.com/event/delicious-natural-bubbling-beverages/
LOCATION:Plymouth Community Education & Recreation\, 125 S Highland Avenue\, Plymouth\, WI\, 53073\, United States
CATEGORIES:Community Event
ATTACH;FMTTYPE=image/jpeg:https://bravamagazine.com/wp-content/uploads/2025/12/Plymouth-Bubbles-FB-post.jpg
ORGANIZER;CN="Moonwise Herbs":MAILTO:rosemarygoddess@moonwiseherbs.com
END:VEVENT
BEGIN:VEVENT
DTSTART;TZID=UTC:20251213T130000
DTEND;TZID=UTC:20251213T180000
DTSTAMP:20260420T054023
CREATED:20251121T225055Z
LAST-MODIFIED:20251121T225055Z
UID:123777-1765630800-1765648800@bravamagazine.com
SUMMARY:Fiestas Decembrinas – December 13\, 2025
DESCRIPTION:Fiestas Decembrinas is our annual family-friendly celebration of flavor\, culture\, and community. \nThis year’s event will take place on: \nSaturday\, December 13\, 2025\n1:00 PM – 6:00 PM \nCatholic Multicultural Center\n1862 Beld St.\, Madison\, WI 53713 \nThe day begins with Mass celebrated by Bishop Hying\, followed by live entertainment\, cultural performances\, delicious food\, and a lively Christmas Market with local vendors. The event is free and open to the public\, and it brings together hundreds of families from across the Madison community. We would love the whole community to be aware of the event. \nThank you for considering this request and for supporting community events that bring people together.
URL:https://bravamagazine.com/event/fiestas-decembrinas-december-13-2025/
LOCATION:Catholic Multicultural Center\, 1862 Beld Street\, Madison\, 53713\, United States
CATEGORIES:Community Event,Kid-Friendly Event,Live Music
ORGANIZER;CN="Catholic Charities":MAILTO:amehlhaff@ccmadison.org
END:VEVENT
END:VCALENDAR