BEGIN:VCALENDAR
VERSION:2.0
PRODID:-//BRAVA Magazine - ECPv6.15.20//NONSGML v1.0//EN
CALSCALE:GREGORIAN
METHOD:PUBLISH
X-WR-CALNAME:BRAVA Magazine
X-ORIGINAL-URL:https://bravamagazine.com
X-WR-CALDESC:Events for BRAVA Magazine
REFRESH-INTERVAL;VALUE=DURATION:PT1H
X-Robots-Tag:noindex
X-PUBLISHED-TTL:PT1H
BEGIN:VTIMEZONE
TZID:UTC
BEGIN:STANDARD
TZOFFSETFROM:+0000
TZOFFSETTO:+0000
TZNAME:UTC
DTSTART:20240101T000000
END:STANDARD
END:VTIMEZONE
BEGIN:VEVENT
DTSTART;TZID=UTC:20251122T133000
DTEND;TZID=UTC:20251122T153000
DTSTAMP:20260420T070012
CREATED:20251020T232632Z
LAST-MODIFIED:20251020T232632Z
UID:104101-1763818200-1763825400@bravamagazine.com
SUMMARY:Holiday Wreath Making Workshop with Allen Centennial Garden
DESCRIPTION:The wreath making workshop is back again this year by popular demand! \nJoin us Saturday\, 11/22 or Thursday\, December 11th\, as the fine folks from Allen Centennial Garden come in to Working Draft to make holiday wreaths with us. \nA $55 ticket includes all supplies to make one wreath\, help making the wreath\, and a free drink! And if multiple people want to work on one wreath together\, you just need one ticket. It’s one ticket per wreath\, not participant. \nThis workshop (or the wreath you create) is a perfect gift idea\, date night\, or just something fun to do with your family (or solo!). \nWe have 20 slots available per ticket\, so snag your tickets today!
URL:https://bravamagazine.com/event/holiday-wreath-making-workshop-with-allen-centennial-garden/
LOCATION:Working Draft Beer Company\, 1129 East Wilson Street\, Madison\, WI\, 53703\, United States
CATEGORIES:Community Event,Kid-Friendly Event
ATTACH;FMTTYPE=image/jpeg:https://bravamagazine.com/wp-content/uploads/2025/10/119376.jpeg
ORGANIZER;CN="Working Draft Beer Company":MAILTO:ben@workingdraftbeer.com
END:VEVENT
END:VCALENDAR