BEGIN:VCALENDAR
VERSION:2.0
PRODID:-//BRAVA Magazine - ECPv6.15.20//NONSGML v1.0//EN
CALSCALE:GREGORIAN
METHOD:PUBLISH
X-WR-CALNAME:BRAVA Magazine
X-ORIGINAL-URL:https://bravamagazine.com
X-WR-CALDESC:Events for BRAVA Magazine
REFRESH-INTERVAL;VALUE=DURATION:PT1H
X-Robots-Tag:noindex
X-PUBLISHED-TTL:PT1H
BEGIN:VTIMEZONE
TZID:UTC
BEGIN:STANDARD
TZOFFSETFROM:+0000
TZOFFSETTO:+0000
TZNAME:UTC
DTSTART:20240101T000000
END:STANDARD
END:VTIMEZONE
BEGIN:VEVENT
DTSTART;TZID=UTC:20250917T170000
DTEND;TZID=UTC:20250917T190000
DTSTAMP:20260420T100656
CREATED:20250813T000735Z
LAST-MODIFIED:20250813T000735Z
UID:81496-1758128400-1758135600@bravamagazine.com
SUMMARY:September Social: Pizza Party at the Clubhouse
DESCRIPTION:Join us for a pizza party social at the clubhouse! All ages are welcome to attend. \nQuestions? Email Elizabeth@gildasclubmadison.org (Elizabeth\, Kunz\, CAPSW\, CCLS).
URL:https://bravamagazine.com/event/september-social-pizza-party-at-the-clubhouse/
LOCATION:Gilda’s Club Madison\, 7907 UW Health Court\, Middleton\, 53562\, United States
ATTACH;FMTTYPE=image/jpeg:https://bravamagazine.com/wp-content/uploads/2025/08/Pizza-Party.jpg
ORGANIZER;CN="Gilda's Club Madison":MAILTO:lannia@gildasclubmadison.org
END:VEVENT
END:VCALENDAR