BEGIN:VCALENDAR
VERSION:2.0
PRODID:-//BRAVA Magazine - ECPv6.15.20//NONSGML v1.0//EN
CALSCALE:GREGORIAN
METHOD:PUBLISH
X-WR-CALNAME:BRAVA Magazine
X-ORIGINAL-URL:https://bravamagazine.com
X-WR-CALDESC:Events for BRAVA Magazine
REFRESH-INTERVAL;VALUE=DURATION:PT1H
X-Robots-Tag:noindex
X-PUBLISHED-TTL:PT1H
BEGIN:VTIMEZONE
TZID:UTC
BEGIN:STANDARD
TZOFFSETFROM:+0000
TZOFFSETTO:+0000
TZNAME:UTC
DTSTART:20240101T000000
END:STANDARD
END:VTIMEZONE
BEGIN:VEVENT
DTSTART;TZID=UTC:20250822T170000
DTEND;TZID=UTC:20250822T203000
DTSTAMP:20260420T115949
CREATED:20250815T180405Z
LAST-MODIFIED:20250815T180615Z
UID:86586-1755882000-1755894600@bravamagazine.com
SUMMARY:Cubanos Night at Working Draft Beer Co!
DESCRIPTION:We are celebrating National Cuban Sandwich Day Friday\, August 22nd! \nThe Sandwich Hub will be popping up at 5pm to bring back their ridiculous Cubano Sandwich. \nWant more? We’ll be serving house-made Mohitos and Cuba Libres! \nStill not convinced? Baked Lab will be providing special Cuban treats. \nMan\, you are a tough sell. Ok\, we’ll also do a special listening to the Buena Vista Social Club on vinyl. \nGreat food\, great music\, and great drinks? Sounds great!!!
URL:https://bravamagazine.com/event/cubanos-night-at-working-draft-beer-co/
LOCATION:Working Draft Beer Company\, 1129 East Wilson Street\, Madison\, WI\, 53703\, United States
ATTACH;FMTTYPE=image/jpeg:https://bravamagazine.com/wp-content/uploads/2025/08/Cubanos-Night-at-Working-Draft-Beer-Co.jpg
END:VEVENT
END:VCALENDAR