BEGIN:VCALENDAR
VERSION:2.0
PRODID:-//BRAVA Magazine - ECPv6.15.20//NONSGML v1.0//EN
CALSCALE:GREGORIAN
METHOD:PUBLISH
X-WR-CALNAME:BRAVA Magazine
X-ORIGINAL-URL:https://bravamagazine.com
X-WR-CALDESC:Events for BRAVA Magazine
REFRESH-INTERVAL;VALUE=DURATION:PT1H
X-Robots-Tag:noindex
X-PUBLISHED-TTL:PT1H
BEGIN:VTIMEZONE
TZID:UTC
BEGIN:STANDARD
TZOFFSETFROM:+0000
TZOFFSETTO:+0000
TZNAME:UTC
DTSTART:20240101T000000
END:STANDARD
END:VTIMEZONE
BEGIN:VEVENT
DTSTART;TZID=UTC:20250801T170000
DTEND;TZID=UTC:20250801T200000
DTSTAMP:20260420T115952
CREATED:20250717T005441Z
LAST-MODIFIED:20250717T005441Z
UID:80628-1754067600-1754078400@bravamagazine.com
SUMMARY:Live from the Wonderground: Grupo Balança & Handphibians with Ótimo Dance
DESCRIPTION:Every month this summer\, enjoy free concerts at MCM featuring an eclectic mix of Madison bands. Adults get to dance and chat\, kids climb and play\, and caregivers enjoy low-stress social time in an outdoor space like no other! \nOn August 1\, we’re welcoming three superb samba groups to the MCM stage: Grupo Balança\, The Handphibians\, and Ótimo Dance. Be sure to grab a delicious dinner from La Belle and a dreamy dessert from Stellie’s Ice Cream cart—both for-purchase options in the Wonderground. \nLive from the Wonderground admission is free! You may choose to provide a donation at the door\, but no entry fee is required. Proceeds benefit the work of Madison Children’s Museum and allow us to bring accessible programming to our community. All tickets are at the door\, no advance registration. Please enter at the Wonderground gate on E. Dayton Street\, by the Log Cabin. \nLive from the Wonderground brings music\, dancing\, food\, and drinks for all ages to downtown Madison’s most creative playground\, the Wonderground. This first Friday concert series features local bands\, drinks\, light snacks\, and fresh air fun. Events take place from 5 to 8 p.m.\, with bands performing two sets from 5:30 to 7:30 p.m. \nGet More Information Here! \nParking Address: 218 E Mifflin St\, Madison\, WI 53703
URL:https://bravamagazine.com/event/live-from-the-wonderground-grupo-balanca-handphibians-with-otimo-dance/
LOCATION:Madison Children’s Museum\, 100 N Hamilton St\, Madison\, WI\, 53703-2116\, United States
CATEGORIES:Live Music
ATTACH;FMTTYPE=image/jpeg:https://bravamagazine.com/wp-content/uploads/2025/07/111455.jpg
END:VEVENT
END:VCALENDAR