BEGIN:VCALENDAR
VERSION:2.0
PRODID:-//BRAVA Magazine - ECPv6.15.20//NONSGML v1.0//EN
CALSCALE:GREGORIAN
METHOD:PUBLISH
X-WR-CALNAME:BRAVA Magazine
X-ORIGINAL-URL:https://bravamagazine.com
X-WR-CALDESC:Events for BRAVA Magazine
REFRESH-INTERVAL;VALUE=DURATION:PT1H
X-Robots-Tag:noindex
X-PUBLISHED-TTL:PT1H
BEGIN:VTIMEZONE
TZID:UTC
BEGIN:STANDARD
TZOFFSETFROM:+0000
TZOFFSETTO:+0000
TZNAME:UTC
DTSTART:20240101T000000
END:STANDARD
END:VTIMEZONE
BEGIN:VEVENT
DTSTART;TZID=UTC:20250712T123000
DTEND;TZID=UTC:20250712T140000
DTSTAMP:20260420T134449
CREATED:20250522T193115Z
LAST-MODIFIED:20250522T193115Z
UID:57054-1752323400-1752328800@bravamagazine.com
SUMMARY:Mediterranean Midsummer: Shawarma & Fattoush Workshop - July 12th
DESCRIPTION:Join Team Deliciouser as we explore the flavors of the Mediterranean\nIn this workshop we will demonstrate our Deliciouser take on Chicken Shawarma Featuring our Baharat Arabic seven spice. Served on flatbread with traditional vegetable accompaniments\, Tahini sauce and chili oil. We’ll also demo our popular fattoush salad with summer vegetables\, fresh mint and Za’atar.\nJoin us around the table and savor the flavors of summer! \nPlease provide all dietary restrictions and allergies upon booking\nGuests enjoy 10% off spices and featured wines at events\nBar & Shopping @ 12 p.m.\nWorkshop @ 12:30 p.m.\nTickets: $70\nYour $25 reservation deposit will be subtracted from your final bill\nWe offer a 3% discount on final payment with cash \nHide
URL:https://bravamagazine.com/event/mediterranean-midsummer-shawarma-fattoush-workshop-july-12th/
LOCATION:The Deliciouser\, 931 E. Main St. Suite 7\, Madison\, WI\, 53703\, United States
CATEGORIES:Community Event
ATTACH;FMTTYPE=image/jpeg:https://bravamagazine.com/wp-content/uploads/2025/05/Fattoush_2.jpg
END:VEVENT
END:VCALENDAR