BEGIN:VCALENDAR
VERSION:2.0
PRODID:-//BRAVA Magazine - ECPv6.15.20//NONSGML v1.0//EN
CALSCALE:GREGORIAN
METHOD:PUBLISH
X-ORIGINAL-URL:https://bravamagazine.com
X-WR-CALDESC:Events for BRAVA Magazine
REFRESH-INTERVAL;VALUE=DURATION:PT1H
X-Robots-Tag:noindex
X-PUBLISHED-TTL:PT1H
BEGIN:VTIMEZONE
TZID:UTC
BEGIN:STANDARD
TZOFFSETFROM:+0000
TZOFFSETTO:+0000
TZNAME:UTC
DTSTART:20240101T000000
END:STANDARD
END:VTIMEZONE
BEGIN:VEVENT
DTSTART;TZID=UTC:20250503T120000
DTEND;TZID=UTC:20250505T220000
DTSTAMP:20260420T170322
CREATED:20250430T215049Z
LAST-MODIFIED:20250430T215049Z
UID:54576-1746273600-1746482400@bravamagazine.com
SUMMARY:May the 4th Be With You / Cinco de Mayo Weekend at Working Draft
DESCRIPTION:Saturday\, May 3rd\, we’re throwing a party to celebrate Cinco de Mayo on the Third of May. We’ll have a black lime and Mexican cinnamon infused version of No Está Mal Mexican-Style Lager\, house-made margaritas\, the Sabor Regio food truck\, and fun and games in the parking lot. \nThe weekend continues on Sunday May the 4th (Be With You!)\, AKA Star Wars Day. We’ll be celebrating in style with a Blue “Milk”shake IPA that will hearken you back to breakfasts from a time long ago in a galaxy far\, far away. We’ll be show some of your favorite movies on the tube\, have some fun Star Wars-themed activities\, and enjoy more tacos from Sabor Regio. \nNot only is Sunday May the Fourth Be With You day\, but we are also selling tickets to the Great Taste of the Midwest\, one of the premiere beer events in the country\, hosted by the Madison Homebrewers and Tasters Guild and held the second Saturday in August. Tickets go on sale at noon\, but you can line up in the WDBC parking starting at 7am. At 8am\, we’ll open the taps and Sabor Regio will make breakfast tacos. \nWe’ll wrap it up on the actual Cinco de Mayo with tacos from Sabor Regio\, margaritas\, and a Lego Night especial. \nSounds like a great weekend to me!
URL:https://bravamagazine.com/event/may-the-4th-be-with-you-cinco-de-mayo-weekend-at-working-draft/
LOCATION:Working Draft Beer Company\, 1129 East Wilson Street\, Madison\, WI\, 53703\, United States
CATEGORIES:Community Event
ATTACH;FMTTYPE=image/png:https://bravamagazine.com/wp-content/uploads/2025/04/1.png
END:VEVENT
END:VCALENDAR