BEGIN:VCALENDAR
VERSION:2.0
PRODID:-//BRAVA Magazine - ECPv6.15.20//NONSGML v1.0//EN
CALSCALE:GREGORIAN
METHOD:PUBLISH
X-ORIGINAL-URL:https://bravamagazine.com
X-WR-CALDESC:Events for BRAVA Magazine
REFRESH-INTERVAL;VALUE=DURATION:PT1H
X-Robots-Tag:noindex
X-PUBLISHED-TTL:PT1H
BEGIN:VTIMEZONE
TZID:UTC
BEGIN:STANDARD
TZOFFSETFROM:+0000
TZOFFSETTO:+0000
TZNAME:UTC
DTSTART:20240101T000000
END:STANDARD
END:VTIMEZONE
BEGIN:VEVENT
DTSTART;TZID=UTC:20250425T120000
DTEND;TZID=UTC:20250427T210000
DTSTAMP:20260420T184549
CREATED:20250410T225719Z
LAST-MODIFIED:20250410T225719Z
UID:53503-1745582400-1745787600@bravamagazine.com
SUMMARY:WDBC's 7 Wonders of the Beer World Anniversary Party
DESCRIPTION:Join us as we celebrate 7 years of community\, friendship\, and of course\, great beer! \nTo celebrate WDBC’s 7 years\, we are brewing and presenting “Seven Wonders of the Beer World”! We’ll have beers from all around the world\, including: \n— Primo Pivo 14P Pale Czech Lager from Czech\n— Double Pulp Culture Hazy Double IPA from the US\n— Kinembi Brett Yuzu Rice Lager from Japan\n— One Mas More Mexican-Style Lager from Mexico\n— Wizard of Loneliness Dark Strong Ale from Belgium\n— Oda of Benin Stout from Nigeria\n— Keep ‘Em Honest Helles from Germany \nGet your “passport” stamped from all seven countries and win vintage WDBC merch! \nWe’ll also have three different global food trucks \n— Mi Casa Es Tu Casa Tacos\n— Common Pasta\n— Paddy’s Patties \nAnd the big finale is we will be raffling off a private WDBC brew experience with Clint and Miranda. Proceeds from the raffle will benefit the Second Harvest Food Bank. \nThanks for seven amazing years of community and friendship. Let’s celebrate and then get to work on seven more!!! \nThis Event Will Runs From Apr 25\, 2025\, 12:00pm to Apr 27\, 2025\, 9:00pm Timezone: CDT
URL:https://bravamagazine.com/event/wdbcs-7-wonders-of-the-beer-world-anniversary-party/
LOCATION:Working Draft Beer Company\, 1129 East Wilson Street\, Madison\, WI\, 53703\, United States
CATEGORIES:Community Event
ATTACH;FMTTYPE=image/jpeg:https://bravamagazine.com/wp-content/uploads/2025/04/103066.jpg
END:VEVENT
END:VCALENDAR