BEGIN:VCALENDAR
VERSION:2.0
PRODID:-//BRAVA Magazine - ECPv6.15.20//NONSGML v1.0//EN
CALSCALE:GREGORIAN
METHOD:PUBLISH
X-WR-CALNAME:BRAVA Magazine
X-ORIGINAL-URL:https://bravamagazine.com
X-WR-CALDESC:Events for BRAVA Magazine
REFRESH-INTERVAL;VALUE=DURATION:PT1H
X-Robots-Tag:noindex
X-PUBLISHED-TTL:PT1H
BEGIN:VTIMEZONE
TZID:America/Chicago
BEGIN:DAYLIGHT
TZOFFSETFROM:-0600
TZOFFSETTO:-0500
TZNAME:CDT
DTSTART:20250309T080000
END:DAYLIGHT
BEGIN:STANDARD
TZOFFSETFROM:-0500
TZOFFSETTO:-0600
TZNAME:CST
DTSTART:20251102T070000
END:STANDARD
BEGIN:DAYLIGHT
TZOFFSETFROM:-0600
TZOFFSETTO:-0500
TZNAME:CDT
DTSTART:20260308T080000
END:DAYLIGHT
BEGIN:STANDARD
TZOFFSETFROM:-0500
TZOFFSETTO:-0600
TZNAME:CST
DTSTART:20261101T070000
END:STANDARD
BEGIN:DAYLIGHT
TZOFFSETFROM:-0600
TZOFFSETTO:-0500
TZNAME:CDT
DTSTART:20270314T080000
END:DAYLIGHT
BEGIN:STANDARD
TZOFFSETFROM:-0500
TZOFFSETTO:-0600
TZNAME:CST
DTSTART:20271107T070000
END:STANDARD
END:VTIMEZONE
BEGIN:VEVENT
DTSTART;TZID=America/Chicago:20260502T120000
DTEND;TZID=America/Chicago:20260504T200000
DTSTAMP:20260419T224331
CREATED:20260415T124856Z
LAST-MODIFIED:20260415T124856Z
UID:221334-1777723200-1777924800@bravamagazine.com
SUMMARY:May the Fourth Weekend
DESCRIPTION:Happy Star Wars Day / Weekend! \nThe Midichlorian count will be high at the taproom all weekend because: \nAll Weekend \n— We’re brewing a Berliner Weisse that allows you to choose the Light-Side or walk down the Dark-Side (and forever will it dominate your destiny if you do) by adding a Woodruff\, Lavender\, or Raspberry syrup.\n— We’re bringing back Bantha’s Best Blue Hazy IPA from last year.\n— We’ll have a Mandalorian Margarita 🍋‍🟩\n— There will be fun stuff on the tv all weekend 😉 \nSaturday \n— Cinn City Smash Burgers will be here from 1-7pm Saturday 🍔\n— We’re hosting a Star Wars-themed Trivia Saturday at 6:30pm \nSunday \n— We’re selling Great Taste of the Midwest tickets. Tickets go on sale at noon\, but you can start lining up at 7am. The taps will be open at 8am!\n— Sabor Regio will be serving food from 9am to 4pm. Breakfast tacos in the morning\, yum 🌮 \nMonday \nLego Night will be Star Wars-themed! \nWe have friends everywhere. Bring yours to WDBC and join the rebellion!
URL:https://bravamagazine.com/event/may-the-fourth-weekend/
LOCATION:Working Draft Beer Company\, 1129 East Wilson Street\, Madison\, WI\, 53703\, United States
ATTACH;FMTTYPE=image/jpeg:https://bravamagazine.com/wp-content/uploads/2026/04/May-the-Fourth-Weekend1.jpg
ORGANIZER;CN="Working Draft Beer Company":MAILTO:ben@workingdraftbeer.com
END:VEVENT
BEGIN:VEVENT
DTSTART;TZID=America/Chicago:20260505T180000
DTEND;TZID=America/Chicago:20260505T200000
DTSTAMP:20260419T224331
CREATED:20260407T200710Z
LAST-MODIFIED:20260407T200710Z
UID:207008-1778004000-1778011200@bravamagazine.com
SUMMARY:Cinco de Mayo Dinner at The Deliciouser
DESCRIPTION:Join Team Deliciouser as we celebrate Cinco de Mayo with unforgettable flavors and festivity. \nThe evening will consist of a vibrant five-course Mexican dinner\, the menu will be revealed only upon arrival. From bold\, smoky flavors to bright\, citrusy notes\, each course is thoughtfully crafted to showcase the richness and diversity of Mexican cuisine. \nExpect a lively atmosphere filled with warm hospitality as well as dishes that honor both tradition and creativity. Whether you’re a lover of Mexican cuisine\, or simply looking for a unique night out\, this dining experience will delight your senses from beginning to end. \nBar & Shopping @ 5:30 p.m.\nDinner @ 6:15 p.m.\nTickets: $100 \nYour $25 reservation deposit will be subtracted from your final bill\nWe offer a 3% discount on final payment with cash
URL:https://bravamagazine.com/event/cinco-de-mayo-dinner-at-the-deliciouser/
LOCATION:The Deliciouser\, 931 E. Main St. Suite 7\, Madison\, WI\, 53703\, United States
CATEGORIES:Community Event
ATTACH;FMTTYPE=image/jpeg:https://bravamagazine.com/wp-content/uploads/2026/04/Toast-Event-Template-19.999-x-8-in-1.jpg
END:VEVENT
BEGIN:VEVENT
DTSTART;TZID=America/Chicago:20260508T173000
DTEND;TZID=America/Chicago:20260508T213000
DTSTAMP:20260419T224331
CREATED:20260413T015554Z
LAST-MODIFIED:20260413T015554Z
UID:218425-1778261400-1778275800@bravamagazine.com
SUMMARY:YWCA Madison's Inaugural Solidarity Sunset Soirée
DESCRIPTION:On Friday\, May 8th\, at the Madison Marriott West\, YWCA Madison invites you to our first-ever Solidarity Sunset Soirée. This new signature event honors the transformative leadership of women\, illuminates the impact of YWCA Madison\, and brings together the shared power and love that sustains this community. Rooted in the beloved traditions of Circle and Women of Distinction\, this milestone year invites us into something expansive: a living reflection of where we have been and a collective vision of what we are becoming. \nThroughout the evening\, we will move together through moments of connection and celebration\, including shared conversation\, heartfelt tributes\, vibrant art\, a seated dinner\, and joyful dancing. We will also celebrate 50 years of Women of Distinction\, a sisterhood of radiant women across generations whose leadership has shaped our local justice movements\, while uplifting the impact of YWCA Madison’s work and nurturing a spirit of solidarity that continues to grow within our community. Registration is live at ywcamadison.org. Doors open at 5:30 pm. We can’t wait to see you there!
URL:https://bravamagazine.com/event/ywca-madisons-inaugural-solidarity-sunset-soiree/
LOCATION:Madison Marriott West\, 1313 John Q Hammons Drive\, Middleton\, WI\, 53562\, United States
CATEGORIES:Business & Networking Events,Community Event
ATTACH;FMTTYPE=image/jpeg:https://bravamagazine.com/wp-content/uploads/2026/04/Sunset-Soiree-Banner.jpg
ORGANIZER;CN="YWCA Madison":MAILTO:mwilliams@ywcamadison.org
END:VEVENT
BEGIN:VEVENT
DTSTART;TZID=America/Chicago:20260530T140000
DTEND;TZID=America/Chicago:20260530T163000
DTSTAMP:20260419T224331
CREATED:20260416T184103Z
LAST-MODIFIED:20260416T184103Z
UID:226960-1780149600-1780158600@bravamagazine.com
SUMMARY:Cornish Tea with Kathleen Ernst
DESCRIPTION:Visit the Site That Inspired Ernst’s Murder Mystery Narrative \nEnter the world of Mining for Justice—literally! Join talented author Kathleen Ernst as she returns to discuss her Chloe Ellefson mystery—the eighth in the series—set amongst the historic buildings\, hills and mines of Pendarvis. See several of the unique objects featured in the novel and listen to Ernst talk about her writings while enjoying Cornish tea\, finger sandwiches\, tartlets\, scones with jam\, lemon curd\, clotted cream and more. Finish your meal with a slice of a special saffron cake first made by the founder of Pendarvis’ grandmother. Round out your experience with a special Mining for Justice tour of Pendarvis—be sure to bring your copy and follow along!
URL:https://bravamagazine.com/event/cornish-tea-with-kathleen-ernst/
LOCATION:Pendarvis Historic Site\, 114 Shake Rag Street\, Mineral Point\, WI\, 53565\, United States
ATTACH;FMTTYPE=image/jpeg:https://bravamagazine.com/wp-content/uploads/2026/04/2019_WHS_Pendarvis_577.jpg
ORGANIZER;CN="Wisconsin Historical Society":MAILTO:boxoffice@wisconsinhistory.org
END:VEVENT
END:VCALENDAR