BEGIN:VCALENDAR
VERSION:2.0
PRODID:-//BRAVA Magazine - ECPv6.15.20//NONSGML v1.0//EN
CALSCALE:GREGORIAN
METHOD:PUBLISH
X-ORIGINAL-URL:https://bravamagazine.com
X-WR-CALDESC:Events for BRAVA Magazine
REFRESH-INTERVAL;VALUE=DURATION:PT1H
X-Robots-Tag:noindex
X-PUBLISHED-TTL:PT1H
BEGIN:VTIMEZONE
TZID:UTC
BEGIN:STANDARD
TZOFFSETFROM:+0000
TZOFFSETTO:+0000
TZNAME:UTC
DTSTART:20240101T000000
END:STANDARD
END:VTIMEZONE
BEGIN:VEVENT
DTSTART;TZID=UTC:20251004T100000
DTEND;TZID=UTC:20251004T170000
DTSTAMP:20260420T065904
CREATED:20250805T201234Z
LAST-MODIFIED:20250805T201234Z
UID:81264-1759572000-1759597200@bravamagazine.com
SUMMARY:Waunakee Artisan Market
DESCRIPTION:The Waunakee Artisan Market is celebrating it’s 5th year! WAM is a juried one-day art market held on the historic 40-acre Schumacher Farm Park in Waunakee on the first weekend in October. This unique market blends the charm of fall on the farm with over 50 quality art exhibitors\, live music\, food carts and adult beverages. Entrance fee is $3 for adults.
URL:https://bravamagazine.com/event/waunakee-artisan-market-2/
LOCATION:Schumacher Farm Park\, 5682 Highway 19\, Waunakee\, WI\, 53597\, United States
CATEGORIES:Community Event,Kid-Friendly Event,Live Music
ATTACH;FMTTYPE=image/jpeg:https://bravamagazine.com/wp-content/uploads/2025/08/6EA5DA80-64B6-4B61-B4AB-E26691FCF595.jpg
END:VEVENT
BEGIN:VEVENT
DTSTART;TZID=UTC:20251015T180000
DTEND;TZID=UTC:20251015T193000
DTSTAMP:20260420T065904
CREATED:20250909T231654Z
LAST-MODIFIED:20250909T231654Z
UID:88953-1760551200-1760556600@bravamagazine.com
SUMMARY:Noogiefest Halloween Social
DESCRIPTION:This year’s Noogiefest Halloween social is all about the Northwoods! \nCome dressed in your favorite costume: costumes welcome\, but not required. We’ll provide you a fun night for all ages in our backyard and inside the clubhouse! Play a few games\, eat some treats\, and assemble crafts. \nPlease email Elizabeth at Elizabeth@gildasclubmadison.org with any questions.
URL:https://bravamagazine.com/event/noogiefest-halloween-social/
LOCATION:Gilda’s Club Madison\, 7907 UW Health Court\, Middleton\, 53562\, United States
CATEGORIES:Community Event,Kid-Friendly Event
ATTACH;FMTTYPE=image/jpeg:https://bravamagazine.com/wp-content/uploads/2025/09/Noggiefest-Halloween.jpg
ORGANIZER;CN="Gilda's Club Madison":MAILTO:lannia@gildasclubmadison.org
END:VEVENT
BEGIN:VEVENT
DTSTART;TZID=UTC:20251019T100000
DTEND;TZID=UTC:20251019T123000
DTSTAMP:20260420T065904
CREATED:20250918T194802Z
LAST-MODIFIED:20250918T194802Z
UID:90730-1760868000-1760877000@bravamagazine.com
SUMMARY:Coffee & Canvas
DESCRIPTION:Over the Garden Wall – Coffee and Canvas\nJoin us for our very first Over the Garden Wall-themed art event on Sunday\, October 19th from 10am – 12:30pm! Spend a cozy\, creative afternoon painting\, sipping coffee\, and enjoying autumnal vibes.\nTicket includes:\n✨ One cafe beverage (additional drinks available for purchase)\n✨ An assortment of baked goods and sandwiches to snack on\n✨ A screening of Over the Garden Wall on our projector\nBring your creativity and a love for all things fall—this is an afternoon you won’t want to miss!\n📍Reserve your spot now—spaces are limited!
URL:https://bravamagazine.com/event/coffee-canvas/
LOCATION:Crema Cafe\, 4124 Monona Drive\, Monona\, WI\, 53716\, United States
CATEGORIES:Community Event,Kid-Friendly Event
ATTACH;FMTTYPE=image/jpeg:https://bravamagazine.com/wp-content/uploads/2025/09/April-15th.jpg
END:VEVENT
BEGIN:VEVENT
DTSTART;TZID=UTC:20251025T123000
DTEND;TZID=UTC:20251025T143000
DTSTAMP:20260420T065904
CREATED:20250918T003201Z
LAST-MODIFIED:20250918T003201Z
UID:90562-1761395400-1761402600@bravamagazine.com
SUMMARY:The Art of Stock with Pip from Meat People
DESCRIPTION:Join team Deliciouser for a flavorful afternoon with local butcher Pip\, owner of Meat People Butcher. Through tastings and demos\, Pip will show how stocks differ from broth and jus\, and why they’re the secret “cheat code” for building depth in everyday cooking.\nFrom a misoyaki chicken meatball amuse to pork lettuce cups\, five-spice jasmine rice\, and a num tuk-style steak salad\, you’ll experience how humble bones and vegetables transform into dishes that truly “Taste Like Victory.” Enjoy a comforting lunch featuring these creations\, and head home with recipes and inspiration to bring the power of stock into your own kitchen. \nBar & Shopping @ 12:00 p.m.\nWorkshop @ 12:30 p.m.\nTickets: $70 \nYour $25 reservation deposit will be subtracted from your final bill\nWe offer a 3% discount on final payment with cash
URL:https://bravamagazine.com/event/the-art-of-stock-with-pip-from-meat-people/
LOCATION:The Deliciouser\, 931 E. Main St. Suite 7\, Madison\, WI\, 53703\, United States
CATEGORIES:Community Event
ATTACH;FMTTYPE=image/jpeg:https://bravamagazine.com/wp-content/uploads/2025/09/Toast-Event-Template-1-3.jpg
END:VEVENT
BEGIN:VEVENT
DTSTART;TZID=UTC:20251025T140000
DTEND;TZID=UTC:20251025T163000
DTSTAMP:20260420T065904
CREATED:20250910T003019Z
LAST-MODIFIED:20250910T003019Z
UID:88998-1761400800-1761409800@bravamagazine.com
SUMMARY:Pieowa: A Piece of America Film Screening; Q&A with Beth Howard; $5 pie slices
DESCRIPTION:Film Showing: PIEOWA: A PIECE OF AMERICA by Director/Videographer/Author Beth Howard celebrates the myriad ways pie is woven into Iowa’s culture\, the lengths people will go to for a slice\, and how this humble pastry can bake the world a better place. Q&A with Beth following the film. Pie slices will be available for sale. \nTickets online here: https://www.zeffy.com/en-US/ticketing/pieowa-a-piece-of-america \nMore information: https://www.facebook.com/events/748932287946040
URL:https://bravamagazine.com/event/pieowa-a-piece-of-america-film-screening-qa-with-beth-howard-5-pie-slices/
LOCATION:WI
CATEGORIES:Community Event,Kid-Friendly Event,Theater
ATTACH;FMTTYPE=image/jpeg:https://bravamagazine.com/wp-content/uploads/2025/09/Simple-Wedding-Facebook-Event-Cover-with-Photo-1.jpg
END:VEVENT
END:VCALENDAR