BEGIN:VCALENDAR
VERSION:2.0
PRODID:-//BRAVA Magazine - ECPv6.15.20//NONSGML v1.0//EN
CALSCALE:GREGORIAN
METHOD:PUBLISH
X-ORIGINAL-URL:https://bravamagazine.com
X-WR-CALDESC:Events for BRAVA Magazine
REFRESH-INTERVAL;VALUE=DURATION:PT1H
X-Robots-Tag:noindex
X-PUBLISHED-TTL:PT1H
BEGIN:VTIMEZONE
TZID:UTC
BEGIN:STANDARD
TZOFFSETFROM:+0000
TZOFFSETTO:+0000
TZNAME:UTC
DTSTART:20240101T000000
END:STANDARD
END:VTIMEZONE
BEGIN:VEVENT
DTSTART;TZID=UTC:20250501T170000
DTEND;TZID=UTC:20250501T203000
DTSTAMP:20260420T151119
CREATED:20250304T190311Z
LAST-MODIFIED:20250304T190311Z
UID:52509-1746118800-1746131400@bravamagazine.com
SUMMARY:Downtown Middleton Sip & Stroll - Wine Walk
DESCRIPTION:Raise your glass! The Downtown Middleton Business Association is excited to host our annual Sip & Stroll: Wine Walk. Do a little sipping\, a little shopping\, and taste a little food. Most of all\, enjoy a night out with your friends! \nYour ticket brings you admission to all 20+ sip stops\, a custom sampling wine glass\, and mouthwatering snacks at each location. It’s not just a stroll; it’s a celebration of flavors while getting to explore the hip & historic Downtown Middleton. \nDATE: May 1st\, 2025\nTIME: 5pm – 8:30pm\nTICKETS: $40 per person\, $10 DD
URL:https://bravamagazine.com/event/downtown-middleton-sip-stroll-wine-walk-2/
LOCATION:Downtown Middleton\, WI\, 1821 Parmenter St\, Middleton\, WI\, 53562\, Select a Country:
CATEGORIES:Community Event
ATTACH;FMTTYPE=image/jpeg:https://bravamagazine.com/wp-content/uploads/2025/03/2025-Sip-Stroll-with-date-and-time.jpg
END:VEVENT
BEGIN:VEVENT
DTSTART;TZID=UTC:20250503T120000
DTEND;TZID=UTC:20250505T220000
DTSTAMP:20260420T151119
CREATED:20250430T215049Z
LAST-MODIFIED:20250430T215049Z
UID:54576-1746273600-1746482400@bravamagazine.com
SUMMARY:May the 4th Be With You / Cinco de Mayo Weekend at Working Draft
DESCRIPTION:Saturday\, May 3rd\, we’re throwing a party to celebrate Cinco de Mayo on the Third of May. We’ll have a black lime and Mexican cinnamon infused version of No Está Mal Mexican-Style Lager\, house-made margaritas\, the Sabor Regio food truck\, and fun and games in the parking lot. \nThe weekend continues on Sunday May the 4th (Be With You!)\, AKA Star Wars Day. We’ll be celebrating in style with a Blue “Milk”shake IPA that will hearken you back to breakfasts from a time long ago in a galaxy far\, far away. We’ll be show some of your favorite movies on the tube\, have some fun Star Wars-themed activities\, and enjoy more tacos from Sabor Regio. \nNot only is Sunday May the Fourth Be With You day\, but we are also selling tickets to the Great Taste of the Midwest\, one of the premiere beer events in the country\, hosted by the Madison Homebrewers and Tasters Guild and held the second Saturday in August. Tickets go on sale at noon\, but you can line up in the WDBC parking starting at 7am. At 8am\, we’ll open the taps and Sabor Regio will make breakfast tacos. \nWe’ll wrap it up on the actual Cinco de Mayo with tacos from Sabor Regio\, margaritas\, and a Lego Night especial. \nSounds like a great weekend to me!
URL:https://bravamagazine.com/event/may-the-4th-be-with-you-cinco-de-mayo-weekend-at-working-draft/
LOCATION:Working Draft Beer Company\, 1129 East Wilson Street\, Madison\, WI\, 53703\, United States
CATEGORIES:Community Event
ATTACH;FMTTYPE=image/png:https://bravamagazine.com/wp-content/uploads/2025/04/1.png
END:VEVENT
BEGIN:VEVENT
DTSTART;TZID=UTC:20250504T100000
DTEND;TZID=UTC:20250504T120000
DTSTAMP:20260420T151119
CREATED:20250423T174419Z
LAST-MODIFIED:20250423T174419Z
UID:53754-1746352800-1746360000@bravamagazine.com
SUMMARY:Campsite Chef Cooking Class
DESCRIPTION:Join us for a hands-on cooking adventure where you’ll gain skills for outdoor cooking! In this class\, we’ll teach you how to create a meal over a campfire and camp stove\, using simple\, yet effective techniques. Staff will review basic camping cooking equipment\, build a campfire suitable for cooking\, discuss safety around campfire cooking\, and instruct how to cook a meal using 3 different methods! \nMenu\n-Bean Salad using easy to camp transport/store ingredients\n-Vegetarian Chili using a Dutch oven\n-Desserts using foil packets \nThis class is for beginner campsite chefs and designed to introduce you to campsite cooking skills. During the class you will prepare and eat the menu listed above. Get ready to turn your campsite into the best outdoor kitchen around! \nRegistration is required.\nCost: $30 per person\nAge: 12 and up. Minors must be accompanied by an adult.
URL:https://bravamagazine.com/event/campsite-chef-cooking-class/
LOCATION:lussier family heritage center\, 3101 Lake Farm Rd\, Madison\, WI\, 53711\, United States
CATEGORIES:Community Event
ATTACH;FMTTYPE=image/jpeg:https://bravamagazine.com/wp-content/uploads/2025/04/Dutch-Oven-on-Campfire.jpg
END:VEVENT
BEGIN:VEVENT
DTSTART;TZID=UTC:20250510T170000
DTEND;TZID=UTC:20250510T210000
DTSTAMP:20260420T151119
CREATED:20250424T213002Z
LAST-MODIFIED:20250424T213002Z
UID:53950-1746896400-1746910800@bravamagazine.com
SUMMARY:Blind Tiger Night Market at Working Draft Beer Co
DESCRIPTION:Join us as we host our second Blind Tiger Night Market. Between 5-9pm on Saturday\, May 10th\, there will be something for everyone\, including: \n— Over a dozen Madison- and Milwaukee-area artists and makers are bringing their crafts\n— Opportunities to DIY crafts yourself\n— Common Pasta food truck will be feeding us\n— Ice Cream Social is bringing dessert\n— DJ Dudley Noon will be spinning records\n— Working Draft is releasing the Blind Tiger Amber Alt! \nEnjoying great beer and food\, listening to great tunes\, browsing amazing one-of-a-kind crafts\, all under the moonlight? Sounds perfect!
URL:https://bravamagazine.com/event/blind-tiger-night-market-at-working-draft-beer-co/
LOCATION:Working Draft Beer Company\, 1129 East Wilson Street\, Madison\, WI\, 53703\, United States
CATEGORIES:Community Event
ATTACH;FMTTYPE=image/jpeg:https://bravamagazine.com/wp-content/uploads/2025/04/103937.jpg
END:VEVENT
BEGIN:VEVENT
DTSTART;TZID=UTC:20250511T080000
DTEND;TZID=UTC:20250511T170000
DTSTAMP:20260420T151119
CREATED:20250308T031949Z
LAST-MODIFIED:20250308T031949Z
UID:52613-1746950400-1746982800@bravamagazine.com
SUMMARY:Mother’s Day Nordic Champagne Brunch - May 11th
DESCRIPTION:Join team Deliciouser for a special Mother’s Day brunch as we get our *Hygge on with a nordic inspired menu of spring favorites. We’ll be serving breakfast martinis and flights of bubbly to compliment. \nAntica spiced cardamom granola\, seeds\, berries\, yogurt\nScandinavian Salad Plate\n~Vadouvan Skagen shrimp salad – Swedish roasted beets\, ginger\, rye crouton and dill – Spring\n~Mixed greens – havarti cheese – pickled herring\nSmørrebrød\n~Open face Danish sandwich – whipped ricotta\, Hart-Beet cured salmon\, jammy egg\, Danish trout roe\, spring radish\, dill\nBrita Cake\n~Nordic spiced meringue cake\, berries \n*Hygge a Danish word that describes a feeling of contentment\, coziness and well-being. Pronounced “hoo-gah” \nOptional drink pairing\, as well as a curated selection of wine\, spirits and spirit-free cocktails available\nPlease provide all dietary restrictions and allergies upon booking\nGuests enjoy 10% off spices and featured wines at events\nBar & Shopping @ 11:30 a.m.\nBrunch @ 12:15 p.m.\nTickets: $65 + 20% Service Charge on Food & Drinks\nYour $25 reservation deposit will be subtracted from your final bill\nWe offer a 3% discount on final payment with cash
URL:https://bravamagazine.com/event/mothers-day-nordic-champagne-brunch-may-11th/
LOCATION:The Deliciouser\, 931 E. Main St. Suite 7\, Madison\, WI\, 53703\, United States
CATEGORIES:Community Event
ATTACH;FMTTYPE=image/jpeg:https://bravamagazine.com/wp-content/uploads/2025/03/Deliciouser_Mediterranean_Market-Salad-0684.jpg
END:VEVENT
BEGIN:VEVENT
DTSTART;TZID=UTC:20250512T200000
DTEND;TZID=UTC:20250512T213000
DTSTAMP:20260420T151119
CREATED:20250505T195815Z
LAST-MODIFIED:20250505T195815Z
UID:55081-1747080000-1747085400@bravamagazine.com
SUMMARY:Stand Up Comedian Zane Lamprey
DESCRIPTION:Amazon Prime comedian Zane Lamprey LIVE! • WORKING DRAFT BEER • Madison\, WI \nCatch Zane Lamprey’s new ANOTHER ROUND! comedy tour. Join us for a night of stand-up and amazing craft beer! \n– 7:00 VIP Doors\n– 7:15 VIP Drinking Games with Zane\n– 7:30 General Admision Doors\n– 8:00 Showtime!\n– 9:15 Call an Uber \nAs a pre-game\, watch Zane’s three Amazon Prime stand-up specials: Tender Looks \, Ski Patrol and Medium Club ! \nThe ANOTHER ROUND! stand-up is completely new jokes and stories\, so watching his stand-up specials won’t ruin the show. \nThis event is strictly for 21+ \nIf this event is canceled\, tickets will automatically be applied toward a rescheduled performance.
URL:https://bravamagazine.com/event/stand-up-comedian-zane-lamprey/
LOCATION:Working Draft Beer Company\, 1129 East Wilson Street\, Madison\, WI\, 53703\, United States
CATEGORIES:Community Event
ATTACH;FMTTYPE=image/jpeg:https://bravamagazine.com/wp-content/uploads/2025/05/104845.jpg
END:VEVENT
BEGIN:VEVENT
DTSTART;TZID=UTC:20250517T090000
DTEND;TZID=UTC:20250517T150000
DTSTAMP:20260420T151119
CREATED:20250424T014925Z
LAST-MODIFIED:20250424T171438Z
UID:53888-1747472400-1747494000@bravamagazine.com
SUMMARY:Kids Building Wisconsin 2025
DESCRIPTION:Mark your calendars for KBW 2025 on May 17\, 2025\, from 9:00 AM to 3:00 PM. Kids Building Wisconsin is an exciting and educational event for kids\, celebrating the construction industry. With over 50 interactive exhibits\, it’s a day full of fun and learning at McKee Farms Park in Fitchburg\, WI. From local trades to industry participants\, there’s something for everyone. Get ready for hands-on activities\, demonstrations\, and unforgettable experiences. Don’t miss out on this fantastic opportunity to explore and engage with the world of construction!
URL:https://bravamagazine.com/event/kids-building-wisconsin-2025/
LOCATION:McKee Farms Park\, 2930 Chapel Valley Rd\, Fitchburg \, WI\, 53508\, United States
CATEGORIES:Community Event,Kid-Friendly Event
ATTACH;FMTTYPE=image/jpeg:https://bravamagazine.com/wp-content/uploads/2025/04/486573228_1074440998053767_6645990944586839132_n.jpg
END:VEVENT
BEGIN:VEVENT
DTSTART;TZID=UTC:20250521T173000
DTEND;TZID=UTC:20250521T203000
DTSTAMP:20260420T151119
CREATED:20250303T085822Z
LAST-MODIFIED:20250303T085822Z
UID:52432-1747848600-1747859400@bravamagazine.com
SUMMARY:Supper & Sleight of Hand Featuring Magician Rick Wilcox - Wednesday\, May 21st
DESCRIPTION:Join team Deliciouser for a very special dinner and a show event featuring magician extraordinaire Rick Wilcox direct from the eponymously named Rick Wilcox Magic Theater in Wisconsin Dells. This evening’s menu is based on our Wisconsin Supper Club Spice collection. \nDinner and a show\n-Deliciouser Relish Trays\n-Asparagus Soup with Herbes de Provence\, Goat Cheese Crouton\n-Supper Club Steak Frites or Signature Seasoned Black Cod on Parsnip Purée\n-Sherry Custard Cake \nOptional drink pairing\, as well as a curated selection of wine\, spirits and spirit-free cocktails available\nPlease provide all dietary restrictions and allergies upon booking\nGuests enjoy 10% off spices and featured wines at events\nBar & table-side card tricks @ 5:30 p.m.\nDinner @ 6:15 p.m. (Magic show between dinner and dessert)\nTickets: $135 + 20% Service Charge on Food & Drinks\nYour $25 reservation deposit will be subtracted from your final bill\nWe offer a 3% discount on final payment with cash
URL:https://bravamagazine.com/event/supper-sleight-of-hand-featuring-magician-rick-wilcox-wednesday-may-21st/
LOCATION:The Deliciouser\, 931 E. Main St. Suite 7\, Madison\, WI\, 53703\, United States
CATEGORIES:Community Event
ATTACH;FMTTYPE=image/jpeg:https://bravamagazine.com/wp-content/uploads/2025/03/Rick-Wilcox_deliciouser_2024-35.jpg
END:VEVENT
BEGIN:VEVENT
DTSTART;TZID=UTC:20250528T173000
DTEND;TZID=UTC:20250528T203000
DTSTAMP:20260420T151119
CREATED:20250303T083832Z
LAST-MODIFIED:20250303T083832Z
UID:52422-1748453400-1748464200@bravamagazine.com
SUMMARY:Watercolor Feast with Erin Gleeson - Wednesday\, May 28th
DESCRIPTION:Join us for a special evening with author and artist Erin Gleeson. Erin has recently moved to Madison from California where she’s spent the last several years writing and illustrating her bestselling Forest Feast cookbooks series from her cabin in the redwoods. We are excited to feature a colorful\, vegetarian 5-course menu inspired by her cookbooks. Each guest will receive a copy of Erin’s latest book\, The Watercolor Feast\, which teaches readers to paint fruits\, vegetables\, and edible flowers. There will be watercolors and fresh produce set out at each table so guests can interact with the medium\, learn from Erin\, and make time for creativity and conversation over a vibrant meal. \nErin Gleeson is the New York Times bestselling author of The Forest Feast vegetarian cookbook series. Her books have been translated into 10 languages and are sold worldwide. Her 6th book\, The Watercolor Feast\, will be released April 15\, 2025. This book encourages readers to make time for creativity by learning to paint fruits\, vegetables\, and edible flowers using watercolor. Erin teaches in the Continuing Studies program at Stanford University and writes the weekly Substack newsletter Forest Feast Supper Club. Learn more about Erin here. \nA seasonal 5-course vegetarian menu will be served\, and each ticket includes a copy of the cookbook \nOptional drink pairing\, as well as a curated selection of wine\, spirits and spirit-free cocktails available\nPlease provide all dietary restrictions and allergies upon booking\nGuests enjoy 10% off spices and featured wines at events\nTickets: $115\nYour $25 reservation deposit will be subtracted from your final bill\nWe offer a 3% discount on final payment with cash
URL:https://bravamagazine.com/event/watercolor-feast-with-erin-gleeson-wednesday-may-28th/
LOCATION:The Deliciouser\, 931 E. Main St. Suite 7\, Madison\, WI\, 53703\, United States
CATEGORIES:Community Event
ATTACH;FMTTYPE=image/jpeg:https://bravamagazine.com/wp-content/uploads/2025/03/gleeson_watercolor-feast_001.jpg
END:VEVENT
BEGIN:VEVENT
DTSTART;TZID=UTC:20250528T193000
DTEND;TZID=UTC:20250601T143000
DTSTAMP:20260420T151119
CREATED:20250505T185035Z
LAST-MODIFIED:20250505T185035Z
UID:54984-1748460600-1748788200@bravamagazine.com
SUMMARY:LunART Festival 2025: "Her Legacy\, Our Voice"
DESCRIPTION:LunART starts the summer off with a bang as they present their 2025 LunART Festival: “Her Legacy\, Our Voice\,” taking place from Wednesday\, May 28 through Sunday\, June 1. As one of the nation’s few organizations solely dedicated to championing women artists\, LunART is rewriting the narrative through electrifying chamber music\, powerful interdisciplinary programming\, transformative educational opportunities\, and soul-fulfilling\, impactful discussions. \nThis year’s festival features three unmissable gala concerts at the Wisconsin Youth Symphony Orchestra Center\, headlined by internationally renowned 2025 Composer-in-Residence Dr. Chen Yi. From Chen’s most iconic works to groundbreaking new compositions\, the concerts spotlight a thrilling lineup\, including world premieres by the 2025 Call for Scores winners\, and the return of mezzo-soprano Adriana Zabala as Susan B. Anthony in a riveting song cycle chronicling the suffragist’s landmark trial.\nAlso taking the stage: the 2025 Composers Hub Cohort will collaborate with Chen in a week of creative exploration\, culminating in a genre-defying showcase that amplifies the bold future of women composers. \nThe festival kicks off with a powerful\, intimate panel featuring Chen\, Adriana Zabala\, and acclaimed portrait artist Desere Mayo—each pushing boundaries and forging space for women’s voices in unique\, compelling ways. Mayo’s breathtaking visual art exhibition\, which explores the intersection of creativity and social change\, will be on display at all festival events. \nWith intimate performances that blend winds\, strings\, voices\, and piano—and a focus on connection\, legacy\, and innovation—the 2025 LunART Festival is more than a concert series. It’s a movement. A gathering. A spotlight on the stories that shape us—and the voices leading us forward. \nDon’t miss your chance to witness the future of the arts\, live and in full force. \nCommissioned Artwork \nIn addition to her participation in the panel discussion and performances\, Desere Mayo has been commissioned by LunART to create a commemorative artwork for the Festival 2025 theme\, “Her Legacy\, Our Voice.” Varieties of her artwork will be available for purchase at all festival events. \nGet Your Tickets Today!\nTickets for the 2025 LunART Festival are now on sale and can be purchased at lunartfestival.org. Don’t wait–tickets purchased ahead of time are $30 instead of $35! Or you can partake in our special Gala Concert Bundle and get $10 off your concert experience. Students can present an ID upon arrival to\nsecure a $15 ticket. \n2025 Festival Schedule: \n“Her Legacy\, Our Voice” Panel Discussion – FREE Admission\nWednesday\, May 28\, 7:30 PM\nThe festival will commence with a powerful panel discussion\, bringing together three distinguished artists– Composer-in-Residence Dr. Chen Yi\, vocalist Adriana Zabala\, and portrait artist Desere Mayo – who are actively strengthening the legacy of women in the arts while forging their own unique creative paths. \nGala Chamber Music Concert: HER LEGACY\nFriday\, May 30\, 7:30 PM\nAudiences will experience an electrifying journey featuring the vibrant energy of 2025 Chen Yi’s “Qi\,” followed by the 2025 Call for Scores Winner Lingbo Ma’s “Dance Unleashed\,” a sonata by Eugenie Rocherolle\, and a powerful performance of Steven Mark Kohn’s gripping musical drama\, “The Trial of Susan B. Anthony\,” brought to life by guest mezzo soprano Adriana Zabala. \nGala Chamber Music Concert: OUR VOICE\nSaturday\, May 31\, 7:30 PM\nOUR VOICE promises a whirlwind of bold and breathtaking music by an extraordinary lineup of composers\, including the trailblazing Rebecca Clarke\, the masterful Louise Farrenc\, Composer-in-Residence Chen Yi\, Sato Matsui in a highly anticipated world premiere\, and a spotlight on rising talents – 2025 Call for Scores winners Stella G. Gitelman Willoughby and Jennifer Margaret Barker. \nComposers Hub Spotlight Chamber Music Concert – FREE Admission\nSunday\, June 1\, 2:30 PM\nThe festival will conclude with the Composers Hub Spotlight Concert. This grand finale of unites seven composers from across the globe\, whose distinct creative voices are shaping the landscape of 21st-century music. LunART’s 2025 Composers Hub Cohort will join forces with Composer-in-Residence Dr. Chen Yi for a week of workshops and collaboration\, culminating in this one-of-a-kind sonic palette. A reception will follow the concert! \nLunART Festival is supported by the Amphion Foundation\, Arts and Literature Laboratory\, Bolz Center for Arts Administration\, the BRAVA Magazine\, Dane Arts\, Ian’s Pizza\, Madison Arts Commission with additional funds from the Wisconsin Arts Board\, Marriott Daughters Foundation\, Microtone Media\, Pleasant T. Rowland Foundation\, Willy Street Co-op\, WORT\, and WYSO. \nLUNART’S MISSION is to support\, inspire\, promote\, and celebrate ALL women in the arts through public performances\, exhibitions\, workshops\, and interdisciplinary collaboration; thus enriching our community and creating a welcoming space for learning and experimentation.
URL:https://bravamagazine.com/event/lunart-festival-2025-her-legacy-our-voice/
LOCATION:WYSO Center for Music\, 1118 East Washington Avenue\, Madison\, 53703\, United States
CATEGORIES:Community Event,Kid-Friendly Event,Live Music
ATTACH;FMTTYPE=image/jpeg:https://bravamagazine.com/wp-content/uploads/2025/05/Festival_Poster_Banner_With_Sponsors.jpg
END:VEVENT
BEGIN:VEVENT
DTSTART;TZID=UTC:20250529T193000
DTEND;TZID=UTC:20250529T210000
DTSTAMP:20260420T151119
CREATED:20250516T191221Z
LAST-MODIFIED:20250516T191221Z
UID:56208-1748547000-1748552400@bravamagazine.com
SUMMARY:Stand Up Comedy Night at Working Draft Beer Co 5/29
DESCRIPTION:Join us one Thursday each month at WDBC for Stand-Up Comedy Night. Lots of laughs\, a pizza and pretzels\, and lots of great beer. There is no cover charge\, but the comics wouldn’t mind if you threw in $10 so they can pay their rent 🙂 \nThis month’s show is at 7:30 on Thursday\, May 29th and includes sets from host Eli Wilz and four other great comics. \nWe’ll have a food truck as well\, so come hungry!
URL:https://bravamagazine.com/event/stand-up-comedy-night-at-working-draft-beer-co-5-29/
LOCATION:Working Draft Beer Company\, 1129 East Wilson Street\, Madison\, WI\, 53703\, United States
CATEGORIES:Community Event
ATTACH;FMTTYPE=image/jpeg:https://bravamagazine.com/wp-content/uploads/2025/05/2-1.jpg
END:VEVENT
BEGIN:VEVENT
DTSTART;TZID=UTC:20250531T110000
DTEND;TZID=UTC:20250601T183000
DTSTAMP:20260420T151119
CREATED:20250424T230239Z
LAST-MODIFIED:20250424T230327Z
UID:53965-1748689200-1748802600@bravamagazine.com
SUMMARY:Festa Italia 2025
DESCRIPTION:Festa Italia\, presented by the Italian Workmen’s Club of Madison\, WI\, is a celebration of Italian heritage with food\, music and family fun held in McKee Farms Park in Fitchburg on Saturday\, May 31\, and Sunday\, June 1\, 2025. \nSaturday\, May 31 – 11:00am – 10:00pm\nSunday\, June 1 – 10:00am – 6:30pm \nPasta Dinners\, Bocce tournaments\, cooking demos\, soccer skills demo with Forward Madison FC\, Italian Folk Dancers\, kids games\, and a pasta eating contest. \nAdmission is $7 per day (no pets allowed). Children under 12 are FREE! \nParking is FREE with shuttles from several parking areas.
URL:https://bravamagazine.com/event/festa-italia-2025/
LOCATION:McKee Farms Park\, 2930 Chapel Valley Rd\, Fitchburg \, WI\, 53508\, United States
CATEGORIES:Community Event,Kid-Friendly Event,Live Music
ATTACH;FMTTYPE=image/jpeg:https://bravamagazine.com/wp-content/uploads/2025/04/IMG_9473.jpg
END:VEVENT
END:VCALENDAR