BEGIN:VCALENDAR
VERSION:2.0
PRODID:-//BRAVA Magazine - ECPv6.15.20//NONSGML v1.0//EN
CALSCALE:GREGORIAN
METHOD:PUBLISH
X-WR-CALNAME:BRAVA Magazine
X-ORIGINAL-URL:https://bravamagazine.com
X-WR-CALDESC:Events for BRAVA Magazine
REFRESH-INTERVAL;VALUE=DURATION:PT1H
X-Robots-Tag:noindex
X-PUBLISHED-TTL:PT1H
BEGIN:VTIMEZONE
TZID:America/Chicago
BEGIN:DAYLIGHT
TZOFFSETFROM:-0600
TZOFFSETTO:-0500
TZNAME:CDT
DTSTART:20250309T080000
END:DAYLIGHT
BEGIN:STANDARD
TZOFFSETFROM:-0500
TZOFFSETTO:-0600
TZNAME:CST
DTSTART:20251102T070000
END:STANDARD
BEGIN:DAYLIGHT
TZOFFSETFROM:-0600
TZOFFSETTO:-0500
TZNAME:CDT
DTSTART:20260308T080000
END:DAYLIGHT
BEGIN:STANDARD
TZOFFSETFROM:-0500
TZOFFSETTO:-0600
TZNAME:CST
DTSTART:20261101T070000
END:STANDARD
BEGIN:DAYLIGHT
TZOFFSETFROM:-0600
TZOFFSETTO:-0500
TZNAME:CDT
DTSTART:20270314T080000
END:DAYLIGHT
BEGIN:STANDARD
TZOFFSETFROM:-0500
TZOFFSETTO:-0600
TZNAME:CST
DTSTART:20271107T070000
END:STANDARD
END:VTIMEZONE
BEGIN:VEVENT
DTSTART;TZID=America/Chicago:20260425T080000
DTEND;TZID=America/Chicago:20260425T170000
DTSTAMP:20260419T224342
CREATED:20260319T135935Z
LAST-MODIFIED:20260319T135935Z
UID:195290-1777104000-1777136400@bravamagazine.com
SUMMARY:TRU Challenge (Formerly Festivus Games)
DESCRIPTION:The TRU Challenge (formerly known as the Festivus Games) is a worldwide functional fitness competition designed specifically for novice\, intermediate\, masters\, and adaptive athletes— It’s a supportive\, fun\, and inclusive day of competition with divisions for individuals and teams.\nThis is a great chance for your clients to step onto the competition floor in a welcoming environment\, test their skills\, enjoy camaraderie\, and experience the thrill of competing. \nKey details: \nDate: April 25\, 2026\nLocation: CrossFit Sanctify\, Madison\, WI\nRegister by March 21\, 2026 for a FREE athlete shirt!\nFull info and registration: TRU-Challenge.com/host-list (look for our event listing)
URL:https://bravamagazine.com/event/tru-challenge-formerly-festivus-games/
LOCATION:CrossFit Sanctify\, 4535 Helgesen dr\, Madison\, WI\, 53718\, United States
CATEGORIES:Community Event
ATTACH;FMTTYPE=image/jpeg:https://bravamagazine.com/wp-content/uploads/2026/03/02b7fea9.jpg
ORGANIZER;CN="CrossFit Sanctify":MAILTO:Morris@CrossFitSanctify.com
END:VEVENT
END:VCALENDAR