BEGIN:VCALENDAR
VERSION:2.0
PRODID:-//BRAVA Magazine - ECPv6.15.20//NONSGML v1.0//EN
CALSCALE:GREGORIAN
METHOD:PUBLISH
X-ORIGINAL-URL:https://bravamagazine.com
X-WR-CALDESC:Events for BRAVA Magazine
REFRESH-INTERVAL;VALUE=DURATION:PT1H
X-Robots-Tag:noindex
X-PUBLISHED-TTL:PT1H
BEGIN:VTIMEZONE
TZID:UTC
BEGIN:STANDARD
TZOFFSETFROM:+0000
TZOFFSETTO:+0000
TZNAME:UTC
DTSTART:20240101T000000
END:STANDARD
END:VTIMEZONE
BEGIN:VEVENT
DTSTART;TZID=UTC:20250607T100000
DTEND;TZID=UTC:20250607T140000
DTSTAMP:20260420T132933
CREATED:20250516T014052Z
LAST-MODIFIED:20250516T014052Z
UID:56112-1749290400-1749304800@bravamagazine.com
SUMMARY:Fitchburg's Draft Picks Brewery Ride
DESCRIPTION:It’s an exciting time of year in Wisconsin\, with many focusing on their favored draft picks in Green Bay\, we’re focusing on our favorite “DRAFT” picks in Fitchburg! New to the Bike the ‘Burg Challenge in 2025\, this organized ride will take cyclists on a fun tour of local breweries\, including the Great Dane Pub & Brewing Co.\, Delta Beer Lab\, and Hop Haus Brewing Company. Riders will get to explore local bike trails along the way and each stop will have snacks and samples of beer to try (for those 21+).\nEvery brewery has non-alcoholic beverages available\, too! \nThis ride is an 18 mile round trip\, at your own pace\, with leaders from Bike Fitchburg on the route.
URL:https://bravamagazine.com/event/fitchburgs-draft-picks-brewery-ride/
LOCATION:Hop Haus\, 2975 Sub-Zero Pkwy\, Fitchburg\, WI\, 53711\, United States
CATEGORIES:Community Event
ATTACH;FMTTYPE=image/jpeg:https://bravamagazine.com/wp-content/uploads/2025/05/496126529_1741587923342224_9000957514167264332_n.jpg
ORGANIZER;CN="Fitchburg Chamber Visitor + Business Bureau":MAILTO:info@fitchburgchamber.com
END:VEVENT
END:VCALENDAR