BEGIN:VCALENDAR
VERSION:2.0
PRODID:-//BRAVA Magazine - ECPv6.15.20//NONSGML v1.0//EN
CALSCALE:GREGORIAN
METHOD:PUBLISH
X-ORIGINAL-URL:https://bravamagazine.com
X-WR-CALDESC:Events for BRAVA Magazine
REFRESH-INTERVAL;VALUE=DURATION:PT1H
X-Robots-Tag:noindex
X-PUBLISHED-TTL:PT1H
BEGIN:VTIMEZONE
TZID:America/Chicago
BEGIN:DAYLIGHT
TZOFFSETFROM:-0600
TZOFFSETTO:-0500
TZNAME:CDT
DTSTART:20250309T080000
END:DAYLIGHT
BEGIN:STANDARD
TZOFFSETFROM:-0500
TZOFFSETTO:-0600
TZNAME:CST
DTSTART:20251102T070000
END:STANDARD
BEGIN:DAYLIGHT
TZOFFSETFROM:-0600
TZOFFSETTO:-0500
TZNAME:CDT
DTSTART:20260308T080000
END:DAYLIGHT
BEGIN:STANDARD
TZOFFSETFROM:-0500
TZOFFSETTO:-0600
TZNAME:CST
DTSTART:20261101T070000
END:STANDARD
BEGIN:DAYLIGHT
TZOFFSETFROM:-0600
TZOFFSETTO:-0500
TZNAME:CDT
DTSTART:20270314T080000
END:DAYLIGHT
BEGIN:STANDARD
TZOFFSETFROM:-0500
TZOFFSETTO:-0600
TZNAME:CST
DTSTART:20271107T070000
END:STANDARD
END:VTIMEZONE
BEGIN:VEVENT
DTSTART;TZID=America/Chicago:20260322T090000
DTEND;TZID=America/Chicago:20260322T150000
DTSTAMP:20260420T002905
CREATED:20260311T160346Z
LAST-MODIFIED:20260311T160346Z
UID:190136-1774170000-1774191600@bravamagazine.com
SUMMARY:Black Earth Childen's Museum Spring Break Activities
DESCRIPTION:Black Earth Children’s Museum offers DAILY ACTIVITIES during spring break to keep your kids entertained\, engaged\, and creative. Our interactive exhibits bring out big fun and playful learning. Come visit us during spring break! It will be the best “staycation” fun you and your kids will ever have. \nMarch 22- Sensory Sunday- 2-4pm
URL:https://bravamagazine.com/event/black-earth-childens-museum-spring-break-activities/
LOCATION:Black Earth Children’s Museum\, 1131 Mills Street\, Black Earth\, WI\, 53515\, United States
CATEGORIES:Kid-Friendly Event
ATTACH;FMTTYPE=image/jpeg:https://bravamagazine.com/wp-content/uploads/2026/03/3f71e0_6813628d7ceb4e3dae30ab0f3e5ae591mv2-1.jpg
ORGANIZER;CN="Black Earth Children's Museum":MAILTO:development@blackearthchildrensmuseum.org
END:VEVENT
END:VCALENDAR