BEGIN:VCALENDAR
VERSION:2.0
PRODID:-//BRAVA Magazine - ECPv6.15.20//NONSGML v1.0//EN
CALSCALE:GREGORIAN
METHOD:PUBLISH
X-ORIGINAL-URL:https://bravamagazine.com
X-WR-CALDESC:Events for BRAVA Magazine
REFRESH-INTERVAL;VALUE=DURATION:PT1H
X-Robots-Tag:noindex
X-PUBLISHED-TTL:PT1H
BEGIN:VTIMEZONE
TZID:America/Chicago
BEGIN:DAYLIGHT
TZOFFSETFROM:-0600
TZOFFSETTO:-0500
TZNAME:CDT
DTSTART:20250309T080000
END:DAYLIGHT
BEGIN:STANDARD
TZOFFSETFROM:-0500
TZOFFSETTO:-0600
TZNAME:CST
DTSTART:20251102T070000
END:STANDARD
BEGIN:DAYLIGHT
TZOFFSETFROM:-0600
TZOFFSETTO:-0500
TZNAME:CDT
DTSTART:20260308T080000
END:DAYLIGHT
BEGIN:STANDARD
TZOFFSETFROM:-0500
TZOFFSETTO:-0600
TZNAME:CST
DTSTART:20261101T070000
END:STANDARD
BEGIN:DAYLIGHT
TZOFFSETFROM:-0600
TZOFFSETTO:-0500
TZNAME:CDT
DTSTART:20270314T080000
END:DAYLIGHT
BEGIN:STANDARD
TZOFFSETFROM:-0500
TZOFFSETTO:-0600
TZNAME:CST
DTSTART:20271107T070000
END:STANDARD
END:VTIMEZONE
BEGIN:VEVENT
DTSTART;TZID=America/Chicago:20260314T130000
DTEND;TZID=America/Chicago:20260314T160000
DTSTAMP:20260420T002852
CREATED:20260205T210600Z
LAST-MODIFIED:20260205T210600Z
UID:170426-1773493200-1773504000@bravamagazine.com
SUMMARY:Maple Syrup Fest
DESCRIPTION:Celebrate spring with Maple Syrup Fest—a family-oriented festival at the Aldo Leopold Nature Center! \nCome one\, come all to the most unforgettable celebration of the season! This event offers a blend of indoor and outdoor activities found nowhere else in Dane County. Stations throughout the grounds will lead visitors through the history and science of maple syruping in Wisconsin. Participants will learn how to tap trees and make REAL maple syrup as well as enjoy a variety of themed activities. It really is a sticky-sweet way to kick-off spring! \nExciting activities include: \n-Learn how to tap a tree and make maple syrup with hands-on activities\n-Sample real tree sap\, maple syrup\, and maple cream\n-Test your nature smarts with maple syrup trivia\n-Try your hand at using early 20th century tools\n-Visit the rustic Children’s Shack\n-Hike the trails\, searching for signs that spring is on the way\n-Enjoy ice cream topped with maple syrup\, for a small donation \nThis event is FREE and open to the PUBLIC! Ice cream topped with maple syrup and food carts available for a fee. \nFREE parking is available approximately two blocks away at Ahuska Park (400 E. Broadway) with a free shuttle (runs every 15-20 minutes). \nNever been to Aldo Leopold Nature Center? Join us to learn what we are all about! \nNo registration required\, walk-ins welcome.
URL:https://bravamagazine.com/event/maple-syrup-fest/
LOCATION:WI
CATEGORIES:Community Event
ATTACH;FMTTYPE=image/jpeg:https://bravamagazine.com/wp-content/uploads/2026/02/IMG_3309.jpg
ORGANIZER;CN="Aldo Leopold Nature Center":MAILTO:kelley@aldoleopoldnaturecenter.org
END:VEVENT
END:VCALENDAR