BEGIN:VCALENDAR
VERSION:2.0
PRODID:-//BRAVA Magazine - ECPv6.15.20//NONSGML v1.0//EN
CALSCALE:GREGORIAN
METHOD:PUBLISH
X-ORIGINAL-URL:https://bravamagazine.com
X-WR-CALDESC:Events for BRAVA Magazine
REFRESH-INTERVAL;VALUE=DURATION:PT1H
X-Robots-Tag:noindex
X-PUBLISHED-TTL:PT1H
BEGIN:VTIMEZONE
TZID:UTC
BEGIN:STANDARD
TZOFFSETFROM:+0000
TZOFFSETTO:+0000
TZNAME:UTC
DTSTART:20250101T000000
END:STANDARD
END:VTIMEZONE
BEGIN:VEVENT
DTSTART;TZID=UTC:20260115T190000
DTEND;TZID=UTC:20260115T201500
DTSTAMP:20260420T035734
CREATED:20251027T184825Z
LAST-MODIFIED:20251027T184825Z
UID:106046-1768503600-1768508100@bravamagazine.com
SUMMARY:Maxwell Street Klezmer Concert
DESCRIPTION:Since 1983\, the Maxwell Street Klezmer Band has been lighting up stages with the joyous spirit of Jewish Klezmer music. Known for their high-energy performances\, soulful melodies\, and irresistible dance rhythms\, the band captivates audiences of all ages with warmth\, humor\, and heart. \nFresh off the release of their sixth album\, Maxwell Street continues to celebrate tradition with a contemporary flair\, keeping klezmer music vibrant and alive for new generations. Under the direction of musical director\, composer\, and violinist Alex Koffman—who also performs with the acclaimed Violins of Hope tour—the ensemble delivers a performance that is as moving as it is uplifting. \nJoin us for an unforgettable evening of music\, memory\, and joy! \nRegistration required: https://secure.qgiv.com/for/membershippayments/event/968453/embed/84520/
URL:https://bravamagazine.com/event/maxwell-street-klezmer-concert/
LOCATION:Rubenstein Pavilion at Ovation Communities\, 1414 N Prospect Ave\, Milwaukee\, WI\, 53202\, United States
CATEGORIES:Community Event
ATTACH;FMTTYPE=image/jpeg:https://bravamagazine.com/wp-content/uploads/2025/10/Maxwell-Street-Klezmer-Band.jpg
ORGANIZER;CN="Jewish Museum Milwaukee":MAILTO:info@jewishmuseummilwaukee.org
END:VEVENT
END:VCALENDAR