BEGIN:VCALENDAR
VERSION:2.0
PRODID:-//BRAVA Magazine - ECPv6.15.20//NONSGML v1.0//EN
CALSCALE:GREGORIAN
METHOD:PUBLISH
X-WR-CALNAME:BRAVA Magazine
X-ORIGINAL-URL:https://bravamagazine.com
X-WR-CALDESC:Events for BRAVA Magazine
REFRESH-INTERVAL;VALUE=DURATION:PT1H
X-Robots-Tag:noindex
X-PUBLISHED-TTL:PT1H
BEGIN:VTIMEZONE
TZID:UTC
BEGIN:STANDARD
TZOFFSETFROM:+0000
TZOFFSETTO:+0000
TZNAME:UTC
DTSTART:20240101T000000
END:STANDARD
END:VTIMEZONE
BEGIN:VEVENT
DTSTART;TZID=UTC:20250517T080000
DTEND;TZID=UTC:20250623T170000
DTSTAMP:20260420T171108
CREATED:20250423T220239Z
LAST-MODIFIED:20250624T200851Z
UID:53853-1747468800-1750698000@bravamagazine.com
SUMMARY:Nature Passport Season
DESCRIPTION:It’s officially Nature Passport season! \nMadison\, WI – This year\, Nature Net is revamping its renowned Nature Passport to make the most of your summer outdoor adventures! Whether you’re discovering hidden gems or completing simple missions\, the updated Nature Passport ensures that you make the most of all that these incredible locations have to offer! Nature Net is also a proud supporter of the Nature Everywhere Initiative—so whether you’re visiting a Nature Net site or exploring your local park\, be sure to get outside and connect with the nature around you! \nThe Nature Passport is a free and self-guided activity journal inviting children and their families to visit the various Nature Net sites and spend time engaging with the natural world. Each site has a list of activities for kids to complete along with further information about the location. Families may work to complete as many of the nature missions as they can\, or they may simply use their Passport as inspiration for their own adventures. Offered in both English and Spanish\, Nature Passports are available at Nature Net sites and local libraries from now to the end of summer. Each site has something truly unique to explore\, so what are you waiting for? Get out there and explore! \nWith a mix of indoor attractions like the Madison Children’s Museum and Cave of the Mounds\, and stunning outdoor spots such as Cherokee Marsh and the UW–Madison Arboretum\, there’s always somewhere to explore no matter the weather! Nature Net Director\, Betsy Parker\, notes that\, “the Nature Passport has always been one of my favorite programs we offer. It can be hard for families to stay creative with activities throughout the summer\, so I love that we can provide a pocket-sized tool that inspires adventure and connects people with our local natural and cultural resources.” \nNature Net is a program of the Aldo Leopold Nature Center and works to get families and educators outdoors. This year’s Nature Passport is offered as a free resource thanks to support from Wild Birds Unlimited and printing via Images Plus. Additionally\, the UW-Madison Latin American\, Caribbean\, and Iberian Studies Program (LACIS) assisted in creating the Spanish language version of the Passport. If you would like to get more involved and keep the Nature Passport going for the next generation of environmental stewards\, donations are accepted at naturenet.org.
URL:https://bravamagazine.com/event/nature-passport-season/
LOCATION:Aldo Leopold Nature Center\, 330 Femrite Drive\, Monona\, WI\, 53716\, United States
CATEGORIES:Kid-Friendly Event
ATTACH;FMTTYPE=image/jpeg:https://bravamagazine.com/wp-content/uploads/2025/04/QR-Code-Option.jpg
ORGANIZER;CN="Aldo Leopold Nature Center":MAILTO:kelley@aldoleopoldnaturecenter.org
END:VEVENT
BEGIN:VEVENT
DTSTART;TZID=UTC:20250518T100000
DTEND;TZID=UTC:20250518T113000
DTSTAMP:20260420T171108
CREATED:20250513T224755Z
LAST-MODIFIED:20250513T224755Z
UID:55173-1747562400-1747567800@bravamagazine.com
SUMMARY:Learn to Geocache
DESCRIPTION:Have you ever wanted to be a modern day treasure hunter? Try geocaching! Geocaching involves using a GPS coordinates to location a hidden container. Our course will involve a brief overview of geocaching\, instruction on using the GPS units\, and then time to go try out your new skill around the park! All equipment will be provided. \nWe recommend that teams be four or fewer individuals. You only need to register one person from your team. \nCost: $15 per team\nAge: All (children under 18 must be chaperoned by an adult) \nRegistration is required.
URL:https://bravamagazine.com/event/learn-to-geocache/
LOCATION:Walking Iron County Park\, 6064 Beckman Rd\, Mazomanie\, WI\, 53560\, United States
CATEGORIES:Community Event,Kid-Friendly Event
ATTACH;FMTTYPE=image/jpeg:https://bravamagazine.com/wp-content/uploads/2025/05/Geocache1-400x230-1.jpg
END:VEVENT
BEGIN:VEVENT
DTSTART;TZID=UTC:20250518T130000
DTEND;TZID=UTC:20250518T143000
DTSTAMP:20260420T171108
CREATED:20250424T013409Z
LAST-MODIFIED:20250424T013409Z
UID:53874-1747573200-1747578600@bravamagazine.com
SUMMARY:WYSO Philharmonia Brass Choir & Philharmonia Orchestra
DESCRIPTION:You are invited to attend the Eugenie Mayer Bolz Family Concerts: Harp Ensemble\, Opus One & Sinfonietta Orchestras. The concert will begin with a performance by the WYSO Harp Ensemble\, directed by Jenny DeRoche. \nOpus One Orchestra\, led by Steve Kurr\, will perform Basile’s Galop by Basil Barès (arr. Jeffrey S. Bishop)\, Dance Pizzicato by David Bobrowitz\, Four Royal Dances by Eric Ewazen\, and River Valley Waltz by Katie O’Hara LaBrie. \nSinfonietta Orchestra\, conducted by Geri Nolden\, will then present Carpe Diem! by Richard Meyer (arr. Carrie Lane Gruselle)\, Iditarod by Soon Hee Newbold\, Les Patineurs “The Skaters” by Émile Waldteufel (arr. Cyndee Giebler)\, and America the Beautiful by Samuel A. Ward (arr. Jason W. Krug).
URL:https://bravamagazine.com/event/wyso-philharmonia-brass-choir-philharmonia-orchestra/
LOCATION:Mead Witter Concert Hall at Hamel Music Center-UW Campus\, 740 University Ave\, Madison\, WI\, 53706\, United States
CATEGORIES:Live Music
ATTACH;FMTTYPE=image/jpeg:https://bravamagazine.com/wp-content/uploads/2025/04/Harp-Opus-Sinf.jpg
ORGANIZER;CN="Wisconsin Youth Symphony Orchestras":MAILTO:wyso@wysomusic.org
END:VEVENT
BEGIN:VEVENT
DTSTART;TZID=UTC:20250518T170000
DTEND;TZID=UTC:20250518T183000
DTSTAMP:20260420T171108
CREATED:20250424T013405Z
LAST-MODIFIED:20250424T013405Z
UID:53881-1747587600-1747593000@bravamagazine.com
SUMMARY:WYSO Youth Brass Choir & Youth Orchestra
DESCRIPTION:You are invited to attend the Youth Brass Choir & Youth Orchestra Concerts. The winners of the 2025 Youth Orchestra Concerto Competition\, Ava Flores (oboe) and Asha Sundaram (flute)\, will be featured. \nThe concert begins with Concerto for Oboe in C Major\, VIIg:C1 by Franz Joseph Haydn (ed. Alexander Wunderer)\, with Ava Flores as soloist. Asha Sundaram will then perform Concertino for Flute in D Major\, Op. 107 by Cécile Chaminade. \nFollowing these featured soloists\, the Youth Orchestra\, conducted by Kyle Knox\, will perform Ralph Vaughan Williams’ sweeping A London Symphony\, and close with Pomp and Circumstance March No. 1 in D by Edward Elgar.
URL:https://bravamagazine.com/event/wyso-youth-brass-choir-youth-orchestra/
LOCATION:Mead Witter Concert Hall at Hamel Music Center-UW Campus\, 740 University Ave\, Madison\, WI\, 53706\, United States
CATEGORIES:Live Music
ATTACH;FMTTYPE=image/jpeg:https://bravamagazine.com/wp-content/uploads/2025/04/Youth-Orchestra.jpg
ORGANIZER;CN="Wisconsin Youth Symphony Orchestras":MAILTO:wyso@wysomusic.org
END:VEVENT
END:VCALENDAR