BEGIN:VCALENDAR
VERSION:2.0
PRODID:-//BRAVA Magazine - ECPv6.15.20//NONSGML v1.0//EN
CALSCALE:GREGORIAN
METHOD:PUBLISH
X-WR-CALNAME:BRAVA Magazine
X-ORIGINAL-URL:https://bravamagazine.com
X-WR-CALDESC:Events for BRAVA Magazine
REFRESH-INTERVAL;VALUE=DURATION:PT1H
X-Robots-Tag:noindex
X-PUBLISHED-TTL:PT1H
BEGIN:VTIMEZONE
TZID:America/Chicago
BEGIN:DAYLIGHT
TZOFFSETFROM:-0600
TZOFFSETTO:-0500
TZNAME:CDT
DTSTART:20250309T080000
END:DAYLIGHT
BEGIN:STANDARD
TZOFFSETFROM:-0500
TZOFFSETTO:-0600
TZNAME:CST
DTSTART:20251102T070000
END:STANDARD
BEGIN:DAYLIGHT
TZOFFSETFROM:-0600
TZOFFSETTO:-0500
TZNAME:CDT
DTSTART:20260308T080000
END:DAYLIGHT
BEGIN:STANDARD
TZOFFSETFROM:-0500
TZOFFSETTO:-0600
TZNAME:CST
DTSTART:20261101T070000
END:STANDARD
BEGIN:DAYLIGHT
TZOFFSETFROM:-0600
TZOFFSETTO:-0500
TZNAME:CDT
DTSTART:20270314T080000
END:DAYLIGHT
BEGIN:STANDARD
TZOFFSETFROM:-0500
TZOFFSETTO:-0600
TZNAME:CST
DTSTART:20271107T070000
END:STANDARD
END:VTIMEZONE
BEGIN:VEVENT
DTSTART;TZID=America/Chicago:20260307T093000
DTEND;TZID=America/Chicago:20260307T143000
DTSTAMP:20260419T224322
CREATED:20260121T134534Z
LAST-MODIFIED:20260121T134534Z
UID:160784-1772875800-1772893800@bravamagazine.com
SUMMARY:Fairy Tale Brunch
DESCRIPTION:Treat your little one to an enchanting afternoon! \nEnjoy a gourmet brunch buffet\, crafts\, coloring\, live ballet performances\, fairy tale characters\, and face painting. Perfect for pre-school and elementary ages. Costumes are encouraged at this activity-filled\, magical event. Bring the child in your life and make some memories! \nQuestions? Reach us at: contact@cmballet.org or 608-422-2003 \nSponsored by Jason Thomas Homes
URL:https://bravamagazine.com/event/fairy-tale-brunch-2/
LOCATION:Blackhawk Country Club\, 3606 Blackhawk Dr\,\, Madison\, WI\, 53705\, United States
CATEGORIES:Community Event,Kid-Friendly Event
ATTACH;FMTTYPE=image/jpeg:https://bravamagazine.com/wp-content/uploads/2026/01/Rapunzel-FTB-1200-X-840px.jpg
ORGANIZER;CN="Central Midwest Ballet Academy":MAILTO:mluksik@cmballet.org
END:VEVENT
BEGIN:VEVENT
DTSTART;TZID=America/Chicago:20260307T100000
DTEND;TZID=America/Chicago:20260307T110000
DTSTAMP:20260419T224322
CREATED:20260127T211128Z
LAST-MODIFIED:20260127T211128Z
UID:165205-1772877600-1772881200@bravamagazine.com
SUMMARY:Trinity Irish Dance Performance (OPEN TO THE PUBLIC)
DESCRIPTION:Experience the gravity-defying jumps and toe-tapping rhythms of this traditional dance form. Trinity Irish Dancers of Madison have been sharing the power\, grace and joy of traditional Irish Dancing since 1982. This special performance will entertain all ages! Please email Elizabeth at Elizabeth@gildasclubmadison.org with any questions
URL:https://bravamagazine.com/event/trinity-irish-dance-performance-open-to-the-public/
LOCATION:Gilda’s Club Madison\, 7907 UW Health Court\, Middleton\, 53562\, United States
CATEGORIES:Community Event,Kid-Friendly Event
ATTACH;FMTTYPE=image/jpeg:https://bravamagazine.com/wp-content/uploads/2026/01/Trinity.jpg
ORGANIZER;CN="Gilda's Club Madison":MAILTO:lannia@gildasclubmadison.org
END:VEVENT
BEGIN:VEVENT
DTSTART;TZID=America/Chicago:20260308T150000
DTEND;TZID=America/Chicago:20260308T170000
DTSTAMP:20260419T224322
CREATED:20260211T204542Z
LAST-MODIFIED:20260211T204542Z
UID:174127-1772982000-1772989200@bravamagazine.com
SUMMARY:ECHOES of TIME: LunART Chamber Music Collective at Token Creek
DESCRIPTION:LunArt Chamber Music Collective—whose mission is to support\, inspire\, promote\, and celebrate all women in the arts—presents a concert of works by women composers performed by women. Music for flute\, viola and harp byHoover\, Larsen\, Bonis and Debussy performed by the exciting ensemble of Ugrčić\, Breckbill & Wienholts.\nA program celebrating women in the arts on International Women’s Day during Women’s History Month 2026. Reception follows. \nMUSICIANS:\nIva Ugrčić\, flute\nMadlen Breckbill\, viola\nJohanna Wienholts\, harp \nPROGRAM:\nKatherine Hoover — Dances & Variations (for flute & harp)\nMélanie (Mel) Bonis — Scènes de la forêt\, Op. 123\, for flute\, harp\, and viola\nLibby Larsen — Trio in Four Movements for flute\, harp\, and viola\nClaude Debussy — Sonata for flute\, viola\, and harp\, L. 137
URL:https://bravamagazine.com/event/echoes-of-time-lunart-chamber-music-collective-at-token-creek/
LOCATION:Token Creek Concert Barn\, 4037 Wisconsin 19\, DeForest\, WI\, 53532-2964\, United States
CATEGORIES:Community Event,Live Music
ATTACH;FMTTYPE=image/jpeg:https://bravamagazine.com/wp-content/uploads/2026/02/LunArt-Trio-of-Pics-1.jpg
END:VEVENT
BEGIN:VEVENT
DTSTART;TZID=America/Chicago:20260308T180000
DTEND;TZID=America/Chicago:20260308T203000
DTSTAMP:20260419T224322
CREATED:20260223T184154Z
LAST-MODIFIED:20260223T184154Z
UID:180567-1772992800-1773001800@bravamagazine.com
SUMMARY:"The Invisible Mammal" - International Women's Day Screening & Panel Discussion
DESCRIPTION:Join us for an inspiring evening to celebrate International Women’s Day\, focusing on the crucial role women play in conservation efforts worldwide. The event features “The Invisible Mammal”\, a feature-length documentary film about bats\, infectious disease\, and women in science. In this intensely cinematic film\, bats are rendered poetically visible: spectacularly streaming out of caves or bridges\, or cradled in a gloved hand\, wings extended. This film follows a team of women scientists trying to save bats from the deadly White-nose Syndrome\, which is putting North American bats at threat of extinction. Following the film\, engage with a diverse panel of women in the conservation field. Our panel will explore: \nKey Challenges: Discuss the unique barriers women encounter in conservation roles and strategies to overcome them.\nInnovative Solutions: Highlight innovative approaches women are implementing to address environmental issues.\nEmpowerment and Leadership: Explore pathways to empower more women in environmental stewardship roles.\nNetworking Opportunities: Connect with fellow attendees and panelists to foster collaboration and knowledge sharing.\nLight refreshments will be available for purchase. \nCost: Free*\nAge: 14+\n*Suggested $5 donation to our environmental education programs to cover the costs of the screening. You will have the option to add this when reserving your ticket.
URL:https://bravamagazine.com/event/the-invisible-mammal-international-womens-day-screening-panel-discussion/
LOCATION:lussier family heritage center\, 3101 Lake Farm Rd\, Madison\, WI\, 53711\, United States
CATEGORIES:Community Event
ATTACH;FMTTYPE=image/jpeg:https://bravamagazine.com/wp-content/uploads/2026/02/624546564_1581542483492544_772304398148451740_n.jpg
ORGANIZER;CN="Heritage Center":MAILTO:heritagecenter@danecounty.gov
END:VEVENT
BEGIN:VEVENT
DTSTART;TZID=America/Chicago:20260314T130000
DTEND;TZID=America/Chicago:20260314T160000
DTSTAMP:20260419T224322
CREATED:20260205T210600Z
LAST-MODIFIED:20260205T210600Z
UID:170426-1773493200-1773504000@bravamagazine.com
SUMMARY:Maple Syrup Fest
DESCRIPTION:Celebrate spring with Maple Syrup Fest—a family-oriented festival at the Aldo Leopold Nature Center! \nCome one\, come all to the most unforgettable celebration of the season! This event offers a blend of indoor and outdoor activities found nowhere else in Dane County. Stations throughout the grounds will lead visitors through the history and science of maple syruping in Wisconsin. Participants will learn how to tap trees and make REAL maple syrup as well as enjoy a variety of themed activities. It really is a sticky-sweet way to kick-off spring! \nExciting activities include: \n-Learn how to tap a tree and make maple syrup with hands-on activities\n-Sample real tree sap\, maple syrup\, and maple cream\n-Test your nature smarts with maple syrup trivia\n-Try your hand at using early 20th century tools\n-Visit the rustic Children’s Shack\n-Hike the trails\, searching for signs that spring is on the way\n-Enjoy ice cream topped with maple syrup\, for a small donation \nThis event is FREE and open to the PUBLIC! Ice cream topped with maple syrup and food carts available for a fee. \nFREE parking is available approximately two blocks away at Ahuska Park (400 E. Broadway) with a free shuttle (runs every 15-20 minutes). \nNever been to Aldo Leopold Nature Center? Join us to learn what we are all about! \nNo registration required\, walk-ins welcome.
URL:https://bravamagazine.com/event/maple-syrup-fest/
LOCATION:WI
CATEGORIES:Community Event
ATTACH;FMTTYPE=image/jpeg:https://bravamagazine.com/wp-content/uploads/2026/02/IMG_3309.jpg
ORGANIZER;CN="Aldo Leopold Nature Center":MAILTO:kelley@aldoleopoldnaturecenter.org
END:VEVENT
BEGIN:VEVENT
DTSTART;TZID=America/Chicago:20260321T090000
DTEND;TZID=America/Chicago:20260321T160000
DTSTAMP:20260419T224322
CREATED:20260311T160855Z
LAST-MODIFIED:20260311T160855Z
UID:190119-1774083600-1774108800@bravamagazine.com
SUMMARY:Black Earth Children's Museum Spring Break Activities
DESCRIPTION:Black Earth Children’s Museum offers daily activities during spring break to keep your kids entertained\, engaged\, and creative. Our interactive exhibits bring out big fun and playful learning. Come visit us during spring break! It will be the best “staycation” fun you and your kids will ever have. \nMarch 21- No Sew Tie Pillow- 11am-2pm
URL:https://bravamagazine.com/event/black-earth-childrens-museum-spring-break-activities-2/
LOCATION:Black Earth Children’s Museum\, 1131 Mills Street\, Black Earth\, WI\, 53515\, United States
CATEGORIES:Kid-Friendly Event
ATTACH;FMTTYPE=image/jpeg:https://bravamagazine.com/wp-content/uploads/2026/03/3f71e0_6813628d7ceb4e3dae30ab0f3e5ae591mv2.jpg
ORGANIZER;CN="Black Earth Children's Museum":MAILTO:development@blackearthchildrensmuseum.org
END:VEVENT
BEGIN:VEVENT
DTSTART;TZID=America/Chicago:20260322T090000
DTEND;TZID=America/Chicago:20260322T150000
DTSTAMP:20260419T224322
CREATED:20260311T160346Z
LAST-MODIFIED:20260311T160346Z
UID:190136-1774170000-1774191600@bravamagazine.com
SUMMARY:Black Earth Childen's Museum Spring Break Activities
DESCRIPTION:Black Earth Children’s Museum offers DAILY ACTIVITIES during spring break to keep your kids entertained\, engaged\, and creative. Our interactive exhibits bring out big fun and playful learning. Come visit us during spring break! It will be the best “staycation” fun you and your kids will ever have. \nMarch 22- Sensory Sunday- 2-4pm
URL:https://bravamagazine.com/event/black-earth-childens-museum-spring-break-activities/
LOCATION:Black Earth Children’s Museum\, 1131 Mills Street\, Black Earth\, WI\, 53515\, United States
CATEGORIES:Kid-Friendly Event
ATTACH;FMTTYPE=image/jpeg:https://bravamagazine.com/wp-content/uploads/2026/03/3f71e0_6813628d7ceb4e3dae30ab0f3e5ae591mv2-1.jpg
ORGANIZER;CN="Black Earth Children's Museum":MAILTO:development@blackearthchildrensmuseum.org
END:VEVENT
BEGIN:VEVENT
DTSTART;TZID=America/Chicago:20260323T090000
DTEND;TZID=America/Chicago:20260323T170000
DTSTAMP:20260419T224322
CREATED:20260311T154311Z
LAST-MODIFIED:20260311T154311Z
UID:190146-1774256400-1774285200@bravamagazine.com
SUMMARY:Black Earth Children's Museum Spring Break Activities
DESCRIPTION:Black Earth Children’s Museum offers DAILY ACTIVITIES during spring break to keep your kids entertained\, engaged\, and creative. Our interactive exhibits bring out big fun and playful learning. Come visit us during spring break! It will be the best “staycation” fun you and your kids will ever have. \nMarch 23- Build a Fairy House- 10am- noon\nMarch 23- Beading and Friendship Bracelets- 2-4pm
URL:https://bravamagazine.com/event/black-earth-childrens-museum-spring-break-activities/
LOCATION:Black Earth Children’s Museum\, 1131 Mills Street\, Black Earth\, WI\, 53515\, United States
CATEGORIES:Kid-Friendly Event
ATTACH;FMTTYPE=image/jpeg:https://bravamagazine.com/wp-content/uploads/2026/03/3f71e0_6813628d7ceb4e3dae30ab0f3e5ae591mv2-2.jpg
ORGANIZER;CN="Black Earth Children's Museum":MAILTO:development@blackearthchildrensmuseum.org
END:VEVENT
BEGIN:VEVENT
DTSTART;TZID=America/Chicago:20260326T090000
DTEND;TZID=America/Chicago:20260326T170000
DTSTAMP:20260419T224322
CREATED:20260311T192139Z
LAST-MODIFIED:20260311T192139Z
UID:190219-1774515600-1774544400@bravamagazine.com
SUMMARY:Black Earth Children's Museum Spring Break Daily Activities
DESCRIPTION:Black Earth Children’s Museum offers daily activities during spring break to keep your kids entertained\, engaged\, and creative. Our interactive exhibits bring out big fun and playful learning. Come visit us during spring break! It will be the best “staycation” fun you and your kids will ever have. $6 admission fee for the Museum. Activities are free! \nMarch 26- Visit the Dane County Trash Lab- 10am-1pm
URL:https://bravamagazine.com/event/black-earth-childrens-museum-spring-break-daily-activities/
LOCATION:Black Earth Children’s Museum\, 1131 Mills Street\, Black Earth\, WI\, 53515\, United States
CATEGORIES:Kid-Friendly Event
ATTACH;FMTTYPE=image/jpeg:https://bravamagazine.com/wp-content/uploads/2026/03/3f71e0_6813628d7ceb4e3dae30ab0f3e5ae591mv2-3.jpg
ORGANIZER;CN="Black Earth Children's Museum":MAILTO:development@blackearthchildrensmuseum.org
END:VEVENT
BEGIN:VEVENT
DTSTART;TZID=America/Chicago:20260327T090000
DTEND;TZID=America/Chicago:20260327T160000
DTSTAMP:20260419T224322
CREATED:20260311T192136Z
LAST-MODIFIED:20260311T192136Z
UID:190230-1774602000-1774627200@bravamagazine.com
SUMMARY:Black Earth Children's Museum Daily Spring Break Activities
DESCRIPTION:Black Earth Children’s Museum offers daily activities during spring break to keep your kids entertained\, engaged\, and creative. Our interactive exhibits bring out big fun and playful learning. Come visit us during spring break! It will be the best “staycation” fun you and your kids will ever have. $6 admission fee for the Museum. Activities are free! \nMarch 27- Build a Bird Feeder- 10am- noon\nMarch 27- Make your own Shrinky Dink- 2pm- 4pm
URL:https://bravamagazine.com/event/black-earth-childrens-museum-daily-spring-break-activities-9/
LOCATION:Black Earth Children’s Museum\, 1131 Mills Street\, Black Earth\, WI\, 53515\, United States
CATEGORIES:Kid-Friendly Event
ATTACH;FMTTYPE=image/jpeg:https://bravamagazine.com/wp-content/uploads/2026/03/3f71e0_6813628d7ceb4e3dae30ab0f3e5ae591mv2-4.jpg
ORGANIZER;CN="Black Earth Children's Museum":MAILTO:development@blackearthchildrensmuseum.org
END:VEVENT
BEGIN:VEVENT
DTSTART;TZID=America/Chicago:20260328T090000
DTEND;TZID=America/Chicago:20260328T160000
DTSTAMP:20260419T224322
CREATED:20260311T192115Z
LAST-MODIFIED:20260311T192115Z
UID:190237-1774688400-1774713600@bravamagazine.com
SUMMARY:Black Earth Children's Museum Daily Spring Break Activities
DESCRIPTION:Black Earth Children’s Museum offers daily activities during spring break to keep your kids entertained\, engaged\, and creative.   Our interactive exhibits bring out big fun and playful learning.  Come visit us during spring break!  It will be the best “staycation” fun you and your kids will ever have. $6 admission fee for the Museum.  Activities are free! \nMarch 28- Make your own Book Mark- 11am- 2pm
URL:https://bravamagazine.com/event/black-earth-childrens-museum-daily-spring-break-activities-2/
LOCATION:Black Earth Children’s Museum\, 1131 Mills Street\, Black Earth\, WI\, 53515\, United States
CATEGORIES:Kid-Friendly Event
ATTACH;FMTTYPE=image/jpeg:https://bravamagazine.com/wp-content/uploads/2026/03/3f71e0_6813628d7ceb4e3dae30ab0f3e5ae591mv2-5.jpg
ORGANIZER;CN="Black Earth Children's Museum":MAILTO:development@blackearthchildrensmuseum.org
END:VEVENT
BEGIN:VEVENT
DTSTART;TZID=America/Chicago:20260329T090000
DTEND;TZID=America/Chicago:20260329T160000
DTSTAMP:20260419T224322
CREATED:20260311T192115Z
LAST-MODIFIED:20260311T192115Z
UID:190242-1774774800-1774800000@bravamagazine.com
SUMMARY:black Earth Children's Museum Daily Spring Break Activities
DESCRIPTION:Black Earth Children’s Museum offers daily activities during spring break to keep your kids entertained\, engaged\, and creative.   Our interactive exhibits bring out big fun and playful learning.  Come visit us during spring break!  It will be the best “staycation” fun you and your kids will ever have. $6 admission fee for the Museum.  Activities are free! \nMarch 29- Sensory Sunday- 2pm-4pm \nMarch 30- Make a Wind Chime- 10am- noon\nMarch 30- Beading and Friendship Bracelet- 2pm- 4pm\nMarch 31- Make a Sun Catcher- 10am- noon\nApril 1- Paint a Flower Pot and Planting Flowers- 10am- noon; 2pm-4pm\nApril 2- Make your own Egg Carton Critter- 10am- noon\nApril 3- Make a Seed Bomb- 10am- noon\nApril 3- Make a fun Shrinky Dink- 2pm- 4pm\nApril 4- Make a Book Mark- 11am- 2pm
URL:https://bravamagazine.com/event/black-earth-childrens-museum-daily-spring-break-activities-3/
LOCATION:Black Earth Children’s Museum\, 1131 Mills Street\, Black Earth\, WI\, 53515\, United States
CATEGORIES:Kid-Friendly Event
ATTACH;FMTTYPE=image/jpeg:https://bravamagazine.com/wp-content/uploads/2026/03/3f71e0_6813628d7ceb4e3dae30ab0f3e5ae591mv2-6.jpg
ORGANIZER;CN="Black Earth Children's Museum":MAILTO:development@blackearthchildrensmuseum.org
END:VEVENT
BEGIN:VEVENT
DTSTART;TZID=America/Chicago:20260330T090000
DTEND;TZID=America/Chicago:20260330T160000
DTSTAMP:20260419T224322
CREATED:20260311T192115Z
LAST-MODIFIED:20260311T192115Z
UID:190249-1774861200-1774886400@bravamagazine.com
SUMMARY:Black Earth Children's Museum Daily Spring Break Activities
DESCRIPTION:Black Earth Children’s Museum offers daily activities during spring break to keep your kids entertained\, engaged\, and creative.   Our interactive exhibits bring out big fun and playful learning.  Come visit us during spring break!  It will be the best “staycation” fun you and your kids will ever have. $6 admission fee for the Museum.  Activities are free! \nMarch 30- Beading and Friendship Bracelet- 2pm- 4pm  \nMarch 31- Make a Sun Catcher- 10am- noon\nApril 1- Paint a Flower Pot and Planting Flowers- 10am- noon; 2pm-4pm\nApril 2- Make your own Egg Carton Critter- 10am- noon\nApril 3- Make a Seed Bomb- 10am- noon\nApril 3- Make a fun Shrinky Dink- 2pm- 4pm\nApril 4- Make a Book Mark- 11am- 2pm
URL:https://bravamagazine.com/event/black-earth-childrens-museum-daily-spring-break-activities-4/
LOCATION:Black Earth Children’s Museum\, 1131 Mills Street\, Black Earth\, WI\, 53515\, United States
CATEGORIES:Kid-Friendly Event
ATTACH;FMTTYPE=image/jpeg:https://bravamagazine.com/wp-content/uploads/2026/03/3f71e0_6813628d7ceb4e3dae30ab0f3e5ae591mv2-7.jpg
ORGANIZER;CN="Black Earth Children's Museum":MAILTO:development@blackearthchildrensmuseum.org
END:VEVENT
BEGIN:VEVENT
DTSTART;TZID=America/Chicago:20260331T090000
DTEND;TZID=America/Chicago:20260331T160000
DTSTAMP:20260419T224322
CREATED:20260311T192115Z
LAST-MODIFIED:20260311T192115Z
UID:190254-1774947600-1774972800@bravamagazine.com
SUMMARY:Black Earth Children's Museum Daily Spring Break Activities
DESCRIPTION:Black Earth Children’s Museum offers daily activities during spring break to keep your kids entertained\, engaged\, and creative.   Our interactive exhibits bring out big fun and playful learning.  Come visit us during spring break!  It will be the best “staycation” fun you and your kids will ever have. $6 admission fee for the Museum.  Activities are free! \nMarch 31- Make a Sun Catcher- 10am- noon \nApril 1- Paint a Flower Pot and Planting Flowers- 10am- noon; 2pm-4pm\nApril 2- Make your own Egg Carton Critter- 10am- noon\nApril 3- Make a Seed Bomb- 10am- noon\nApril 3- Make a fun Shrinky Dink- 2pm- 4pm\nApril 4- Make a Book Mark- 11am- 2pm
URL:https://bravamagazine.com/event/black-earth-childrens-museum-daily-spring-break-activities-5/
LOCATION:Black Earth Children’s Museum\, 1131 Mills Street\, Black Earth\, WI\, 53515\, United States
CATEGORIES:Kid-Friendly Event
ATTACH;FMTTYPE=image/jpeg:https://bravamagazine.com/wp-content/uploads/2026/03/3f71e0_6813628d7ceb4e3dae30ab0f3e5ae591mv2-8.jpg
ORGANIZER;CN="Black Earth Children's Museum":MAILTO:development@blackearthchildrensmuseum.org
END:VEVENT
END:VCALENDAR