BEGIN:VCALENDAR
VERSION:2.0
PRODID:-//BRAVA Magazine - ECPv6.15.20//NONSGML v1.0//EN
CALSCALE:GREGORIAN
METHOD:PUBLISH
X-ORIGINAL-URL:https://bravamagazine.com
X-WR-CALDESC:Events for BRAVA Magazine
REFRESH-INTERVAL;VALUE=DURATION:PT1H
X-Robots-Tag:noindex
X-PUBLISHED-TTL:PT1H
BEGIN:VTIMEZONE
TZID:UTC
BEGIN:STANDARD
TZOFFSETFROM:+0000
TZOFFSETTO:+0000
TZNAME:UTC
DTSTART:20240101T000000
END:STANDARD
END:VTIMEZONE
BEGIN:VEVENT
DTSTART;TZID=UTC:20251119T190000
DTEND;TZID=UTC:20251119T200000
DTSTAMP:20260420T052440
CREATED:20251022T004928Z
LAST-MODIFIED:20251022T004928Z
UID:104796-1763578800-1763582400@bravamagazine.com
SUMMARY:Night of Music
DESCRIPTION:Join us for a night of music with a performance from UW-Madison’s Music Wellness Association. Listen\, dance and sing along! An event for all ages.
URL:https://bravamagazine.com/event/night-of-music/
LOCATION:Gilda’s Club Madison\, 7907 UW Health Court\, Middleton\, 53562\, United States
CATEGORIES:Community Event
ATTACH;FMTTYPE=image/jpeg:https://bravamagazine.com/wp-content/uploads/2025/10/MWA.jpg
ORGANIZER;CN="Gilda's Club Madison":MAILTO:lannia@gildasclubmadison.org
END:VEVENT
BEGIN:VEVENT
DTSTART;TZID=UTC:20251130T100000
DTEND;TZID=UTC:20251130T160000
DTSTAMP:20260420T052440
CREATED:20251122T005620Z
LAST-MODIFIED:20251122T005620Z
UID:123847-1764496800-1764518400@bravamagazine.com
SUMMARY:20th Annual Holiday Craftacular
DESCRIPTION:One day : November 30!\nWhere : filling the Atrium\, Canvas\, and Glitter Workshop at Garver Feed Mill in Madison WI\nWhy? To bring you the best in handmade for twenty years under one roof for all your gift giving and local shopping necessities!
URL:https://bravamagazine.com/event/20th-annual-holiday-craftacular/
LOCATION:Garver Feed Mill\, 3241 Garver Green\, Madison\, WI\, 53407\, United States
CATEGORIES:Community Event
ATTACH;FMTTYPE=image/jpeg:https://bravamagazine.com/wp-content/uploads/2025/11/craftacular2025.jpg
END:VEVENT
END:VCALENDAR