BEGIN:VCALENDAR
VERSION:2.0
PRODID:-//BRAVA Magazine - ECPv6.15.20//NONSGML v1.0//EN
CALSCALE:GREGORIAN
METHOD:PUBLISH
X-WR-CALNAME:BRAVA Magazine
X-ORIGINAL-URL:https://bravamagazine.com
X-WR-CALDESC:Events for BRAVA Magazine
REFRESH-INTERVAL;VALUE=DURATION:PT1H
X-Robots-Tag:noindex
X-PUBLISHED-TTL:PT1H
BEGIN:VTIMEZONE
TZID:America/Chicago
BEGIN:DAYLIGHT
TZOFFSETFROM:-0600
TZOFFSETTO:-0500
TZNAME:CDT
DTSTART:20240310T080000
END:DAYLIGHT
BEGIN:STANDARD
TZOFFSETFROM:-0500
TZOFFSETTO:-0600
TZNAME:CST
DTSTART:20241103T070000
END:STANDARD
BEGIN:DAYLIGHT
TZOFFSETFROM:-0600
TZOFFSETTO:-0500
TZNAME:CDT
DTSTART:20250309T080000
END:DAYLIGHT
BEGIN:STANDARD
TZOFFSETFROM:-0500
TZOFFSETTO:-0600
TZNAME:CST
DTSTART:20251102T070000
END:STANDARD
BEGIN:DAYLIGHT
TZOFFSETFROM:-0600
TZOFFSETTO:-0500
TZNAME:CDT
DTSTART:20260308T080000
END:DAYLIGHT
BEGIN:STANDARD
TZOFFSETFROM:-0500
TZOFFSETTO:-0600
TZNAME:CST
DTSTART:20261101T070000
END:STANDARD
END:VTIMEZONE
BEGIN:VTIMEZONE
TZID:UTC
BEGIN:STANDARD
TZOFFSETFROM:+0000
TZOFFSETTO:+0000
TZNAME:UTC
DTSTART:20240101T000000
END:STANDARD
END:VTIMEZONE
BEGIN:VTIMEZONE
TZID:America/New_York
BEGIN:DAYLIGHT
TZOFFSETFROM:-0500
TZOFFSETTO:-0400
TZNAME:EDT
DTSTART:20240310T070000
END:DAYLIGHT
BEGIN:STANDARD
TZOFFSETFROM:-0400
TZOFFSETTO:-0500
TZNAME:EST
DTSTART:20241103T060000
END:STANDARD
BEGIN:DAYLIGHT
TZOFFSETFROM:-0500
TZOFFSETTO:-0400
TZNAME:EDT
DTSTART:20250309T070000
END:DAYLIGHT
BEGIN:STANDARD
TZOFFSETFROM:-0400
TZOFFSETTO:-0500
TZNAME:EST
DTSTART:20251102T060000
END:STANDARD
BEGIN:DAYLIGHT
TZOFFSETFROM:-0500
TZOFFSETTO:-0400
TZNAME:EDT
DTSTART:20260308T070000
END:DAYLIGHT
BEGIN:STANDARD
TZOFFSETFROM:-0400
TZOFFSETTO:-0500
TZNAME:EST
DTSTART:20261101T060000
END:STANDARD
END:VTIMEZONE
BEGIN:VEVENT
DTSTART;TZID=America/Chicago:20251003T173000
DTEND;TZID=America/Chicago:20251003T193000
DTSTAMP:20260420T065340
CREATED:20250922T221256Z
LAST-MODIFIED:20250922T221256Z
UID:91573-1759512600-1759519800@bravamagazine.com
SUMMARY:Fall Fest
DESCRIPTION:Join us for our spooky-ish celebration featuring Creatures of the Night! \nFall Fest returns with a fun-filled night of spooky nature activities in not-so-scary style! With activity stations indoors and out\, there is plenty of FREE fall fun for everyone to enjoy. \nPark your car at Ahuska Park and ride a FREE Shuttle to ALNC. \nExciting activities include: \n– Conduct surprising SCIENCE EXPERIMENTS\n– Discover what’s hiding in the BONE YARD\n– Hike the Basswood Forest trails and find CREATURES OF THE NIGHT\n– Hear spooky stories by THE HAUNTED SHACK\n– Solve a MURDER MYSTERY\n– Participate in the COSTUME PARADE\n– Take a hike through the prairie and play NIGHT TIME NATURE BINGO\n– Roast marshmallows over a FALL CAMPFIRE (for a small fee) and more \nIf you have a flashlight or two\, bring them along! Otherwise\, we will have a limited quantity for use on the trails. \nHungry? We’ll also have a couple of food trucks to fill your bellies – Banzo\, and Ugly Apple will be here. \nThis event is FREE and open to the PUBLIC! $5 suggested donation per person. \nNo registration required; walk-ins welcome! \nA photographer may be onsite to document this event. If you would not like your photo taken\, please advise the photographer. Thank you!
URL:https://bravamagazine.com/event/fall-fest/
LOCATION:Aldo Leopold Nature Center\, 330 Femrite Drive\, Monona\, WI\, 53716\, United States
CATEGORIES:Community Event,Kid-Friendly Event
ATTACH;FMTTYPE=image/jpeg:https://bravamagazine.com/wp-content/uploads/2025/09/IMG_2296-2.jpg
ORGANIZER;CN="Aldo Leopold Nature Center":MAILTO:kelley@aldoleopoldnaturecenter.org
END:VEVENT
BEGIN:VEVENT
DTSTART;TZID=UTC:20251003T180000
DTEND;TZID=UTC:20251003T200000
DTSTAMP:20260420T065340
CREATED:20250910T000828Z
LAST-MODIFIED:20250910T000828Z
UID:88993-1759514400-1759521600@bravamagazine.com
SUMMARY:NOH8 Photo Shoot in Waunakee
DESCRIPTION:Join the #NOH8 Campaign in Waunakee\, WI and add your face to the fight for equal human rights! \nWHERE: Create Waunakee/Peace Gallery\n(inside the Peace Lutheran Church building)\n701 S. Century Ave\nWaunakee\, WI 53597 \nDATE: Friday\, October 3rd 2025\nTIME: 6:00pm – 8:00pm \nCOST:\nSingle/Solo Photos: $40\nCouple/Group Photos: $25 per person\nNOH8 accepts cash and credit cards only. Fees paid to participate cover services and costs for one edited digital print only\, made available via noh8campaign.com\, and do not include physical prints. \n* COME CAMERA-READY *\n* WEAR A WHITE SHIRT *\n* POSE & MAKE A STATEMENT! *\nThe NOH8 Campaign makes its way to Waunakee WI on Friday\, October 3rd with the help of Create Waunakee and Waunakee Idea! Stop by Create Waunakee/Peace Gallery anytime between 6pm-8pm to pose for an official NOH8 photo by photographer Adam Bouska. No reservations needed!\nPhotos are first-come\, first-served – and we move fast! Please arrive camera-ready with a plain white shirt to match the signature style of the NOH8 photos.\nWhen is the best time to arrive? Most people tend to arrive before the photo shoot begins\, but as long as someone has arrived by the advertised end time for the photo shoot (8:00pm for this photo shoot)\, they will be guaranteed a chance to pose!\nOnce you arrive\, the next steps are easy!\n1. Fill-out one numbered model release for each person.\n2. Process your payment.\n3. Trade your processed model release for duct tape!\n4. Apply a NOH8 temporary tattoo for your photo. \nNOH8 Co-Founder Adam Bouska will photograph roughly 10 frames per person. One frame will be selected/edited by Adam and made available within approximately eight weeks (timeline subject to change). \nINTERESTED IN VOLUNTEERING? E-mail info@noh8campaign.com with your contact information and make sure to note which shoot you’d like to volunteer for!\nFunds raised by the NOH8 Campaign will be used to continue promoting and raising awareness for marriage and human equality as well as anti-discrimination and anti-bullying through NOH8’s interactive social media campaign. This includes bringing the campaign to other cities and countries around the world\, creating and compiling images for our ongoing large-scale media campaign\, and covering the costs of the daily operations and maintenance necessary to run this rapidly growing campaign. \nThe NOH8 Campaign is a tax-exempt charitable organization under section 501(c)(3) of the Internal Revenue Code. Click here and scroll down to the ‘Funds & Financing’ portion of our FAQ for more information about how fees are utilized.
URL:https://bravamagazine.com/event/noh8-photo-shoot-in-waunakee/
LOCATION:WI
CATEGORIES:Community Event
ATTACH;FMTTYPE=image/jpeg:https://bravamagazine.com/wp-content/uploads/2025/09/10_3_WAUNAKEEb-1.jpg
END:VEVENT
BEGIN:VEVENT
DTSTART;TZID=UTC:20251003T190000
DTEND;TZID=UTC:20251003T220000
DTSTAMP:20260420T065340
CREATED:20250917T004454Z
LAST-MODIFIED:20250917T004454Z
UID:90337-1759518000-1759528800@bravamagazine.com
SUMMARY:Moon Over Monona Terrace
DESCRIPTION:Join the Madison Astronomical Society (MAS) as they celebrate their 90th anniversary with a return to the Monona Terrace rooftop for Moon Over Monona Terrace. \nYoung and old alike are invited to view the Moon and other celestial objects\, such as Saturn and Neptune\, through a multitude of different telescopes provided by MAS. Activities include short kid-friendly presentations about the moon and other celestial phenomena\, plus a kids’ fun zone with educational games and prizes! \nA FREE ticket is required for admission for all attendees\, subject to venue capacity and issued on a first come first serve basis. There’s a limit of eight tickets per patron.\nGet tickets here: https://www.eventbrite.com/e/moon-over-monona-terrace-fall-2025-registration-1645373048079?aff=oddtdtcreator \nIn the event of rain or diminished viewing from cloud cover\, family learning activities\, presentations and games will be moved inside. \nYou can learn more about the Madison Astronomical Society’s history and anniversary celebration plans by visiting their new website at https://www.madisonastro.org/.
URL:https://bravamagazine.com/event/moon-over-monona-terrace/
LOCATION:Monona Terrace Community & Convention Center\, 1 John Nolen Drive\, Madison\, WI\, 53705\, Select a Country:
CATEGORIES:Community Event,Kid-Friendly Event
ATTACH;FMTTYPE=image/jpeg:https://bravamagazine.com/wp-content/uploads/2025/09/DestinationMadisonMOMT.jpg
ORGANIZER;CN="Monona Terrace Community and Convention Center":MAILTO:fpuleo@mononaterrace.com
END:VEVENT
BEGIN:VEVENT
DTSTART;TZID=UTC:20251004T100000
DTEND;TZID=UTC:20251004T170000
DTSTAMP:20260420T065340
CREATED:20250805T201234Z
LAST-MODIFIED:20250805T201234Z
UID:81264-1759572000-1759597200@bravamagazine.com
SUMMARY:Waunakee Artisan Market
DESCRIPTION:The Waunakee Artisan Market is celebrating it’s 5th year! WAM is a juried one-day art market held on the historic 40-acre Schumacher Farm Park in Waunakee on the first weekend in October. This unique market blends the charm of fall on the farm with over 50 quality art exhibitors\, live music\, food carts and adult beverages. Entrance fee is $3 for adults.
URL:https://bravamagazine.com/event/waunakee-artisan-market-2/
LOCATION:Schumacher Farm Park\, 5682 Highway 19\, Waunakee\, WI\, 53597\, United States
CATEGORIES:Community Event,Kid-Friendly Event,Live Music
ATTACH;FMTTYPE=image/jpeg:https://bravamagazine.com/wp-content/uploads/2025/08/6EA5DA80-64B6-4B61-B4AB-E26691FCF595.jpg
END:VEVENT
BEGIN:VEVENT
DTSTART;TZID=UTC:20251005T100000
DTEND;TZID=UTC:20251005T130000
DTSTAMP:20260420T065340
CREATED:20250710T204248Z
LAST-MODIFIED:20250710T204248Z
UID:80320-1759658400-1759669200@bravamagazine.com
SUMMARY:Gilda's Run/Walk
DESCRIPTION:Be part of something powerful at the 18th Annual Gilda’s Run/Walk on Sunday\, October 5 in Middleton — or join virtually from anywhere! Whether you run the 5K (untimed) course or stroll the 2-mile walk\, you’ll be supporting local families facing cancer through every step. Celebrate at the finish line with a festive picnic\, complete with Ruth’s Chris burgers (veggie burger option available)\, and fun activities for the entire family. All proceeds stay local to fund free support\, education\, and resources through Gilda’s Club Madison. \nRegister by Sunday\, August 31 at midnight to lock in the early bird rate and receive an event t-shirt (Adult: $35\, Child: $25). After that\, regular rates apply (Adult: $45\, Child: $35)\, and participants will receive a beanie hat. \nOnline registration closes September 28—don’t miss your chance to join a day that proves our community is stronger than cancer. Register today at https://secure.qgiv.com/event/gildasrunwalk2025/
URL:https://bravamagazine.com/event/gildas-run-walk/
LOCATION:Gilda’s Club Madison\, 7907 UW Health Court\, Middleton\, 53562\, United States
CATEGORIES:Community Event,Kid-Friendly Event
ATTACH;FMTTYPE=image/jpeg:https://bravamagazine.com/wp-content/uploads/2025/07/Untitled-design-17.jpg
ORGANIZER;CN="Gilda's Club Madison":MAILTO:lannia@gildasclubmadison.org
END:VEVENT
BEGIN:VEVENT
DTSTART;TZID=UTC:20251015T180000
DTEND;TZID=UTC:20251015T193000
DTSTAMP:20260420T065340
CREATED:20250909T231654Z
LAST-MODIFIED:20250909T231654Z
UID:88953-1760551200-1760556600@bravamagazine.com
SUMMARY:Noogiefest Halloween Social
DESCRIPTION:This year’s Noogiefest Halloween social is all about the Northwoods! \nCome dressed in your favorite costume: costumes welcome\, but not required. We’ll provide you a fun night for all ages in our backyard and inside the clubhouse! Play a few games\, eat some treats\, and assemble crafts. \nPlease email Elizabeth at Elizabeth@gildasclubmadison.org with any questions.
URL:https://bravamagazine.com/event/noogiefest-halloween-social/
LOCATION:Gilda’s Club Madison\, 7907 UW Health Court\, Middleton\, 53562\, United States
CATEGORIES:Community Event,Kid-Friendly Event
ATTACH;FMTTYPE=image/jpeg:https://bravamagazine.com/wp-content/uploads/2025/09/Noggiefest-Halloween.jpg
ORGANIZER;CN="Gilda's Club Madison":MAILTO:lannia@gildasclubmadison.org
END:VEVENT
BEGIN:VEVENT
DTSTART;VALUE=DATE:20251016
DTEND;VALUE=DATE:20251027
DTSTAMP:20260420T065340
CREATED:20250922T171140Z
LAST-MODIFIED:20250922T171140Z
UID:91185-1760572800-1761523199@bravamagazine.com
SUMMARY:Wisconsin Science Festival
DESCRIPTION:The Wisconsin Science Festival is a statewide celebration of science\, technology\, engineering\, art\, and math with activities for people of all ages\, backgrounds\, and interests throughout Wisconsin. Events include hands-on science exhibitions\, demonstrations\, performances\, tours\, pub nights\, workshops and more. \nFounded in 2011 on the premise that art and science go hand-in-hand\, the festival has grown from a few days of events in Madison to a full week of activities spanning over a hundred cities. The Wisconsin Science Festival continues to grow\, welcoming new event hosts and attendees every year. Join us October 16-26\, 2025 to unleash your curiosity! The Wisconsin Science Festival welcomes all disciplines utilizing science\, technology\, or art to explore and nurture curiosity. Each year\, we spotlight a specific topic to emphasize its significance and value to the state and its people. Check out our festival feature page to see all the topics celebrated in past festivals! \nIn 2025\, we are highlighting Rock & Roll! This special\, 15th anniversary feature is really three features in one: music\, motion\, and the geology that shapes Wisconsin. This festival feature aims to engage audiences of all ages by blending earth science\, physics\, and music\, creating a dynamic\, interactive\, and appealing way for kids\, families\, and lifelong learners to explore science!
URL:https://bravamagazine.com/event/wisconsin-science-festival/
LOCATION:Statewide in Wisconsin\, 330 N Orchard St\, Madison\, WI 53715\, Madison\, WI\, 53715\, United States
CATEGORIES:Community Event,Kid-Friendly Event
ATTACH;FMTTYPE=image/jpeg:https://bravamagazine.com/wp-content/uploads/2025/09/tywueiykul.jpg
END:VEVENT
BEGIN:VEVENT
DTSTART;VALUE=DATE:20251016
DTEND;VALUE=DATE:20251027
DTSTAMP:20260420T065340
CREATED:20250922T171227Z
LAST-MODIFIED:20250922T171227Z
UID:91196-1760572800-1761523199@bravamagazine.com
SUMMARY:Nature Explorers: Join the Wisconsin BioBlitz!
DESCRIPTION:Nature Explorers: Join the annual WiSciFest BioBlitz! \nHave you ever wondered how many species exist in our environment? From the shores of Lake Michigan to the forests of the Northwoods or the soil in your backyard\, Wisconsin is teeming with life – and the Wisconsin Science Festival is launching a statewide BioBlitz project to learn more! \nWhat is a BioBlitz? \nA BioBlitz activity tries to measure as much life as possible within a defined space and time. Interested in bugs? Spend an afternoon counting all the insects at a local park. Teaching a unit on plants? Take your class to count all the flowering species you can find in a nearby meadow. Feeling ambitious? Organize your community to count every species you can find during the Wisconsin Science Festival. A BioBlitz can take place in a park\, a school\, an urban lot or your backyard. The possibilities are endless! BioBlitzes are a way to bring the community together to celebrate biodiversity while experiencing the wonder of nature in all of its fabulous niches. \nYour Mission \nDuring the Wisconsin Science Festival Bioblitz\, join with people from all across the state from sunrise on the first day of the Festival until sunset on the last day. Download the iNaturalist app on your device (optional but encouraged)\, find at least 10 species in the environment around you and add your observations to the Wisconsin Science Festival Bioblitz project on iNaturalist.
URL:https://bravamagazine.com/event/nature-explorers-join-the-wisconsin-bioblitz/
LOCATION:Statewide in Wisconsin\, 330 N Orchard St\, Madison\, WI 53715\, Madison\, WI\, 53715\, United States
CATEGORIES:Community Event,Kid-Friendly Event
ATTACH;FMTTYPE=image/jpeg:https://bravamagazine.com/wp-content/uploads/2025/09/Screenshot-2025-09-18-235024.jpg
END:VEVENT
BEGIN:VEVENT
DTSTART;TZID=America/New_York:20251016T170000
DTEND;TZID=America/New_York:20251016T210000
DTSTAMP:20260420T065340
CREATED:20250922T171304Z
LAST-MODIFIED:20250922T171304Z
UID:91201-1760634000-1760648400@bravamagazine.com
SUMMARY:Science on the Square
DESCRIPTION:Join us in downtown Madison on October 16th\, 2025 from 5-9pm to kick-off the 15th Wisconsin Science Festival! \nScience on the Square – One fantastic night blending science with downtown Madison businesses! \nBack for its 8th year\, Science on the Square will once again be fusing with the Madison Night Market to create a unique way to explore hands-on science activities while supporting local businesses and vendors. This year\, Science on the Square will kick off an extended\, 10 day\, festival in celebration of the 15th Wisconsin Science Festival! \nAt Science on the Square\, outdoor STEM-themed activities will mix with Madison Night Market vendor tents throughout State Street. Indoor locations will showcase interesting exhibits\, talks\, or menu/product specials for you to check out as well. Learn more about the science that surrounds us every day while exploring downtown Madison. Be sure to stop by the top of State Street (near the capitol) to see live physics demonstrations\, create a fun glowing design on a giant Science Brite\, and more. Then make your way down to Lisa Link Peace Park (400 block) for live music\, stopping at hands-on science stations along the way! \nThe Wisconsin Science Festival and Madison’s Central Business Improvement District are proud to bring you an event you won’t want to miss. Join us in downtown Madison between 5 and 9 p.m. on Thursday\, October 16th\, for fun for all ages!
URL:https://bravamagazine.com/event/science-on-the-square/
LOCATION:Downtown Madison\, 452 State Street\, Madison\, WI\, 53703\, United States
CATEGORIES:Community Event,Kid-Friendly Event
ATTACH;FMTTYPE=image/jpeg:https://bravamagazine.com/wp-content/uploads/2025/09/2025-SotS-Ads-and-Flyers-11-1200x1200-Version-1-IG.jpg
END:VEVENT
BEGIN:VEVENT
DTSTART;TZID=UTC:20251019T100000
DTEND;TZID=UTC:20251019T123000
DTSTAMP:20260420T065340
CREATED:20250918T194802Z
LAST-MODIFIED:20250918T194802Z
UID:90730-1760868000-1760877000@bravamagazine.com
SUMMARY:Coffee & Canvas
DESCRIPTION:Over the Garden Wall – Coffee and Canvas\nJoin us for our very first Over the Garden Wall-themed art event on Sunday\, October 19th from 10am – 12:30pm! Spend a cozy\, creative afternoon painting\, sipping coffee\, and enjoying autumnal vibes.\nTicket includes:\n✨ One cafe beverage (additional drinks available for purchase)\n✨ An assortment of baked goods and sandwiches to snack on\n✨ A screening of Over the Garden Wall on our projector\nBring your creativity and a love for all things fall—this is an afternoon you won’t want to miss!\n📍Reserve your spot now—spaces are limited!
URL:https://bravamagazine.com/event/coffee-canvas/
LOCATION:Crema Cafe\, 4124 Monona Drive\, Monona\, WI\, 53716\, United States
CATEGORIES:Community Event,Kid-Friendly Event
ATTACH;FMTTYPE=image/jpeg:https://bravamagazine.com/wp-content/uploads/2025/09/April-15th.jpg
END:VEVENT
BEGIN:VEVENT
DTSTART;TZID=UTC:20251025T140000
DTEND;TZID=UTC:20251025T163000
DTSTAMP:20260420T065340
CREATED:20250910T003019Z
LAST-MODIFIED:20250910T003019Z
UID:88998-1761400800-1761409800@bravamagazine.com
SUMMARY:Pieowa: A Piece of America Film Screening; Q&A with Beth Howard; $5 pie slices
DESCRIPTION:Film Showing: PIEOWA: A PIECE OF AMERICA by Director/Videographer/Author Beth Howard celebrates the myriad ways pie is woven into Iowa’s culture\, the lengths people will go to for a slice\, and how this humble pastry can bake the world a better place. Q&A with Beth following the film. Pie slices will be available for sale. \nTickets online here: https://www.zeffy.com/en-US/ticketing/pieowa-a-piece-of-america \nMore information: https://www.facebook.com/events/748932287946040
URL:https://bravamagazine.com/event/pieowa-a-piece-of-america-film-screening-qa-with-beth-howard-5-pie-slices/
LOCATION:WI
CATEGORIES:Community Event,Kid-Friendly Event,Theater
ATTACH;FMTTYPE=image/jpeg:https://bravamagazine.com/wp-content/uploads/2025/09/Simple-Wedding-Facebook-Event-Cover-with-Photo-1.jpg
END:VEVENT
END:VCALENDAR