BEGIN:VCALENDAR
VERSION:2.0
PRODID:-//BRAVA Magazine - ECPv6.15.20//NONSGML v1.0//EN
CALSCALE:GREGORIAN
METHOD:PUBLISH
X-ORIGINAL-URL:https://bravamagazine.com
X-WR-CALDESC:Events for BRAVA Magazine
REFRESH-INTERVAL;VALUE=DURATION:PT1H
X-Robots-Tag:noindex
X-PUBLISHED-TTL:PT1H
BEGIN:VTIMEZONE
TZID:UTC
BEGIN:STANDARD
TZOFFSETFROM:+0000
TZOFFSETTO:+0000
TZNAME:UTC
DTSTART:20240101T000000
END:STANDARD
END:VTIMEZONE
BEGIN:VEVENT
DTSTART;TZID=UTC:20250815T090000
DTEND;TZID=UTC:20250816T160000
DTSTAMP:20260420T134302
CREATED:20250811T172458Z
LAST-MODIFIED:20250811T172458Z
UID:81374-1755248400-1755360000@bravamagazine.com
SUMMARY:Crafting Business Close-out! Friday 8/15 - Sat 8/16
DESCRIPTION:🎨🛠️ HAMMER & STAIN CLOSEOUT SALE 🛠️🎨 \nEverything Must Go!\nAfter an incredible journey of creativity and community\, Hammer & Stain is closing its doors — but not before one FINAL SALE!\nFriday\, August 15th & Saturday August 16th 9am – 4pm\n30 Millstone Rd. Madison WI 53717 \nJoin us for our Closeout Event and take home amazing deals on:\n🪑 DIY Workshop Kits\n🖌️ Craft Supplies\, Glue Pots\, UV Lights\, Heat Guns\, Blowers\n🪵 Wood Blanks\, Yarn\, Sea Glass\, Hats\, Resin\, Ribbon\, Wood Flowers\, Ceramics\, Mosaics\n🎁 Handmade Gifts\, Studio Decor\, Finished Pieces\n🪚 Tools\, Furniture\, Shelving\, Storage \n✨ Perfect for DIYers\, Teachers\, Artists\, Makers\, or anyone who loves to create!\n🎉 Everything is discounted — priced to sell!\nGift Cards will be accepted. \nCome say goodbye\, grab some deals\, and stock up for your next creative adventure.
URL:https://bravamagazine.com/event/crafting-business-close-out-friday-8-15-sat-8-16/
LOCATION:Barth Estate Services and Sales\, 30 Millstone Rd\, Madison\, WI\, 53717\, United States
CATEGORIES:Community Event,Kid-Friendly Event
ATTACH;FMTTYPE=image/jpeg:https://bravamagazine.com/wp-content/uploads/2025/08/HS-Closeout-Sale-1.jpg
END:VEVENT
BEGIN:VEVENT
DTSTART;TZID=UTC:20250816T130000
DTEND;TZID=UTC:20250816T163000
DTSTAMP:20260420T134302
CREATED:20250801T204053Z
LAST-MODIFIED:20250801T204053Z
UID:80737-1755349200-1755361800@bravamagazine.com
SUMMARY:From the Garden: Herbal and Goat Milk Soapmaking
DESCRIPTION:Join herbalist Linda Conroy to learn how to make soap from scratch. Participants will also learn how to incorporate herbs into the soap for skin health and healing. Everyone will take home recipes and bars of soap that we make in class. Bring an apron\, rubber kitchen gloves\, and safety glasses. All other supplies will be provided. Hands-on.
URL:https://bravamagazine.com/event/from-the-garden-herbal-and-goat-milk-soapmaking/
LOCATION:Willy Street Co-op AUBERGINE\, 1226 Williamson St.\, Madison\, WI\, 53703\, United States
CATEGORIES:Community Event
ATTACH;FMTTYPE=image/jpeg:https://bravamagazine.com/wp-content/uploads/2025/07/be8a656e-fc26-42f4-888c-5b3902973c41.jpg
ORGANIZER;CN="Moonwise Herbs":MAILTO:rosemarygoddess@moonwiseherbs.com
END:VEVENT
END:VCALENDAR