BEGIN:VCALENDAR
VERSION:2.0
PRODID:-//BRAVA Magazine - ECPv6.15.20//NONSGML v1.0//EN
CALSCALE:GREGORIAN
METHOD:PUBLISH
X-ORIGINAL-URL:https://bravamagazine.com
X-WR-CALDESC:Events for BRAVA Magazine
REFRESH-INTERVAL;VALUE=DURATION:PT1H
X-Robots-Tag:noindex
X-PUBLISHED-TTL:PT1H
BEGIN:VTIMEZONE
TZID:UTC
BEGIN:STANDARD
TZOFFSETFROM:+0000
TZOFFSETTO:+0000
TZNAME:UTC
DTSTART:20240101T000000
END:STANDARD
END:VTIMEZONE
BEGIN:VEVENT
DTSTART;TZID=UTC:20250805T180000
DTEND;TZID=UTC:20250805T200000
DTSTAMP:20260420T134304
CREATED:20250801T204241Z
LAST-MODIFIED:20250801T204241Z
UID:80751-1754416800-1754424000@bravamagazine.com
SUMMARY:Herbs & Fermentation for Digestive Health
DESCRIPTION:Herbs and fermented vegetables provide a key to digestive health. Join Linda Conroy to learn how to combine vegetables and herbs to make delicious\, unique pickles and kraut. Everyone will take home recipes and two jars of ferments that we will make together in class. Hands-on.
URL:https://bravamagazine.com/event/herbs-fermentation-for-digestive-health/
LOCATION:Willy Street Co-op AUBERGINE\, 1226 Williamson St.\, Madison\, WI\, 53703\, United States
CATEGORIES:Community Event
ATTACH;FMTTYPE=image/jpeg:https://bravamagazine.com/wp-content/uploads/2025/07/Pickling-Sept.-2013.jpg
ORGANIZER;CN="Moonwise Herbs":MAILTO:rosemarygoddess@moonwiseherbs.com
END:VEVENT
END:VCALENDAR