BEGIN:VCALENDAR
VERSION:2.0
PRODID:-//BRAVA Magazine - ECPv6.15.20//NONSGML v1.0//EN
CALSCALE:GREGORIAN
METHOD:PUBLISH
X-ORIGINAL-URL:https://bravamagazine.com
X-WR-CALDESC:Events for BRAVA Magazine
REFRESH-INTERVAL;VALUE=DURATION:PT1H
X-Robots-Tag:noindex
X-PUBLISHED-TTL:PT1H
BEGIN:VTIMEZONE
TZID:America/Chicago
BEGIN:DAYLIGHT
TZOFFSETFROM:-0600
TZOFFSETTO:-0500
TZNAME:CDT
DTSTART:20250309T080000
END:DAYLIGHT
BEGIN:STANDARD
TZOFFSETFROM:-0500
TZOFFSETTO:-0600
TZNAME:CST
DTSTART:20251102T070000
END:STANDARD
BEGIN:DAYLIGHT
TZOFFSETFROM:-0600
TZOFFSETTO:-0500
TZNAME:CDT
DTSTART:20260308T080000
END:DAYLIGHT
BEGIN:STANDARD
TZOFFSETFROM:-0500
TZOFFSETTO:-0600
TZNAME:CST
DTSTART:20261101T070000
END:STANDARD
BEGIN:DAYLIGHT
TZOFFSETFROM:-0600
TZOFFSETTO:-0500
TZNAME:CDT
DTSTART:20270314T080000
END:DAYLIGHT
BEGIN:STANDARD
TZOFFSETFROM:-0500
TZOFFSETTO:-0600
TZNAME:CST
DTSTART:20271107T070000
END:STANDARD
END:VTIMEZONE
BEGIN:VEVENT
DTSTART;TZID=America/Chicago:20260419T090000
DTEND;TZID=America/Chicago:20260419T100000
DTSTAMP:20260419T205951
CREATED:20260309T134711Z
LAST-MODIFIED:20260309T134711Z
UID:187296-1776589200-1776592800@bravamagazine.com
SUMMARY:Madison Parent + Baby Expo Business Networking Breakfast
DESCRIPTION:☕️ Fuel your connections — and your morning! \nCalling all parent\, baby + wellness businesses in Madison 👋\nYou don’t need a booth to be part of the buzz at the 9in|9out Parent + Baby Expo — just bring your business cards and your caffeine energy! \nJoin us for the Pre-Expo Networking Coffee Hour at Madison Marriott South\, 9–10 AM (April 19) \n💥 A fast-paced\, structured networking experience designed for real connections\n🤝 Meet local birth\, postpartum + wellness pros\n💡 Build partnerships\, swap referrals\, and grow your business before the Expo even opens \nThen stick around for the Expo (10–2) to keep the momentum going! (Admission included with Networking ticket) \nSip. Connect. Grow.\n☕️
URL:https://bravamagazine.com/event/madison-parent-baby-expo-business-networking-breakfast/
LOCATION:Madison Marriott South\, 706 John Nolen Drive\, Madison\, WI\, 53713\, United States
CATEGORIES:Business & Networking Events
ATTACH;FMTTYPE=image/jpeg:https://bravamagazine.com/wp-content/uploads/2026/03/Happy-Hour-Social-Media-post-5.jpg
ORGANIZER;CN="9in|9out Parent + Baby Expo":MAILTO:9in9outteam@gmail.com
END:VEVENT
END:VCALENDAR