BEGIN:VCALENDAR
VERSION:2.0
PRODID:-//BRAVA Magazine - ECPv6.15.20//NONSGML v1.0//EN
CALSCALE:GREGORIAN
METHOD:PUBLISH
X-ORIGINAL-URL:https://bravamagazine.com
X-WR-CALDESC:Events for BRAVA Magazine
REFRESH-INTERVAL;VALUE=DURATION:PT1H
X-Robots-Tag:noindex
X-PUBLISHED-TTL:PT1H
BEGIN:VTIMEZONE
TZID:UTC
BEGIN:STANDARD
TZOFFSETFROM:+0000
TZOFFSETTO:+0000
TZNAME:UTC
DTSTART:20240101T000000
END:STANDARD
END:VTIMEZONE
BEGIN:VEVENT
DTSTART;TZID=UTC:20251011T103000
DTEND;TZID=UTC:20251019T155000
DTSTAMP:20260419T073043
CREATED:20250821T223920Z
LAST-MODIFIED:20250822T175004Z
UID:86911-1760178600-1760889000@bravamagazine.com
SUMMARY:Winnie the Pooh (and His Pals too!)
DESCRIPTION:Step into the gentle world of the Hundred Acre Wood. A delightful Theater for the Very Young production created especially for 2-5 year olds. Through playful movement\, music\, and multi-sensory storytelling\, young audiences will join Pooh\, Piglet\, Tigger\, and friends on an interactive adventure filled with friendship\, curiosity\, and wonder. Perfect for a first time theater experience! \nRecommended for ages 2-5 \nHappens on the following Dates:\nOct 11\, 2025\, 10:30am to 11:20am Timezone: CDT\nOct 11\, 2025\, 1:00pm to 1:50pm Timezone: CDT\nOct 11\, 2025\, 3:00pm to 3:50pm Timezone: CDT\nOct 12\, 2025\, 10:30am to 11:20am Timezone: CDT\nOct 12\, 2025\, 1:00pm to 1:50pm Timezone: CDT\nOct 12\, 2025\, 3:00pm to 3:50pm Timezone: CDT\nOct 16\, 2025\, 10:00am to 10:50am Timezone: CDT\nOct 17\, 2025\, 10:00am to 10:50am Timezone: CDT\nOct 18\, 2025\, 10:30am to 11:50am Timezone: CDT\nOct 18\, 2025\, 1:00pm to 1:50pm Timezone: CDT\nOct 18\, 2025\, 3:00pm to 3:50pm Timezone: CDT\nOct 19\, 2025\, 10:30am to 11:20am Timezone: CDT\nOct 19\, 2025\, 1:00pm to 1:50pm Timezone: CDT\nOct 19\, 2025\, 3:00pm to 3:50pm Timezone: CDT
URL:https://bravamagazine.com/event/winnie-the-pooh-and-his-pals-too/
LOCATION:Sunrise Theater at MYArts\, 1055 E Mifflin St\, Madison\, WI\, 53703\, United States
CATEGORIES:Theater
ATTACH;FMTTYPE=image/jpeg:https://bravamagazine.com/wp-content/uploads/2025/08/Winnie-the-Pooh-and-His-Pals-too.jpeg
END:VEVENT
BEGIN:VEVENT
DTSTART;TZID=UTC:20251016T193000
DTEND;TZID=UTC:20251101T213000
DTSTAMP:20260419T073043
CREATED:20250911T200446Z
LAST-MODIFIED:20250911T200446Z
UID:89332-1760643000-1762032600@bravamagazine.com
SUMMARY:Dracula\, A Feminist Revenge Fantasy. Really.
DESCRIPTION:Dracula\, A Feminist Revenge Fantasy. Really. \nWritten By Kate Hamill\nDirected By Hannah Nies \nBouncing between horror and humor\, Kate Hamill’s adaptation of Bram Stoker’s novel is a thrilling play that questions who the true monsters are. Fierce\, feminist\, frightening. “When your survival is at stake… will you be able to distinguish the monster from the man? Both terrifying and riotous\, Kate Hamill’s imaginative\, gender-bending “feminist revenge fantasy” is like no Dracula you’ve ever seen—exploring the nature of predators and reinventing the story as a smart\, disquieting\, darkly comic drama. Hamill’s signature style and postmodern wit upends this familiar tale of Victorian vampires—driving a stake through the heart of toxic masculinity.” \nPerformed on the Bartelll Theater’s Evjue Stage \nUpcoming Performances\nThu\, Oct 16th – 7:30pm\nFri\, Oct 17th – 7:30pm\nSat\, Oct 18th – 7:30pm\nSun\, Oct 19th – 1:30pm\nThu\, Oct 23rd – 7:30pm\nFri\, Oct 24th – 7:30pm\nSat\, Oct 25th – 7:30pm\nSun\, Oct 26th – 1:30pm\nThu\, Oct 30th – 7:30pm\nFri\, Oct 31st – 7:30pm\nSat\, Nov 1st – 1:30pm
URL:https://bravamagazine.com/event/dracula-a-feminist-revenge-fantasy-really/
LOCATION:Bartell Theatre\, 113 E Mifflin St  \, Madison\, Wisconsin\, WI\, 53703\, United States
CATEGORIES:Theater
ATTACH;FMTTYPE=image/jpeg:https://bravamagazine.com/wp-content/uploads/2025/09/Dracula_Poster.jpg
END:VEVENT
BEGIN:VEVENT
DTSTART;TZID=UTC:20251017T190000
DTEND;TZID=UTC:20251017T210000
DTSTAMP:20260419T073043
CREATED:20250821T231501Z
LAST-MODIFIED:20250822T181728Z
UID:86956-1760727600-1760734800@bravamagazine.com
SUMMARY:Roald Dahl's Matilda The Musical
DESCRIPTION:Back by popular demand! Based on Dahl’s beloved classic\, this captivating musical follows a brilliant little girl with extraordinary powers who refuses to let her cruel parents or a tyrannical headmistress hold her back. Armed with a sharp mind\, a vivid imagination\, and a bit of magic\, Matilda dares to take a stand and rewrite her destiny. Packed with high-energy dance numbers and unforgettable songs\, MATILDA is a joyous triumph of one girl’s fight for what’s right. \nRecommended for ages 9+ \nHappens on the following Dates:\nOct 4\, 2025\, 2:00pm to 4:00pm Timezone: CDT\nOct 4\, 2025\, 7:00pm to 9:00pm Timezone: CDT\nOct 5\, 2025\, 1:00pm to 3:00pm Timezone: CDT\nOct 5\, 2025\, 6:00pm to 8:00pm Timezone: CDT\nOct 11\, 2025\, 2:00pm to 4:00pm Timezone: CDT\nOct 11\, 2025\, 7:00pm to 9:00pm Timezone: CDT\nOct 12\, 2025\, 1:00pm to 3:00pm Timezone: CDT\nOct 12\, 2025\, 6:00pm to 8:00pm Timezone: CDT\nOct 17\, 2025\, 7:00pm to 9:00pm Timezone: CDT\nOct 18\, 2025\, 2:00pm to 4:00pm Timezone: CDT\nOct 18\, 2025\, 7:00pm to 7:00pm Timezone: CDT\nOct 19\, 2025\, 1:00pm to 3:00pm Timezone: CDT
URL:https://bravamagazine.com/event/roald-dahls-matilda-the-musical-oct17/
LOCATION:The Playhouse at Overture Center\, 201 State St\, Madison\, WI\, 53703\, United States
CATEGORIES:Kid-Friendly Event,Theater
ATTACH;FMTTYPE=image/jpeg:https://bravamagazine.com/wp-content/uploads/2025/08/Roald-Dahls-Matilda-The-Musical.jpeg
END:VEVENT
END:VCALENDAR