BEGIN:VCALENDAR
VERSION:2.0
PRODID:-//BRAVA Magazine - ECPv6.15.20//NONSGML v1.0//EN
CALSCALE:GREGORIAN
METHOD:PUBLISH
X-ORIGINAL-URL:https://bravamagazine.com
X-WR-CALDESC:Events for BRAVA Magazine
REFRESH-INTERVAL;VALUE=DURATION:PT1H
X-Robots-Tag:noindex
X-PUBLISHED-TTL:PT1H
BEGIN:VTIMEZONE
TZID:UTC
BEGIN:STANDARD
TZOFFSETFROM:+0000
TZOFFSETTO:+0000
TZNAME:UTC
DTSTART:20240101T000000
END:STANDARD
END:VTIMEZONE
BEGIN:VEVENT
DTSTART;TZID=UTC:20250926T193000
DTEND;TZID=UTC:20250926T213000
DTSTAMP:20260419T085101
CREATED:20250924T230836Z
LAST-MODIFIED:20250924T230836Z
UID:91922-1758915000-1758922200@bravamagazine.com
SUMMARY:Madison Theatre Guild's An Ideal Husband
DESCRIPTION:For three weekends Madison’s longest running theatre company\, Madison Theatre Guild\, performs Oscar Wilde’s beloved comedy An Ideal Husband at the historic Bartell Theatre. \nIn this amusing modern spin on Wilde’s tale of money\, malice and matrimony. hilarity and drama ensue as The Chilterns navigate the perils of protecting their moral high ground while campaigning\, being blackmailed and partying amongst The Real Housewives of D.C. Expect to laugh and be reminded that no one is ideal\, but (most) everyone is worthy of love and forgiveness.
URL:https://bravamagazine.com/event/madison-theatre-guilds-an-ideal-husband/
LOCATION:Bartell Theatre\, 113 Mifflin Street\, 113 Mifflin Street\, Madison\, WI\, 53703\, United States
CATEGORIES:Theater
ATTACH;FMTTYPE=image/png:https://bravamagazine.com/wp-content/uploads/2025/09/Ideal-Husband_banner_820x312-copy.png
END:VEVENT
END:VCALENDAR